Test-CleanNamespaces v0.24 Perl 5 v5.29.3 i686-linux-multi
- Status
- Pass
- From
- Serguei Trouchelle (STRO)
- Dist
-
Test-CleanNamespaces v0.24
- Platform
- Perl 5 v5.29.3 i686-linux-multi
- Date
- 2019-02-08 11:56:16
- ID
- 8a20b9ce-2b98-11e9-b46c-d3780df0180e
This distribution has been tested as part of the CPAN Testers
project, supporting the Perl programming language. See
http://wiki.cpantesters.org/ for more information or email
questions to cpan-testers-discuss@perl.org
--
Dear Karen Etheridge,
This is a computer-generated report for Test-CleanNamespaces-0.24
on perl 5.29.3, created by CPAN-Reporter-1.2018.
Thank you for uploading your work to CPAN. Congratulations!
All tests were successful.
Sections of this report:
* Tester comments
* Program output
* Prerequisites
* Environment and other context
------------------------------
TESTER COMMENTS
------------------------------
Additional comments from tester:
none provided
------------------------------
PROGRAM OUTPUT
------------------------------
Output from '/usr/bin/make test':
PERL_DL_NONLAZY=1 "/home/cpantester/perl/5.29.3m/bin/perl" "-MExtUtils::Command::MM" "-MTest::Harness" "-e" "undef *Test::Harness::Switches; test_harness(0, 'blib/lib', 'blib/arch')" t/*.t
#
# Versions for all modules listed in MYMETA.json (including optional ones):
#
# === Configure Requires ===
#
# Module Want Have
# ------------------------ -------- --------
# CPAN::Meta::Requirements 2.120620 2.140
# ExtUtils::MakeMaker any 7.34
# Module::Metadata any 1.000033
#
# === Build Requires ===
#
# Module Want Have
# ------------------- ---- ----
# ExtUtils::MakeMaker any 7.34
#
# === Test Requires ===
#
# Module Want Have
# --------------------- ----- --------
# ExtUtils::MakeMaker any 7.34
# File::Spec any 3.75
# File::Spec::Functions any 3.75
# File::pushd any 1.016
# Scalar::Util any 1.50
# Sub::Exporter any 0.987
# Test::Deep any 1.128
# Test::More 0.96 1.302162
# Test::Needs any 0.002005
# Test::Tester any 1.302162
# Test::Warnings 0.009 0.026
# constant any 1.33
# if any 0.0608
# lib any 0.64
# namespace::clean any 0.27
# overload any 1.30
# parent any 0.237
#
# === Test Recommends ===
#
# Module Want Have
# ---------- -------- --------
# CPAN::Meta 2.120900 2.150010
#
# === Test Suggests ===
#
# Module Want Have
# --------------------------- -------- --------
# Class::MOP::Class any 2.2011
# Moo any 2.003004
# Moo::Role any 2.003004
# Moose any 2.2011
# Moose::Exporter any 2.2011
# Moose::Role any 2.2011
# MooseX::Role::Parameterized any 1.10
# Mouse any v2.5.6
# Mouse::Role any v2.5.6
# Role::Tiny 1.003000 2.000006
# metaclass any 2.2011
#
# === Runtime Requires ===
#
# Module Want Have
# --------------- -------- --------
# Exporter 5.57 5.73
# File::Find any 1.34
# File::Spec any 3.75
# Module::Runtime any 0.016
# Package::Stash 0.14 0.38
# Role::Tiny 1.003000 2.000006
# Sub::Identify any 0.14
# Test::Builder any 1.302162
# strict any 1.11
# warnings any 1.43
#
# === Runtime Recommends ===
#
# Module Want Have
# ------------------ ---- ----
# Package::Stash::XS any 0.29
#
# === Runtime Suggests ===
#
# Module Want Have
# ---------- ---- --------
# Role::Tiny any 2.000006
#
# === Other Modules ===
#
# Module Have
# --------------- -------
# Encode 3.00
# File::Temp 0.2309
# JSON::PP 4.00
# Module::Runtime 0.016
# Pod::Coverage missing
# Sub::Name 0.21
# YAML 1.27
# autodie 2.29
#
t/00-report-prereqs.t ......... ok
t/basic.t ..................... ok
t/class_mop.t ................. skipped: skipping for regular installs, due to possible circular dependency issues
t/clean-namespaces.t .......... ok
t/find_modules.t .............. ok
t/moo.t ....................... ok
t/moose-parameterized-role.t .. skipped: skipping for regular installs, due to possible circular dependency issues
t/moose.t ..................... skipped: skipping for regular installs, due to possible circular dependency issues
t/mouse.t ..................... ok
t/overload.t .................. ok
t/role_tiny.t ................. ok
t/self.t ...................... ok
t/zzz-check-breaks.t .......... ok
All tests successful.
Files=13, Tests=161, 8 wallclock secs ( 0.12 usr 0.03 sys + 5.28 cusr 0.42 csys = 5.85 CPU)
Result: PASS
------------------------------
PREREQUISITES
------------------------------
Prerequisite modules loaded:
requires:
Module Need Have
------------------------ -------- --------
Exporter 5.57 5.73
File::Find 0 1.34
File::Spec 0 3.75
Module::Runtime 0 0.016
Package::Stash 0.14 0.38
perl 5.006 5.029003
Role::Tiny 1.003000 2.000006
strict 0 1.11
Sub::Identify 0 0.14
Test::Builder 0 1.302162
warnings 0 1.43
build_requires:
Module Need Have
------------------------ -------- --------
constant 0 1.33
ExtUtils::MakeMaker 0 7.34
File::pushd 0 1.016
File::Spec 0 3.75
File::Spec::Functions 0 3.75
if 0 0.0608
lib 0 0.64
namespace::clean 0 0.27
overload 0 1.30
parent 0 0.237
Scalar::Util 0 1.50
Sub::Exporter 0 0.987
Test::Deep 0 1.128
Test::More 0.96 1.302162
Test::Needs 0 0.002005
Test::Tester 0 1.302162
Test::Warnings 0.009 0.026
configure_requires:
Module Need Have
------------------------ -------- --------
CPAN::Meta::Requirements 2.120620 2.140
ExtUtils::MakeMaker 0 7.34
Module::Metadata 0 1.000033
perl 5.006 5.029003
------------------------------
ENVIRONMENT AND OTHER CONTEXT
------------------------------
Environment variables:
LANG = en_US.UTF-8
NONINTERACTIVE_TESTING = 1
PATH = /home/cpantester/perl/5.28.0/bin:/usr/local/bin:/usr/bin:/bin:/usr/local/games:/usr/games
PERL5LIB =
PERL5OPT =
PERL5_CPANPLUS_IS_RUNNING = 5793
PERL5_CPAN_IS_RUNNING = 5793
PERL_MM_USE_DEFAULT = 1
PERL_USE_UNSAFE_INC = 1
SHELL = /bin/bash
TERM = xterm
Perl special variables (and OS-specific diagnostics, for MSWin32):
$^X = /home/cpantester/perl/5.29.3m/bin/perl
$UID/$EUID = 1006 / 1006
$GID = 1006 1006
$EGID = 1006 1006
Perl module toolchain versions installed:
Module Have
------------------- --------
CPAN 2.22
CPAN::Meta 2.150010
Cwd 3.75
ExtUtils::CBuilder 0.280230
ExtUtils::Command 7.34
ExtUtils::Install 2.14
ExtUtils::MakeMaker 7.34
ExtUtils::Manifest 1.71
ExtUtils::ParseXS 3.39
File::Spec 3.75
JSON 4.01
JSON::PP 4.00
Module::Build 0.4224
Module::Signature n/a
Parse::CPAN::Meta 2.150010
Test::Harness 3.42
Test::More 1.302162
YAML 1.27
YAML::Syck 1.31
version 0.9924
--
Summary of my perl5 (revision 5 version 29 subversion 3) configuration:
Platform:
osname=linux
osvers=4.9.0-7-686-pae
archname=i686-linux-multi
uname='linux cthugha 4.9.0-7-686-pae #1 smp debian 4.9.110-1 (2018-07-05) i686 gnulinux '
config_args=''
hint=recommended
useposix=true
d_sigaction=define
useithreads=undef
usemultiplicity=define
use64bitint=undef
use64bitall=undef
uselongdouble=undef
usemymalloc=n
default_inc_excludes_dot=define
bincompat5005=undef
Compiler:
cc='cc'
ccflags ='-fwrapv -fno-strict-aliasing -pipe -fstack-protector-strong -I/usr/local/include -D_LARGEFILE_SOURCE -D_FILE_OFFSET_BITS=64 -D_FORTIFY_SOURCE=2'
optimize='-O2'
cppflags='-fwrapv -fno-strict-aliasing -pipe -fstack-protector-strong -I/usr/local/include'
ccversion=''
gccversion='6.3.0 20170516'
gccosandvers=''
intsize=4
longsize=4
ptrsize=4
doublesize=8
byteorder=1234
doublekind=3
d_longlong=define
longlongsize=8
d_longdbl=define
longdblsize=12
longdblkind=3
ivtype='long'
ivsize=4
nvtype='double'
nvsize=8
Off_t='off_t'
lseeksize=8
alignbytes=4
prototype=define
Linker and Libraries:
ld='cc'
ldflags =' -fstack-protector-strong -L/usr/local/lib'
libpth=/usr/local/lib /usr/lib/gcc/i686-linux-gnu/6/include-fixed /usr/include/i386-linux-gnu /usr/lib /lib/i386-linux-gnu /lib/../lib /usr/lib/i386-linux-gnu /usr/lib/../lib /lib
libs=-lpthread -lnsl -ldl -lm -lcrypt -lutil -lc
perllibs=-lpthread -lnsl -ldl -lm -lcrypt -lutil -lc
libc=libc-2.24.so
so=so
useshrplib=false
libperl=libperl.a
gnulibc_version='2.24'
Dynamic Linking:
dlsrc=dl_dlopen.xs
dlext=so
d_dlsymun=undef
ccdlflags='-Wl,-E'
cccdlflags='-fPIC'
lddlflags='-shared -O2 -L/usr/local/lib -fstack-protector-strong'
Characteristics of this binary (from libperl):
Compile-time options:
HAS_TIMES
MULTIPLICITY
PERLIO_LAYERS
PERL_COPY_ON_WRITE
PERL_DONT_CREATE_GVSV
PERL_IMPLICIT_CONTEXT
PERL_MALLOC_WRAP
PERL_OP_PARENT
PERL_PRESERVE_IVUV
USE_LARGE_FILES
USE_LOCALE
USE_LOCALE_COLLATE
USE_LOCALE_CTYPE
USE_LOCALE_NUMERIC
USE_LOCALE_TIME
USE_PERLIO
USE_PERL_ATOF
Built under linux
Compiled at Sep 27 2018 11:41:26
%ENV:
PERL5LIB=""
PERL5OPT=""
PERL5_CPANPLUS_IS_RUNNING="5793"
PERL5_CPAN_IS_RUNNING="5793"
PERL_MM_USE_DEFAULT="1"
PERL_USE_UNSAFE_INC="1"
@INC:
/home/cpantester/perl/5.29.3m/lib/site_perl/5.29.3/i686-linux-multi
/home/cpantester/perl/5.29.3m/lib/site_perl/5.29.3
/home/cpantester/perl/5.29.3m/lib/5.29.3/i686-linux-multi
/home/cpantester/perl/5.29.3m/lib/5.29.3
.