Regexp-Grammars v1.052 Perl 5 v5.31.8 amd64-netbsd

Status
Pass
From
Carlos Guevara
Dist
Regexp-Grammars v1.052
Platform
Perl 5 v5.31.8 amd64-netbsd
Date
2020-01-05 09:55:43
ID
89b6001c-2fa1-11ea-99e8-eefbd4e4932c
This distribution has been tested as part of the CPAN Testers
project, supporting the Perl programming language.  See
http://wiki.cpantesters.org/ for more information or email
questions to cpan-testers-discuss@perl.org


--
Dear Damian Conway,

This is a computer-generated report for Regexp-Grammars-1.052
on perl 5.31.8, created by CPAN-Reporter-1.2018.

Thank you for uploading your work to CPAN.  Congratulations!
All tests were successful.

Sections of this report:

    * Tester comments
    * Program output
    * Prerequisites
    * Environment and other context

------------------------------
TESTER COMMENTS
------------------------------

Additional comments from tester:

none provided

------------------------------
PROGRAM OUTPUT
------------------------------

Output from './Build test':

# Testing Regexp::Grammars 1.052
t/00.load.t ............................ ok
t/alias_literal.t ...................... ok
t/aliased_subpatterns.t ................ ok
t/arg.t ................................ ok
t/autoflatten.t ........................ ok
t/backref.t ............................ ok
t/backref_ARG.t ........................ ok
t/charnames.t .......................... ok
t/charset.t ............................ ok
t/class_accessor.t ..................... ok
t/clear_actions.t ...................... ok
t/comment.t ............................ ok
t/data_structure.t ..................... ok
t/error.t .............................. ok
t/error_non_backtracking.t ............. ok
t/error_non_hash_based.t ............... ok
t/error_translate.t .................... ok
t/fatal.t .............................. ok
t/fwdref.t ............................. ok
t/grammar.t ............................ ok
t/grammar_polymorphism.t ............... ok
t/hash.t ............................... ok
t/hash_redef.t ......................... ok
t/hash_redef_local.t ................... ok
t/inline_computation.t ................. ok
t/inline_computation_handler.t ......... ok
t/inline_computation_obj_handler.t ..... ok
t/local_ws.t ........................... ok
t/lookaheads.t ......................... ok
t/matchline.t .......................... ok
t/matchpos.t ........................... ok
t/minimize_bug.t ....................... ok
t/missing_slash_x.t .................... ok
t/moose.t .............................. ok
t/neg_lookahead.t ...................... ok
t/new.t ................................ ok
t/new_init.t ........................... ok
t/new_init_autoload.t .................. ok
t/new_init_limited_autoload.t .......... ok
t/new_init_limited_autoload_warn.t ..... ok
t/no_context.t ......................... ok
t/no_context_counterlocal.t ............ ok
t/no_context_local.t ................... ok
t/no_context_named_capture.t ........... ok
t/non_backtracking.t ................... ok
t/obj_rename.t ......................... ok
t/one_liner.t .......................... ok
t/pod.t ................................ ok
t/pseudovars.t ......................... ok
t/repop_ws.t ........................... ok
t/seplist.t ............................ ok
t/seplist_countedhash_0.t .............. ok
t/seplist_countedhash_0_.t ............. ok
t/seplist_countedhash_0_1.t ............ ok
t/seplist_countedhash_0_N.t ............ ok
t/seplist_countedhash_1.t .............. ok
t/seplist_countedhash_1_.t ............. ok
t/seplist_countedhash_1_N.t ............ ok
t/seplist_countedhash_M_.t ............. ok
t/seplist_countedhash_M_N.t ............ ok
t/seplist_countedhash_N.t .............. ok
  warn | Non-backtracking subrule call <[item=Value]>++
       | at t/seplist_greediness.t line 45
       | may not revert correctly during backtracking.
       | (If grammar does not work, try <[item=Value]>+ instead)
       | 
t/seplist_greediness.t ................. ok
t/seplist_plushash.t ................... ok
t/seplist_questionmark.t ............... ok
t/seplist_rawhash.t .................... ok
t/seplist_starhash.t ................... ok
t/seplist_trailing__countedhash_0.t .... ok
t/seplist_trailing__countedhash_0_.t ... ok
t/seplist_trailing__countedhash_0_1.t .. ok
t/seplist_trailing__countedhash_0_N.t .. ok
t/seplist_trailing__countedhash_1.t .... ok
t/seplist_trailing__countedhash_1_.t ... ok
t/seplist_trailing__countedhash_1_N.t .. ok
t/seplist_trailing__countedhash_M_.t ... ok
t/seplist_trailing__countedhash_M_N.t .. ok
t/seplist_trailing__countedhash_N.t .... ok
  warn | Non-backtracking subrule call <[item=Value]>++
       | at t/seplist_trailing__greediness.t line 45
       | may not revert correctly during backtracking.
       | (If grammar does not work, try <[item=Value]>+ instead)
       | 
t/seplist_trailing__greediness.t ....... ok
t/seplist_trailing__plushash.t ......... ok
t/seplist_trailing__questionmark.t ..... ok
t/seplist_trailing__rawhash.t .......... ok
t/seplist_trailing__starhash.t ......... ok
t/top_is_token.t ....................... ok
t/ws_redefine.t ........................ ok
All tests successful.
Files=83, Tests=1398, 15 wallclock secs ( 0.41 usr  0.25 sys + 10.12 cusr  4.12 csys = 14.90 CPU)
Result: PASS

------------------------------
PREREQUISITES
------------------------------

Prerequisite modules loaded:

requires:

    Module              Need    Have    
    ------------------- ------- --------
    B::Hooks::Parser    0.16    0.21    
    perl                v5.10.0 5.031008
    Test::More          0       1.302170
    version             0       0.9924  

configure_requires:

    Module              Need    Have    
    ------------------- ------- --------
    ExtUtils::MakeMaker 0       7.42    


------------------------------
ENVIRONMENT AND OTHER CONTEXT
------------------------------

Environment variables:

    LC_ALL = C
    NONINTERACTIVE_TESTING = 1
    PATH = /home/cpan/bin/perl-blead/bin:/home/cpan/bin:/home/cpan/bin:/bin:/sbin:/usr/bin:/usr/sbin:/usr/X11R7/bin:/usr/pkg/bin:/usr/pkg/sbin:/usr/games:/usr/local/bin:/usr/local/sbin
    PERL5LIB = 
    PERL5OPT = 
    PERL5_CPANPLUS_IS_RUNNING = 10020
    PERL5_CPAN_IS_RUNNING = 10020
    PERL_MM_USE_DEFAULT = 1
    PERL_USE_UNSAFE_INC = 1
    PERL_VERSION = blead
    SHELL = /usr/pkg/bin/bash
    TERM = screen
    TMPDIR = /home/cpan/tmp

Perl special variables (and OS-specific diagnostics, for MSWin32):

    $^X = /home/cpan/bin/perl-blead/bin/perl5.31.8
    $UID/$EUID = 1001 / 1001
    $GID = 100 100
    $EGID = 100 100

Perl module toolchain versions installed:

    Module              Have    
    ------------------- --------
    CPAN                2.27    
    CPAN::Meta          2.150010
    Cwd                 3.78    
    ExtUtils::CBuilder  0.280233
    ExtUtils::Command   7.42    
    ExtUtils::Install   2.14    
    ExtUtils::MakeMaker 7.42    
    ExtUtils::Manifest  1.72    
    ExtUtils::ParseXS   3.40    
    File::Spec          3.78    
    JSON                4.02    
    JSON::PP            4.04    
    Module::Build       0.4229  
    Module::Signature   n/a     
    Parse::CPAN::Meta   2.150010
    Test::Harness       3.42    
    Test::More          1.302170
    YAML                1.29    
    YAML::Syck          1.31    
    version             0.9924  


--

Summary of my perl5 (revision 5 version 31 subversion 8) configuration:
  Commit id: 71fc05879845b8712c55f6707526dd6801574d2a
  Platform:
    osname=netbsd
    osvers=8.1
    archname=amd64-netbsd
    uname='netbsd cjg-netbsd8 8.1 netbsd 8.1 (generic) #0: fri may 31 08:43:59 utc 2019 mkrepro@mkrepro.netbsd.org:usrsrcsysarchamd64compilegeneric amd64 '
    config_args='-des -Dprefix=~/bin/perl-blead -Dscriptdir=~/bin/perl-blead/bin -Dusedevel -Duse64bitall'
    hint=recommended
    useposix=true
    d_sigaction=define
    useithreads=undef
    usemultiplicity=undef
    use64bitint=define
    use64bitall=define
    uselongdouble=undef
    usemymalloc=n
    default_inc_excludes_dot=define
    bincompat5005=undef
  Compiler:
    cc='cc'
    ccflags ='-fwrapv -fno-strict-aliasing -pipe -fstack-protector-strong -I/usr/pkg/include -D_FORTIFY_SOURCE=2'
    optimize='-O'
    cppflags='-fwrapv -fno-strict-aliasing -pipe -fstack-protector-strong -I/usr/pkg/include'
    ccversion=''
    gccversion='5.5.0'
    gccosandvers=''
    intsize=4
    longsize=8
    ptrsize=8
    doublesize=8
    byteorder=12345678
    doublekind=3
    d_longlong=define
    longlongsize=8
    d_longdbl=define
    longdblsize=16
    longdblkind=3
    ivtype='long'
    ivsize=8
    nvtype='double'
    nvsize=8
    Off_t='off_t'
    lseeksize=8
    alignbytes=8
    prototype=define
  Linker and Libraries:
    ld='cc'
    ldflags =' -Wl,-rpath,/usr/pkg/lib -Wl,-rpath,/usr/local/lib -fstack-protector-strong -L/usr/pkg/lib'
    libpth=/usr/include/gcc-5 /usr/lib /usr/pkg/lib /lib
    libs=-lpthread -lm -lcrypt -lutil -lc -lposix
    perllibs=-lpthread -lm -lcrypt -lutil -lc -lposix
    libc=/lib/libc.so
    so=so
    useshrplib=false
    libperl=libperl.a
    gnulibc_version=''
  Dynamic Linking:
    dlsrc=dl_dlopen.xs
    dlext=so
    d_dlsymun=undef
    ccdlflags='-Wl,-E '
    cccdlflags='-DPIC -fPIC '
    lddlflags='-shared  -L/usr/pkg/lib -fstack-protector-strong'


Characteristics of this binary (from libperl): 
  Compile-time options:
    HAS_TIMES
    PERLIO_LAYERS
    PERL_COPY_ON_WRITE
    PERL_DONT_CREATE_GVSV
    PERL_MALLOC_WRAP
    PERL_OP_PARENT
    PERL_PRESERVE_IVUV
    PERL_USE_DEVEL
    USE_64_BIT_ALL
    USE_64_BIT_INT
    USE_LARGE_FILES
    USE_LOCALE
    USE_LOCALE_COLLATE
    USE_LOCALE_CTYPE
    USE_LOCALE_NUMERIC
    USE_LOCALE_TIME
    USE_PERLIO
    USE_PERL_ATOF
  Built under netbsd
  Compiled at Jan  4 2020 22:21:03
  %ENV:
    PERL5LIB=""
    PERL5OPT=""
    PERL5_CPANPLUS_IS_RUNNING="10020"
    PERL5_CPAN_IS_RUNNING="10020"
    PERL_MM_USE_DEFAULT="1"
    PERL_USE_UNSAFE_INC="1"
    PERL_VERSION="blead"
  @INC:
    /home/cpan/bin/perl-blead/lib/site_perl/5.31.8/amd64-netbsd
    /home/cpan/bin/perl-blead/lib/site_perl/5.31.8
    /home/cpan/bin/perl-blead/lib/5.31.8/amd64-netbsd
    /home/cpan/bin/perl-blead/lib/5.31.8
    .