Report for DBIx-Table-TestDataGenerator-0.005

Back
From: metabase:user:314402c4-2aae-11df-837a-5e0a49663a4f
Subject: PASS DBIx-Table-TestDataGenerator-0.005 v5.18.4 GNU/Linux
Date: 2016-03-19T10:37:11Z

This distribution has been tested as part of the CPAN Testers
project, supporting the Perl programming language.  See
http://wiki.cpantesters.org/ for more information or email
questions to cpan-testers-discuss@perl.org


--
Dear Jose Diaz Seng,

This is a computer-generated report for DBIx-Table-TestDataGenerator-0.005
on perl 5.18.4, created by CPAN-Reporter-1.2011.

Thank you for uploading your work to CPAN.  Congratulations!
All tests were successful.

Sections of this report:

    * Tester comments
    * Program output
    * Prerequisites
    * Environment and other context

------------------------------
TESTER COMMENTS
------------------------------

Additional comments from tester:

none provided

------------------------------
PROGRAM OUTPUT
------------------------------

Output from './Build test':

# Testing DBIx::Table::TestDataGenerator 0.005, Perl 5.018004, /bbbike/perl-5.18.4t/bin/perl
t/00-load.t ............................. ok
t/01DBIC.t .............................. ok
t/02DataGeneration.t .................... ok
t/03DataGeneration_null_root_parents.t .. ok
t/04DataGeneration_csv.t ................ ok
t/boilerplate.t ......................... ok
All tests successful.

Test Summary Report
-------------------
t/boilerplate.t                       (Wstat: 0 Tests: 5 Failed: 0)
  TODO passed:   1-5
Files=6, Tests=28,  9 wallclock secs ( 0.02 usr  0.05 sys +  3.62 cusr  0.47 csys =  4.16 CPU)
Result: PASS

------------------------------
PREREQUISITES
------------------------------

Prerequisite modules loaded:

requires:

    Module                                 Need     Have    
    -------------------------------------- -------- --------
    aliased                                0        0.31    
    Carp                                   0        1.36    
    Cwd                                    0        3.47    
    Data::GUID                             0        0.048   
    DBD::CSV                               0        0.48    
    DBD::SQLite                            0        1.44    
    DBI                                    0        1.632   
    DBI::Const::GetInfoType                0        2.008697
    DBIx::Class::Helper::ResultSet::Random 2.016004 2.024000
    DBIx::Class::Optional::Dependencies    0        0       
    DBIx::Class::Relationship              0        0       
    DBIx::Class::Schema::Loader            0        0.07042 
    DBIx::RunSQL                           0        0.13    
    File::Basename                         0        2.84    
    File::Spec                             0        3.47    
    List::Util                             0        1.42    
    Moo                                    0        1.006001
    perl                                   5.006    5.018004
    Readonly                               0        2.00    
    SQL::Abstract                          0        1.81    
    SQL::Translator                        0.11018  0.11020 
    Test::Exception                        0        0.35    

build_requires:

    Module                                 Need     Have    
    -------------------------------------- -------- --------
    Pod::Coverage                          0        0.23    
    Pod::Coverage::Moose                   0        0.07    
    Test::CheckManifest                    0        1.28    
    Test::More                             0        1.001014
    Test::Pod                              0        1.48    
    Test::Pod::Coverage                    0        1.10    

configure_requires:

    Module                                 Need     Have    
    -------------------------------------- -------- --------
    DBIx::Class                            0.08203  0.082810
    Module::Build                          0.4      0.4210  


------------------------------
ENVIRONMENT AND OTHER CONTEXT
------------------------------

Environment variables:

    LANG = C
    PATH = /usr/local/bin:/usr/bin:/bin:/usr/local/sbin:/usr/sbin:/sbin:/home/cpansand/bin/linux-gnu:/home/cpansand/bin/sh:/home/cpansand/bin:/home/cpansand/bin/pistachio-perl/bin:/usr/games:/home/cpansand/devel:/home/eserte/src/srezic-misc/scripts
    PERL5LIB = /home/cpansand/.cpan/build/2016031909/DBD-CSV-0.48-ydQn__/blib/arch:/home/cpansand/.cpan/build/2016031909/DBD-CSV-0.48-ydQn__/blib/lib:/home/cpansand/.cpan/build/2016031909/DBIx-RunSQL-0.13-6Uren7/blib/arch:/home/cpansand/.cpan/build/2016031909/DBIx-RunSQL-0.13-6Uren7/blib/lib:/home/cpansand/.cpan/build/2016031909/Pod-Coverage-Moose-0.07-_zj7NX/blib/arch:/home/cpansand/.cpan/build/2016031909/Pod-Coverage-Moose-0.07-_zj7NX/blib/lib
    PERL5OPT = 
    PERL5_CPANPLUS_IS_RUNNING = 23911
    PERL5_CPAN_IS_RUNNING = 23911
    PERL5_CPAN_IS_RUNNING_IN_RECURSION = 17032,23911
    PERLDOC = -MPod::Perldoc::ToTextOverstrike
    PERL_BATCH = yes
    PERL_CANARY_STABILITY_NOPROMPT = 1
    PERL_CPAN_REPORTER_CONFIG = /var/tmp/cpansmoker-1023/2016031909/cpanreporter_005_config.ini
    PERL_EXTUTILS_AUTOINSTALL = --defaultdeps
    SHELL = /bin/zsh
    TERM = screen
    TMPDIR = /var/tmp/cpansmoker-1023/2016031909

Perl special variables (and OS-specific diagnostics, for MSWin32):

    $^X = /bbbike/perl-5.18.4t/bin/perl
    $UID/$EUID = 1023 / 1023
    $GID = 1023 1023
    $EGID = 1023 1023

Perl module toolchain versions installed:

    Module              Have    
    ------------------- --------
    CPAN                2.00    
    CPAN::Meta          2.142690
    Cwd                 3.47    
    ExtUtils::CBuilder  0.280210
    ExtUtils::Command   1.17    
    ExtUtils::Install   1.59    
    ExtUtils::MakeMaker 7.02    
    ExtUtils::Manifest  1.68    
    ExtUtils::ParseXS   3.24    
    File::Spec          3.47    
    JSON                2.90    
    JSON::PP            2.27203 
    Module::Build       0.4210  
    Module::Signature   0.73    
    Parse::CPAN::Meta   1.4414  
    Test::Harness       3.34    
    Test::More          1.001014
    YAML                1.13    
    YAML::Syck          1.27    
    version             0.9909  


--

Summary of my perl5 (revision 5 version 18 subversion 4) configuration:
   
  Platform:
    osname=linux, osvers=3.2.0-4-amd64, archname=x86_64-linux-thread-multi
    uname='linux eserte 3.2.0-4-amd64 #1 smp debian 3.2.63-2+deb7u1 x86_64 gnulinux '
    config_args='-ds -e -Dprefix=/opt/perl-5.18.4t -Dusethreads'
    hint=recommended, useposix=true, d_sigaction=define
    useithreads=define, usemultiplicity=define
    useperlio=define, d_sfio=undef, uselargefiles=define, usesocks=undef
    use64bitint=define, use64bitall=define, uselongdouble=undef
    usemymalloc=n, bincompat5005=undef
  Compiler:
    cc='cc', ccflags ='-D_REENTRANT -D_GNU_SOURCE -fno-strict-aliasing -pipe -fstack-protector -I/usr/local/include -D_LARGEFILE_SOURCE -D_FILE_OFFSET_BITS=64',
    optimize='-O2',
    cppflags='-D_REENTRANT -D_GNU_SOURCE -fno-strict-aliasing -pipe -fstack-protector -I/usr/local/include'
    ccversion='', gccversion='4.7.2', gccosandvers=''
    intsize=4, longsize=8, ptrsize=8, doublesize=8, byteorder=12345678
    d_longlong=define, longlongsize=8, d_longdbl=define, longdblsize=16
    ivtype='long', ivsize=8, nvtype='double', nvsize=8, Off_t='off_t', lseeksize=8
    alignbytes=8, prototype=define
  Linker and Libraries:
    ld='cc', ldflags =' -fstack-protector -L/usr/local/lib'
    libpth=/usr/local/lib /lib/x86_64-linux-gnu /lib/../lib /usr/lib/x86_64-linux-gnu /usr/lib/../lib /lib /usr/lib
    libs=-lnsl -ldb -ldl -lm -lcrypt -lutil -lpthread -lc
    perllibs=-lnsl -ldl -lm -lcrypt -lutil -lpthread -lc
    libc=, so=so, useshrplib=false, libperl=libperl.a
    gnulibc_version='2.13'
  Dynamic Linking:
    dlsrc=dl_dlopen.xs, dlext=so, d_dlsymun=undef, ccdlflags='-Wl,-E'
    cccdlflags='-fPIC', lddlflags='-shared -O2 -L/usr/local/lib -fstack-protector'


Characteristics of this binary (from libperl): 
  Compile-time options: HAS_TIMES MULTIPLICITY PERLIO_LAYERS
                        PERL_DONT_CREATE_GVSV
                        PERL_HASH_FUNC_ONE_AT_A_TIME_HARD
                        PERL_IMPLICIT_CONTEXT PERL_MALLOC_WRAP
                        PERL_PRESERVE_IVUV PERL_SAWAMPERSAND USE_64_BIT_ALL
                        USE_64_BIT_INT USE_ITHREADS USE_LARGE_FILES
                        USE_LOCALE USE_LOCALE_COLLATE USE_LOCALE_CTYPE
                        USE_LOCALE_NUMERIC USE_PERLIO USE_PERL_ATOF
                        USE_REENTRANT_API
  Built under linux
  Compiled at Nov 15 2014 13:31:56
  %ENV:
    PERL5LIB="/home/cpansand/.cpan/build/2016031909/DBD-CSV-0.48-ydQn__/blib/arch:/home/cpansand/.cpan/build/2016031909/DBD-CSV-0.48-ydQn__/blib/lib:/home/cpansand/.cpan/build/2016031909/DBIx-RunSQL-0.13-6Uren7/blib/arch:/home/cpansand/.cpan/build/2016031909/DBIx-RunSQL-0.13-6Uren7/blib/lib:/home/cpansand/.cpan/build/2016031909/Pod-Coverage-Moose-0.07-_zj7NX/blib/arch:/home/cpansand/.cpan/build/2016031909/Pod-Coverage-Moose-0.07-_zj7NX/blib/lib"
    PERL5OPT=""
    PERL5_CPANPLUS_IS_RUNNING="23911"
    PERL5_CPAN_IS_RUNNING="23911"
    PERL5_CPAN_IS_RUNNING_IN_RECURSION="17032,23911"
    PERLDOC="-MPod::Perldoc::ToTextOverstrike"
    PERL_BATCH="yes"
    PERL_CANARY_STABILITY_NOPROMPT="1"
    PERL_CPAN_REPORTER_CONFIG="/var/tmp/cpansmoker-1023/2016031909/cpanreporter_005_config.ini"
    PERL_EXTUTILS_AUTOINSTALL="--defaultdeps"
  @INC:
    /home/cpansand/.cpan/build/2016031909/DBD-CSV-0.48-ydQn__/blib/arch
    /home/cpansand/.cpan/build/2016031909/DBD-CSV-0.48-ydQn__/blib/lib
    /home/cpansand/.cpan/build/2016031909/DBIx-RunSQL-0.13-6Uren7/blib/arch
    /home/cpansand/.cpan/build/2016031909/DBIx-RunSQL-0.13-6Uren7/blib/lib
    /home/cpansand/.cpan/build/2016031909/Pod-Coverage-Moose-0.07-_zj7NX/blib/arch
    /home/cpansand/.cpan/build/2016031909/Pod-Coverage-Moose-0.07-_zj7NX/blib/lib
    /opt/perl-5.18.4t/lib/site_perl/5.18.4/x86_64-linux-thread-multi
    /opt/perl-5.18.4t/lib/site_perl/5.18.4
    /opt/perl-5.18.4t/lib/5.18.4/x86_64-linux-thread-multi
    /opt/perl-5.18.4t/lib/5.18.4
    .