Back
From: metabase:user:314402c4-2aae-11df-837a-5e0a49663a4f
Subject: PASS Devel-SizeMe-0.19 v5.18.2 GNU/Linux
Date: 2016-11-29T13:48:41Z
This distribution has been tested as part of the CPAN Testers
project, supporting the Perl programming language. See
http://wiki.cpantesters.org/ for more information or email
questions to cpan-testers-discuss@perl.org
--
Dear Tim Bunce,
This is a computer-generated report for Devel-SizeMe-0.19
on perl 5.18.2, created by CPAN-Reporter-1.2018.
Thank you for uploading your work to CPAN. Congratulations!
All tests were successful.
Sections of this report:
* Tester comments
* Program output
* Prerequisites
* Environment and other context
------------------------------
TESTER COMMENTS
------------------------------
Additional comments from tester:
none provided
------------------------------
PROGRAM OUTPUT
------------------------------
Output from '/usr/bin/make test':
"/opt/perl-5.18.2/bin/perl" -MExtUtils::Command::MM -e 'cp_nonempty' -- SizeMe.bs blib/arch/auto/Devel/SizeMe/SizeMe.bs 644
PERL_DL_NONLAZY=1 "/opt/perl-5.18.2/bin/perl" "-MExtUtils::Command::MM" "-MTest::Harness" "-e" "undef *Test::Harness::Switches; test_harness(0, 'blib/lib', 'blib/arch')" t/*.t
bin/sizeme_store.pl syntax OK
t/00-load.t ....... ok
t/10-sizeme.t ..... ok
t/20-smt-basic.t .. ok
t/basic.t ......... ok
t/code.t .......... ok
t/globs.t ......... ok
t/magic.t ......... ok
t/pod.t ........... ok
t/pod_cov.t ....... ok
t/pvbm.t .......... ok
t/recurse.t ....... ok
t/warnings.t ...... skipped: no Test::PerlRun found
All tests successful.
Files=12, Tests=175, 1 wallclock secs ( 0.02 usr 0.00 sys + 0.58 cusr 0.10 csys = 0.70 CPU)
Result: PASS
------------------------------
PREREQUISITES
------------------------------
Prerequisite modules loaded:
requires:
Module Need Have
------------------- -------- --------
autodie 2.12 2.13
DBD::SQLite 1.37 1.52
DBI 0 1.631
Devel::Dwarn 0 0
HTML::Entities 0 3.69
JSON::XS 0 3.01
Moo 1.000007 2.002005
perl 5.008 5.018002
Test::More 0.98 1.302047
XSLoader 0 0.16
build_requires:
Module Need Have
------------------- -------- --------
ExtUtils::MakeMaker 0 7.24
configure_requires:
Module Need Have
------------------- -------- --------
ExtUtils::MakeMaker 0 7.24
------------------------------
ENVIRONMENT AND OTHER CONTEXT
------------------------------
Environment variables:
LANG = en_US.UTF-8
LANGUAGE = en_US:en
PATH = /usr/local/bin:/usr/bin:/bin:/usr/local/sbin:/usr/sbin:/sbin:/home/cpansand/bin/linux-gnu:/home/cpansand/bin/sh:/home/cpansand/bin:/usr/games:/home/cpansand/devel:/home/eserte/src/srezic-misc/scripts
PERL5LIB = /home/cpansand/.cpan/build/2016112912/Moo-2.002005-0/blib/arch:/home/cpansand/.cpan/build/2016112912/Moo-2.002005-0/blib/lib:/home/cpansand/.cpan/build/2016112912/Role-Tiny-2.000005-0/blib/arch:/home/cpansand/.cpan/build/2016112912/Role-Tiny-2.000005-0/blib/lib:/home/cpansand/.cpan/build/2016112912/Class-Method-Modifiers-2.12-0/blib/arch:/home/cpansand/.cpan/build/2016112912/Class-Method-Modifiers-2.12-0/blib/lib:/home/cpansand/.cpan/build/2016112912/Data-Dumper-Concise-2.022-0/blib/arch:/home/cpansand/.cpan/build/2016112912/Data-Dumper-Concise-2.022-0/blib/lib:/home/cpansand/.cpan/build/2016112912/DBD-SQLite-1.52-0/blib/arch:/home/cpansand/.cpan/build/2016112912/DBD-SQLite-1.52-0/blib/lib
PERL5OPT =
PERL5_CPANPLUS_IS_RUNNING = 1233
PERL5_CPAN_IS_RUNNING = 1233
PERL5_CPAN_IS_RUNNING_IN_RECURSION = 910,1233
PERLDOC = -MPod::Perldoc::ToTextOverstrike
PERL_BATCH = yes
PERL_CANARY_STABILITY_NOPROMPT = 1
PERL_CPAN_REPORTER_CONFIG = /var/tmp/cpansmoker-1023/2016112912/cpanreporter_000_config.ini
PERL_EXTUTILS_AUTOINSTALL = --defaultdeps
PERL_USE_UNSAFE_INC = 1
SHELL = /bin/zsh
TERM = screen
TMPDIR = /var/tmp/cpansmoker-1023/2016112912
Perl special variables (and OS-specific diagnostics, for MSWin32):
$^X = /opt/perl-5.18.2/bin/perl
$UID/$EUID = 1023 / 1023
$GID = 1023 1023
$EGID = 1023 1023
Perl module toolchain versions installed:
Module Have
------------------- --------
CPAN 2.14
CPAN::Meta 2.150010
Cwd 3.40
ExtUtils::CBuilder 0.280210
ExtUtils::Command 7.24
ExtUtils::Install 1.59
ExtUtils::MakeMaker 7.24
ExtUtils::Manifest 1.70
ExtUtils::ParseXS 3.18
File::Spec 3.40
JSON 2.90
JSON::PP 2.27400
Module::Build 0.4003
Module::Signature n/a
Parse::CPAN::Meta 2.150010
Test::Harness 3.33
Test::More 1.302047
YAML 0.88
YAML::Syck 1.27
version 0.9902
--
Summary of my perl5 (revision 5 version 18 subversion 2) configuration:
Platform:
osname=linux, osvers=3.2.0-4-amd64, archname=x86_64-linux
uname='linux cvrsnica-wheezy 3.2.0-4-amd64 #1 smp debian 3.2.51-1 x86_64 gnulinux '
config_args='-ds -e -Dprefix=/opt/perl-5.18.2'
hint=recommended, useposix=true, d_sigaction=define
useithreads=undef, usemultiplicity=undef
useperlio=define, d_sfio=undef, uselargefiles=define, usesocks=undef
use64bitint=define, use64bitall=define, uselongdouble=undef
usemymalloc=n, bincompat5005=undef
Compiler:
cc='cc', ccflags ='-fno-strict-aliasing -pipe -fstack-protector -I/usr/local/include -D_LARGEFILE_SOURCE -D_FILE_OFFSET_BITS=64',
optimize='-O2',
cppflags='-fno-strict-aliasing -pipe -fstack-protector -I/usr/local/include'
ccversion='', gccversion='4.7.2', gccosandvers=''
intsize=4, longsize=8, ptrsize=8, doublesize=8, byteorder=12345678
d_longlong=define, longlongsize=8, d_longdbl=define, longdblsize=16
ivtype='long', ivsize=8, nvtype='double', nvsize=8, Off_t='off_t', lseeksize=8
alignbytes=8, prototype=define
Linker and Libraries:
ld='cc', ldflags =' -fstack-protector -L/usr/local/lib'
libpth=/usr/local/lib /lib/x86_64-linux-gnu /lib/../lib /usr/lib/x86_64-linux-gnu /usr/lib/../lib /lib /usr/lib
libs=-lnsl -ldb -ldl -lm -lcrypt -lutil -lc
perllibs=-lnsl -ldl -lm -lcrypt -lutil -lc
libc=, so=so, useshrplib=false, libperl=libperl.a
gnulibc_version='2.13'
Dynamic Linking:
dlsrc=dl_dlopen.xs, dlext=so, d_dlsymun=undef, ccdlflags='-Wl,-E'
cccdlflags='-fPIC', lddlflags='-shared -O2 -L/usr/local/lib -fstack-protector'
Characteristics of this binary (from libperl):
Compile-time options: HAS_TIMES PERLIO_LAYERS PERL_DONT_CREATE_GVSV
PERL_HASH_FUNC_ONE_AT_A_TIME_HARD PERL_MALLOC_WRAP
PERL_PRESERVE_IVUV PERL_SAWAMPERSAND USE_64_BIT_ALL
USE_64_BIT_INT USE_LARGE_FILES USE_LOCALE
USE_LOCALE_COLLATE USE_LOCALE_CTYPE
USE_LOCALE_NUMERIC USE_PERLIO USE_PERL_ATOF
Built under linux
Compiled at Feb 2 2014 18:47:50
%ENV:
PERL5LIB="/home/cpansand/.cpan/build/2016112912/Moo-2.002005-0/blib/arch:/home/cpansand/.cpan/build/2016112912/Moo-2.002005-0/blib/lib:/home/cpansand/.cpan/build/2016112912/Role-Tiny-2.000005-0/blib/arch:/home/cpansand/.cpan/build/2016112912/Role-Tiny-2.000005-0/blib/lib:/home/cpansand/.cpan/build/2016112912/Class-Method-Modifiers-2.12-0/blib/arch:/home/cpansand/.cpan/build/2016112912/Class-Method-Modifiers-2.12-0/blib/lib:/home/cpansand/.cpan/build/2016112912/Data-Dumper-Concise-2.022-0/blib/arch:/home/cpansand/.cpan/build/2016112912/Data-Dumper-Concise-2.022-0/blib/lib:/home/cpansand/.cpan/build/2016112912/DBD-SQLite-1.52-0/blib/arch:/home/cpansand/.cpan/build/2016112912/DBD-SQLite-1.52-0/blib/lib"
PERL5OPT=""
PERL5_CPANPLUS_IS_RUNNING="1233"
PERL5_CPAN_IS_RUNNING="1233"
PERL5_CPAN_IS_RUNNING_IN_RECURSION="910,1233"
PERLDOC="-MPod::Perldoc::ToTextOverstrike"
PERL_BATCH="yes"
PERL_CANARY_STABILITY_NOPROMPT="1"
PERL_CPAN_REPORTER_CONFIG="/var/tmp/cpansmoker-1023/2016112912/cpanreporter_000_config.ini"
PERL_EXTUTILS_AUTOINSTALL="--defaultdeps"
PERL_USE_UNSAFE_INC="1"
@INC:
/home/cpansand/.cpan/build/2016112912/Moo-2.002005-0/blib/arch
/home/cpansand/.cpan/build/2016112912/Moo-2.002005-0/blib/lib
/home/cpansand/.cpan/build/2016112912/Role-Tiny-2.000005-0/blib/arch
/home/cpansand/.cpan/build/2016112912/Role-Tiny-2.000005-0/blib/lib
/home/cpansand/.cpan/build/2016112912/Class-Method-Modifiers-2.12-0/blib/arch
/home/cpansand/.cpan/build/2016112912/Class-Method-Modifiers-2.12-0/blib/lib
/home/cpansand/.cpan/build/2016112912/Data-Dumper-Concise-2.022-0/blib/arch
/home/cpansand/.cpan/build/2016112912/Data-Dumper-Concise-2.022-0/blib/lib
/home/cpansand/.cpan/build/2016112912/DBD-SQLite-1.52-0/blib/arch
/home/cpansand/.cpan/build/2016112912/DBD-SQLite-1.52-0/blib/lib
/opt/perl-5.18.2/lib/site_perl/5.18.2/x86_64-linux
/opt/perl-5.18.2/lib/site_perl/5.18.2
/opt/perl-5.18.2/lib/5.18.2/x86_64-linux
/opt/perl-5.18.2/lib/5.18.2
.