MongoDB vv2.2.2 Perl 5 v5.38.0 x86_64-linux
- Status
- Pass
- From
- Andreas J. König (ANDK)
- Dist
-
MongoDB vv2.2.2
- Platform
- Perl 5 v5.38.0 x86_64-linux
- Date
- 2023-07-03 17:32:09
- ID
- 899a9a3e-19c7-11ee-ace8-ee6fd5ef84cb
This distribution has been tested as part of the CPAN Testers
project, supporting the Perl programming language. See
http://wiki.cpantesters.org/ for more information or email
questions to cpan-testers-discuss@perl.org
--
Dear MongoDB Inc,
This is a computer-generated report for MongoDB-v2.2.2
on perl 5.38.0, created by CPAN-Reporter-1.2019.
Thank you for uploading your work to CPAN. Congratulations!
All tests were successful.
Sections of this report:
* Tester comments
* Program output
* Prerequisites
* Environment and other context
------------------------------
TESTER COMMENTS
------------------------------
Additional comments from tester:
this report is from an automated smoke testing program
and was not reviewed by a human for accuracy
------------------------------
PROGRAM OUTPUT
------------------------------
Output from '/usr/bin/make test':
PERL_DL_NONLAZY=1 "/tmp/basesmoker-reloperl-Lght/bin/perl" "-MExtUtils::Command::MM" "-MTest::Harness" "-e" "undef *Test::Harness::Switches; test_harness(0, 'blib/lib', 'blib/arch')" t/*.t t/deprecated/*.t t/examples/*.t t/unit/*.t
# Checking MongoDB test environment
# MongoDB driver version v2.2.2
# BSON::XS codec version v0.8.4
t/00-report-mongod.t ....................... skipped: no mongod on localhost:27017 and $ENV{MONGOD} not set
t/max_time_ms.t ............................ skipped: no mongod on localhost:27017 and $ENV{MONGOD} not set
t/using_profiler.t ......................... skipped: no mongod on localhost:27017 and $ENV{MONGOD} not set
t/changestreams.t .......................... skipped: no mongod on localhost:27017 and $ENV{MONGOD} not set
t/changestreams_spec.t ..................... skipped: no mongod on localhost:27017 and $ENV{MONGOD} not set
t/examples/changestream.t .................. skipped: no mongod on localhost:27017 and $ENV{MONGOD} not set
t/retryable-writes-spec.t .................. skipped: no mongod on localhost:27017 and $ENV{MONGOD} not set
t/retryable-writes-split-batch.t ........... skipped: no mongod on localhost:27017 and $ENV{MONGOD} not set
t/retryable-reads-spec.t ................... skipped: no mongod on localhost:27017 and $ENV{MONGOD} not set
t/sessions-spec.t .......................... skipped: no mongod on localhost:27017 and $ENV{MONGOD} not set
t/transactions-spec.t ...................... skipped: no mongod on localhost:27017 and $ENV{MONGOD} not set
t/transactions-convenient-api-spec.t ....... skipped: no mongod on localhost:27017 and $ENV{MONGOD} not set
t/connections-survive-step-down.t .......... skipped: no mongod on localhost:27017 and $ENV{MONGOD} not set
#
# Versions for all modules listed in MYMETA.json (including optional ones):
#
# === Configure Requires ===
#
# Module Want Have
# ------------------- ---- ----
# ExtUtils::MakeMaker 6.17 7.70
# Text::ParseWords any 3.31
#
# === Build Requires ===
#
# Module Want Have
# ------------------- ---- ----
# ExtUtils::MakeMaker any 7.70
#
# === Test Requires ===
#
# Module Want Have
# ------------------- ----- --------
# BSON::Decimal128 any v1.12.2
# Data::Dumper any 2.188
# ExtUtils::MakeMaker any 7.70
# File::Compare any 1.1007
# File::Spec any 3.88
# IO::File any 1.52
# JSON::MaybeXS any 1.004005
# Path::Tiny 0.058 0.144
# Storable any 3.32
# Test::Deep 0.111 1.204
# Test::Fatal any 0.017
# Test::More 0.96 1.302195
# lib any 0.65
# utf8 any 1.25
#
# === Test Recommends ===
#
# Module Want Have
# ------------- -------- --------
# CPAN::Meta 2.120900 2.150010
# Test::Harness 3.31 3.44
# Time::Moment 0.22 missing
#
# === Runtime Requires ===
#
# Module Want Have
# ---------------------- -------- --------
# Authen::SASL::SASLprep any 1.100
# Authen::SCRAM::Client 0.011 0.011
# BSON 1.012000 v1.12.2
# BSON::Bytes any v1.12.2
# BSON::Code any v1.12.2
# BSON::DBRef any v1.12.2
# BSON::OID any v1.12.2
# BSON::Raw any v1.12.2
# BSON::Regex any v1.12.2
# BSON::Time any v1.12.2
# BSON::Timestamp any v1.12.2
# BSON::Types any v1.12.2
# BSON::XS 0.008000 v0.8.4
# Carp any 1.54
# Class::XSAccessor any 1.19
# Compress::Zlib any 2.204
# Digest::MD5 any 2.58_01
# Encode any 3.19
# Exporter 5.57 5.77
# IO::Socket any 1.52
# List::Util any 1.63
# MIME::Base64 any 3.16_01
# Math::BigInt any 1.999837
# Moo 2 2.005005
# Moo::Role any 2.005005
# Net::DNS any 1.39
# Safe::Isa 1.000007 1.000010
# Scalar::Util any 1.63
# Socket any 2.036
# Sub::Defer any 2.006008
# Sub::Quote any 2.006008
# Tie::IxHash any 1.23
# Time::HiRes any 1.9775
# Type::Library any 2.004000
# Type::Tiny::XS any 0.025
# Type::Utils any 2.004000
# Types::Standard any 2.004000
# UUID::URandom any 0.001
# boolean 0.25 0.46
# bytes any 1.08
# constant any 1.33
# if any 0.0610
# namespace::clean any 0.27
# overload any 1.37
# re any 0.44
# strict any 1.12
# version any 0.9929
# warnings any 1.65
#
# === Runtime Recommends ===
#
# Module Want Have
# --------------- -------- --------
# IO::Socket::IP 0.32 0.41_01
# IO::Socket::SSL 1.42 2.083
# Mozilla::CA 20130114 20221114
# Net::SSLeay 1.49 1.92
#
# === Runtime Suggests ===
#
# Module Want Have
# --------------- ---- -----
# IO::Socket::SSL 1.56 2.083
#
t/00-report-prereqs.t ...................... ok
t/auth_spec.t .............................. ok
t/bulk.t ................................... skipped: no mongod on localhost:27017 and $ENV{MONGOD} not set
t/bulk_write_pipeline.t .................... skipped: no mongod on localhost:27017 and $ENV{MONGOD} not set
t/bypass_doc_validation.t .................. skipped: no mongod on localhost:27017 and $ENV{MONGOD} not set
t/causal_consistency.t ..................... skipped: no mongod on localhost:27017 and $ENV{MONGOD} not set
t/collection.t ............................. skipped: no mongod on localhost:27017 and $ENV{MONGOD} not set
t/connection.t ............................. skipped: no mongod on localhost:27017 and $ENV{MONGOD} not set
t/connection_string_spec.t ................. ok
t/crud.t ................................... skipped: no mongod on localhost:27017 and $ENV{MONGOD} not set
t/crud_spec.t .............................. skipped: no mongod on localhost:27017 and $ENV{MONGOD} not set
t/cursor.t ................................. skipped: no mongod on localhost:27017 and $ENV{MONGOD} not set
t/database.t ............................... skipped: no mongod on localhost:27017 and $ENV{MONGOD} not set
t/dbref.t .................................. skipped: no mongod on localhost:27017 and $ENV{MONGOD} not set
t/deprecated/bson.t ........................ skipped: no mongod on localhost:27017 and $ENV{MONGOD} not set
t/deprecated/collection.t .................. skipped: no mongod on localhost:27017 and $ENV{MONGOD} not set
t/deprecated/cursor.t ...................... skipped: no mongod on localhost:27017 and $ENV{MONGOD} not set
t/deprecated/find_modifiers.t .............. skipped: no mongod on localhost:27017 and $ENV{MONGOD} not set
t/deprecated/parallel_scan.t ............... skipped: no mongod on localhost:27017 and $ENV{MONGOD} not set
t/deprecated/regexp_obj.t .................. skipped: no mongod on localhost:27017 and $ENV{MONGOD} not set
t/deprecated/types.t ....................... skipped: no mongod on localhost:27017 and $ENV{MONGOD} not set
t/deprecated/typewrappers.t ................ skipped: no mongod on localhost:27017 and $ENV{MONGOD} not set
t/enumerate_databases.t .................... skipped: no mongod on localhost:27017 and $ENV{MONGOD} not set
t/errors.t ................................. ok
t/examples/driver-examples.t ............... skipped: no mongod on localhost:27017 and $ENV{MONGOD} not set
t/examples/transaction.t ................... skipped: no mongod on localhost:27017 and $ENV{MONGOD} not set
t/find_modifiers.t ......................... skipped: no mongod on localhost:27017 and $ENV{MONGOD} not set
t/fsync.t .................................. skipped: no mongod on localhost:27017 and $ENV{MONGOD} not set
t/gridfs_spec.t ............................ skipped: no mongod on localhost:27017 and $ENV{MONGOD} not set
t/gridfsbucket.t ........................... skipped: no mongod on localhost:27017 and $ENV{MONGOD} not set
t/indexview.t .............................. skipped: no mongod on localhost:27017 and $ENV{MONGOD} not set
t/kill-cursor.t ............................ skipped: no mongod on localhost:27017 and $ENV{MONGOD} not set
t/max_staleness_spec.t ..................... ok
t/monitoring.t ............................. skipped: no mongod on localhost:27017 and $ENV{MONGOD} not set
t/monitoring_spec.t ........................ skipped: no mongod on localhost:27017 and $ENV{MONGOD} not set
t/oid_generation.t ......................... skipped: no mongod on localhost:27017 and $ENV{MONGOD} not set
t/op_msg.t ................................. skipped: no mongod on localhost:27017 and $ENV{MONGOD} not set
t/pre_encode_insert_update.t ............... ok
t/protocol_op_msg.t ........................ ok
t/read_write_concern_spec.t ................ ok
t/readpref.t ............................... skipped: no mongod on localhost:27017 and $ENV{MONGOD} not set
t/retryable-writes-command-construction.t .. skipped: no mongod on localhost:27017 and $ENV{MONGOD} not set
t/sdam_monitoring.t ........................ skipped: no mongod on localhost:27017 and $ENV{MONGOD} not set
t/sdam_spec.t .............................. ok
t/sessions-cursors.t ....................... skipped: no mongod on localhost:27017 and $ENV{MONGOD} not set
t/sessions-driver.t ........................ skipped: no mongod on localhost:27017 and $ENV{MONGOD} not set
t/sessions-end.t ........................... skipped: no mongod on localhost:27017 and $ENV{MONGOD} not set
t/sessions-unacknowledged-write.t .......... skipped: no mongod on localhost:27017 and $ENV{MONGOD} not set
t/ss_spec.t ................................ ok
t/transactions-convenient-api.t ............ skipped: no mongod on localhost:27017 and $ENV{MONGOD} not set
t/transactions-mongos-pinning.t ............ skipped: no mongod on localhost:27017 and $ENV{MONGOD} not set
t/unit/configuration.t ..................... ok
t/unit/link.t .............................. ok
t/unit/read_preference.t ................... ok
t/unit/uri.t ............................... ok
t/unit/uri_spec.t .......................... ok
t/unit/uri_srv.t ........................... ok
t/unit/write_concern.t ..................... ok
All tests successful.
Files=71, Tests=199, 565 wallclock secs ( 0.33 usr 0.17 sys + 42.96 cusr 4.98 csys = 48.44 CPU)
Result: PASS
------------------------------
PREREQUISITES
------------------------------
Prerequisite modules loaded:
requires:
Module Need Have
---------------------- -------- --------
Authen::SASL::SASLprep 0 1.100
Authen::SCRAM::Client 0.011 0.011
boolean 0.25 0.46
BSON 1.012000 v1.12.2
BSON::Bytes 0 v1.12.2
BSON::Code 0 v1.12.2
BSON::DBRef 0 v1.12.2
BSON::OID 0 v1.12.2
BSON::Raw 0 v1.12.2
BSON::Regex 0 v1.12.2
BSON::Time 0 v1.12.2
BSON::Timestamp 0 v1.12.2
BSON::Types 0 v1.12.2
BSON::XS 0.008000 v0.8.4
bytes 0 1.08
Carp 0 1.54
Class::XSAccessor 0 1.19
Compress::Zlib 0 2.204
constant 0 1.33
Digest::MD5 0 2.58_01
Encode 0 3.19
Exporter 5.57 5.77
if 0 0.0610
IO::Socket 0 1.52
List::Util 0 1.63
Math::BigInt 0 1.999837
MIME::Base64 0 3.16_01
Moo 2 2.005005
Moo::Role 0 2.005005
namespace::clean 0 0.27
Net::DNS 0 1.39
overload 0 1.37
perl 5.010001 5.038000
re 0 0.44
Safe::Isa 1.000007 1.000010
Scalar::Util 0 1.63
Socket 0 2.036
strict 0 1.12
Sub::Defer 0 2.006008
Sub::Quote 0 2.006008
Tie::IxHash 0 1.23
Time::HiRes 0 1.9775
Type::Library 0 2.004000
Type::Tiny::XS 0 0.025
Type::Utils 0 2.004000
Types::Standard 0 2.004000
UUID::URandom 0 0.001
version 0 0.9929
warnings 0 1.65
build_requires:
Module Need Have
---------------------- -------- --------
BSON::Decimal128 0 v1.12.2
Data::Dumper 0 2.188
ExtUtils::MakeMaker 0 7.70
File::Compare 0 1.1007
File::Spec 0 3.88
IO::File 0 1.52
JSON::MaybeXS 0 1.004005
lib 0 0.65
Path::Tiny 0.058 0.144
Storable 0 3.32
Test::Deep 0.111 1.204
Test::Fatal 0 0.017
Test::More 0.96 1.302195
utf8 0 1.25
configure_requires:
Module Need Have
---------------------- -------- --------
ExtUtils::MakeMaker 6.17 7.70
Text::ParseWords 0 3.31
opt_requires:
Module Need Have
---------------------- -------- --------
IO::Socket::IP 0.32 0.41_01
IO::Socket::SSL 1.42 2.083
Mozilla::CA 20130114 20221114
Net::SSLeay 1.49 1.92
------------------------------
ENVIRONMENT AND OTHER CONTEXT
------------------------------
Environment variables:
AUTOMATED_TESTING = 1
LANG = en_US.UTF-8
LANGUAGE = en_US:en
PATH = /home/sand/bin:/usr/local/bin:/usr/bin:/bin:/usr/games:/usr/local/perl/bin:/usr/X11/bin:/sbin:/usr/sbin
PERL5LIB =
PERL5OPT =
PERL5_CPANPLUS_IS_RUNNING = 949524
PERL5_CPAN_IS_RUNNING = 949524
PERL_CANARY_STABILITY_NOPROMPT = 1
PERL_MM_USE_DEFAULT = 1
PERL_USE_UNSAFE_INC = 1
SHELL = /usr/bin/zsh
TERM = screen
Perl special variables (and OS-specific diagnostics, for MSWin32):
$^X = /tmp/basesmoker-reloperl-Lght/bin/perl
$UID/$EUID = 1005 / 1005
$GID = 1005 1005
$EGID = 1005 1005
Perl module toolchain versions installed:
Module Have
------------------- --------
CPAN 2.36
CPAN::Meta 2.150010
Cwd 3.89
ExtUtils::CBuilder 0.280238
ExtUtils::Command 7.70
ExtUtils::Install 2.22
ExtUtils::MakeMaker 7.70
ExtUtils::Manifest 1.73
ExtUtils::ParseXS 3.51
File::Spec 3.88
JSON 4.10
JSON::PP 4.16
Module::Build 0.4234
Module::Signature 0.88
Parse::CPAN::Meta 2.150010
Test2 1.302195
Test::Harness 3.44
Test::More 1.302195
YAML 1.30
YAML::Syck 1.34
version 0.9929
--
Summary of my perl5 (revision 5 version 38 subversion 0) configuration:
Commit id: 76298ae68aa7796f0ffc05095b127d23f4b2de8f
Platform:
osname=linux
osvers=6.1.0-7-amd64
archname=x86_64-linux
uname='linux k93msid 6.1.0-7-amd64 #1 smp preempt_dynamic debian 6.1.20-1 (2023-03-19) x86_64 gnulinux '
config_args='-Dprefix=/home/sand/src/perl/repoperls/installed-perls/host/k93msid/v5.38.0/da1c -Dmyhostname=k93msid -Dinstallusrbinperl=n -Uversiononly -Dusedevel -des -Ui_db -Dlibswanted=cl pthread socket inet nsl gdbm dbm malloc dl ld sun m crypt sec util c cposix posix ucb BSD gdbm_compat -Uuseithreads -Uuselongdouble -DEBUGGING=-g'
hint=recommended
useposix=true
d_sigaction=define
useithreads=undef
usemultiplicity=undef
use64bitint=define
use64bitall=define
uselongdouble=undef
usemymalloc=n
default_inc_excludes_dot=define
Compiler:
cc='cc'
ccflags ='-fwrapv -fno-strict-aliasing -pipe -fstack-protector-strong -I/usr/local/include -D_LARGEFILE_SOURCE -D_FILE_OFFSET_BITS=64 -D_FORTIFY_SOURCE=2'
optimize='-O2 -g'
cppflags='-fwrapv -fno-strict-aliasing -pipe -fstack-protector-strong -I/usr/local/include'
ccversion=''
gccversion='12.2.0'
gccosandvers=''
intsize=4
longsize=8
ptrsize=8
doublesize=8
byteorder=12345678
doublekind=3
d_longlong=define
longlongsize=8
d_longdbl=define
longdblsize=16
longdblkind=3
ivtype='long'
ivsize=8
nvtype='double'
nvsize=8
Off_t='off_t'
lseeksize=8
alignbytes=8
prototype=define
Linker and Libraries:
ld='cc'
ldflags =' -fstack-protector-strong -L/usr/local/lib'
libpth=/usr/local/lib /usr/lib/x86_64-linux-gnu /usr/lib /usr/lib64
libs=-lpthread -lnsl -ldl -lm -lcrypt -lutil -lc
perllibs=-lpthread -lnsl -ldl -lm -lcrypt -lutil -lc
libc=/lib/x86_64-linux-gnu/libc.so.6
so=so
useshrplib=false
libperl=libperl.a
gnulibc_version='2.36'
Dynamic Linking:
dlsrc=dl_dlopen.xs
dlext=so
d_dlsymun=undef
ccdlflags='-Wl,-E'
cccdlflags='-fPIC'
lddlflags='-shared -O2 -g -L/usr/local/lib -fstack-protector-strong'
Characteristics of this binary (from libperl):
Compile-time options:
HAS_LONG_DOUBLE
HAS_STRTOLD
HAS_TIMES
PERLIO_LAYERS
PERL_COPY_ON_WRITE
PERL_DONT_CREATE_GVSV
PERL_HASH_FUNC_SIPHASH13
PERL_HASH_USE_SBOX32
PERL_MALLOC_WRAP
PERL_OP_PARENT
PERL_PRESERVE_IVUV
PERL_USE_DEVEL
PERL_USE_SAFE_PUTENV
USE_64_BIT_ALL
USE_64_BIT_INT
USE_LARGE_FILES
USE_LOCALE
USE_LOCALE_COLLATE
USE_LOCALE_CTYPE
USE_LOCALE_NUMERIC
USE_LOCALE_TIME
USE_PERLIO
USE_PERL_ATOF
Built under linux
Compiled at Jul 3 2023 05:40:38
%ENV:
PERL5LIB=""
PERL5OPT=""
PERL5_CPANPLUS_IS_RUNNING="949524"
PERL5_CPAN_IS_RUNNING="949524"
PERL_CANARY_STABILITY_NOPROMPT="1"
PERL_MM_USE_DEFAULT="1"
PERL_USE_UNSAFE_INC="1"
@INC:
/home/sand/src/perl/repoperls/installed-perls/host/k93msid/v5.38.0/da1c/lib/site_perl/5.38.0/x86_64-linux
/home/sand/src/perl/repoperls/installed-perls/host/k93msid/v5.38.0/da1c/lib/site_perl/5.38.0
/home/sand/src/perl/repoperls/installed-perls/host/k93msid/v5.38.0/da1c/lib/5.38.0/x86_64-linux
/home/sand/src/perl/repoperls/installed-perls/host/k93msid/v5.38.0/da1c/lib/5.38.0
.