MooseX-Extended v0.35 Perl 5 v5.22.3 MSWin32-x64-multi-thread

Status
Pass
From
LNATION
Dist
MooseX-Extended v0.35
Platform
Perl 5 v5.22.3 MSWin32-x64-multi-thread
Date
2025-05-17 10:09:22
ID
8970396c-6c80-1014-b6b5-cf9abca94933
This distribution has been tested as part of the CPAN Testers
project, supporting the Perl programming language.  See
http://wiki.cpantesters.org/ for more information or email
questions to cpan-testers-discuss@perl.org


--
Dear Curtis Poe,

This is a computer-generated report for MooseX-Extended-0.35
on perl 5.22.3, created by CPAN-Reporter-1.2020.

Thank you for uploading your work to CPAN.  Congratulations!
All tests were successful.

Sections of this report:

    * Tester comments
    * Program output
    * Prerequisites
    * Environment and other context

------------------------------
TESTER COMMENTS
------------------------------

Additional comments from tester:

this report is from an automated smoke testing program
and was not reviewed by a human for accuracy

------------------------------
PROGRAM OUTPUT
------------------------------

Output from 'C:\STRAWB~1\c\bin\dmake.exe test':

"C:\Strawberry\perl\bin\perl.exe" "-MExtUtils::Command::MM" "-MTest::Harness" "-e" "undef *Test::Harness::Switches; test_harness(0, 'blib\lib', 'blib\arch')" t/*.t
# Testing MooseX::Extended 0.35, Perl 5.022003, C:\Strawberry\perl\bin\perl.exe
t/00-load.t ............... ok
# 
# Versions for all modules listed in MYMETA.json (including optional ones):
# 
# === Configure Requires ===
# 
#     Module              Want Have
#     ------------------- ---- ----
#     ExtUtils::MakeMaker  any 7.74
# 
# === Build Requires ===
# 
#     Module              Want Have
#     ------------------- ---- ----
#     ExtUtils::MakeMaker  any 7.74
# 
# === Test Requires ===
# 
#     Module              Want     Have
#     ------------------- ---- --------
#     Capture::Tiny        any     0.44
#     DateTime             any     1.66
#     ExtUtils::MakeMaker  any     7.74
#     File::Spec           any     3.75
#     List::Util           any     1.69
#     Scalar::Util         any     1.69
#     Test::Builder        any 1.302212
#     Test::More           any 1.302212
#     Test::Most           any     0.38
#     base                 any     2.23
#     lib                  any     0.63
#     version              any   0.9917
# 
# === Test Recommends ===
# 
#     Module              Want     Have
#     --------------- -------- --------
#     CPAN::Meta      2.120900 2.150010
#     Data::Printer        any     0.38
#     IO::Async::Loop      any  missing
# 
# === Runtime Requires ===
# 
#     Module                            Want     Have
#     ----------------------------- -------- --------
#     B::Hooks::AtRuntime                  8        8
#     Carp                               any     1.38
#     Data::Printer                      any     0.38
#     Exporter                           any     5.78
#     Import::Into                       any 1.002005
#     Module::Load                       any     0.32
#     Moose                              any   2.1807
#     Moose::Exception                   any   2.1807
#     Moose::Exception::Role::Class      any   2.1807
#     Moose::Exporter                    any   2.1807
#     Moose::Meta::Role                  any   2.1807
#     Moose::Role                        any   2.1807
#     Moose::Util                        any   2.1807
#     MooseX::Role::WarnOnConflict       any     0.01
#     MooseX::StrictConstructor          any     0.21
#     Ref::Util                          any    0.204
#     Storable                           any     3.25
#     Type::Library                      any 2.008002
#     Type::Params                       any 2.008002
#     Type::Tiny                    1.012004 2.008002
#     Type::Utils                        any 2.008002
#     Types::Common::Numeric             any 2.008002
#     Types::Common::String              any 2.008002
#     Types::Standard                    any 2.008002
#     constant                           any     1.33
#     feature                            any     1.40
#     mro                                any     1.17
#     namespace::autoclean               any     0.28
#     parent                             any    0.236
#     perl                          5.020000 5.022003
#     strict                             any     1.09
#     true                            v1.0.2   v1.0.2
#     warnings                           any     1.34
# 
# === Runtime Suggests ===
# 
#     Module                        Want     Have
#     ------------------------- -------- --------
#     Function::Parameters      2.001003 2.002005
#     Future                        0.48     0.51
#     Future::AsyncAwait            0.58     0.70
#     Syntax::Keyword::MultiSub     0.03  missing
#     Syntax::Keyword::Try         0.027  missing
# 
t/00-report-prereqs.t ..... ok
t/async.t ................. skipped: Perl version 5.26.0 required for async. You have perl version v5.22.3
t/basic.t ................. ok
t/clone.t ................. ok
t/configuration.t ......... ok
t/custom.t ................ ok
t/exceptions.t ............ ok
t/excludes_field_param.t .. ok
t/field_init_arg.t ........ ok
t/import-lists.t .......... skipped: Perl version  required for method. You have perl version v5.22.3
t/inheritance.t ........... ok
t/inline.t ................ ok
t/method-keyword.t ........ skipped: Perl version  required for method. You have perl version v5.22.3
t/moose_compatibility.t ... ok
t/multimethods.t .......... skipped: Perl version  required for multimethods. You have perl version v5.22.3
t/roles.t ................. ok
t/rwp.t ................... ok
t/stringy-eval.t .......... ok
t/try.t ................... skipped: Perl version  required for try/catch. You have perl version v5.22.3
t/types.t ................. ok
t/warnings.t .............. skipped: Perl >= 5.028 only
All tests successful.
Files=22, Tests=110, 20 wallclock secs ( 0.08 usr +  0.06 sys =  0.14 CPU)
Result: PASS

------------------------------
PREREQUISITES
------------------------------

Prerequisite modules loaded:

requires:

    Module                        Need     Have    
    ----------------------------- -------- --------
    B::Hooks::AtRuntime           8        8       
    Carp                          0        1.38    
    constant                      0        1.33    
    Data::Printer                 0        0.38    
    Exporter                      0        5.78    
    feature                       0        1.40    
    Import::Into                  0        1.002005
    Module::Load                  0        0.32    
    Moose                         0        2.1807  
    Moose::Exception              0        2.1807  
    Moose::Exception::Role::Class 0        2.1807  
    Moose::Exporter               0        2.1807  
    Moose::Meta::Role             0        2.1807  
    Moose::Role                   0        2.1807  
    Moose::Util                   0        2.1807  
    MooseX::Role::WarnOnConflict  0        0.01    
    MooseX::StrictConstructor     0        0.21    
    mro                           0        1.17    
    namespace::autoclean          0        0.28    
    parent                        0        0.236   
    perl                          5.020000 5.022003
    Ref::Util                     0        0.204   
    Storable                      0        3.25    
    strict                        0        1.09    
    true                          v1.0.2   v1.0.2  
    Type::Library                 0        2.008002
    Type::Params                  0        2.008002
    Type::Tiny                    1.012004 2.008002
    Type::Utils                   0        2.008002
    Types::Common::Numeric        0        2.008002
    Types::Common::String         0        2.008002
    Types::Standard               0        2.008002
    warnings                      0        1.34    

build_requires:

    Module                        Need     Have    
    ----------------------------- -------- --------
    base                          0        2.23    
    Capture::Tiny                 0        0.44    
    DateTime                      0        1.66    
    ExtUtils::MakeMaker           0        7.74    
    File::Spec                    0        3.75    
    lib                           0        0.63    
    List::Util                    0        1.69    
    Scalar::Util                  0        1.69    
    Test::Builder                 0        1.302212
    Test::More                    0        1.302212
    Test::Most                    0        0.38    
    version                       0        0.9917  

configure_requires:

    Module                        Need     Have    
    ----------------------------- -------- --------
    ExtUtils::MakeMaker           0        7.74    

opt_build_requires:

    Module                        Need     Have    
    ----------------------------- -------- --------
    CPAN::Meta                    2.120900 2.150010
    Data::Printer                 0        0.38    
  ! IO::Async::Loop               0        n/a     


------------------------------
ENVIRONMENT AND OTHER CONTEXT
------------------------------

Environment variables:

    AUTOMATED_TESTING = 1
    COMSPEC = C:\Windows\system32\cmd.exe
    NUMBER_OF_PROCESSORS = 2
    PATH = C:\Windows\system32;C:\Windows;C:\Windows\System32\Wbem;C:\Windows\System32\WindowsPowerShell\v1.0\;C:\Windows\System32\OpenSSH\;C:\Program Files\Amazon\cfn-bootstrap\;C:\Strawberry\c\bin;C:\Strawberry\perl\site\bin;C:\Strawberry\perl\bin;C:\Users\Administrator\AppData\Local\Microsoft\WindowsApps;C:\Users\Administrator\AppData\Local\Microsoft\WinGet\Links;
    PERL5LIB = 
    PERL5OPT = 
    PERL5_CPANPLUS_IS_RUNNING = 7984
    PERL5_CPAN_IS_RUNNING = 7984
    PERL5_CPAN_IS_RUNNING_IN_RECURSION = 1348,7984
    PERL_CR_SMOKER_CURRENT = App-perlimports-0.000057
    PERL_EXTUTILS_AUTOINSTALL = --defaultdeps
    PERL_MM_USE_DEFAULT = 1
    PROCESSOR_IDENTIFIER = Intel64 Family 6 Model 85 Stepping 7, GenuineIntel
    TEMP = C:\Users\ADMINI~1\AppData\Local\Temp\2

Perl special variables (and OS-specific diagnostics, for MSWin32):

    $^X = C:\Strawberry\perl\bin\perl.exe
    $UID/$EUID = 0 / 0
    $GID = 0
    $EGID = 0
    Win32::GetOSName = Win10
    Win32::GetOSVersion = , 10, 0, 26100, 2, 0, 0, 400, 3
    Win32::FsType = NTFS
    Win32::IsAdminUser = 1

Perl module toolchain versions installed:

    Module              Have    
    ------------------- --------
    CPAN                2.14    
    CPAN::Meta          2.150010
    Cwd                 3.75    
    ExtUtils::CBuilder  0.280236
    ExtUtils::Command   7.74    
    ExtUtils::Install   2.06    
    ExtUtils::MakeMaker 7.74    
    ExtUtils::Manifest  1.75    
    ExtUtils::ParseXS   3.57    
    File::Spec          3.75    
    JSON                2.90    
    JSON::PP            4.16    
    Module::Build       0.4234  
    Module::Signature   n/a     
    Parse::CPAN::Meta   2.150010
    Test2               1.302212
    Test::Harness       3.52    
    Test::More          1.302212
    YAML                1.21    
    YAML::Syck          1.34    
    version             0.9917  


--

Summary of my perl5 (revision 5 version 22 subversion 3) configuration:
   
  Platform:
    osname=MSWin32, osvers=6.3, archname=MSWin32-x64-multi-thread
    uname='Win32 strawberry-perl 5.22.3.1 #1 Sun Jan 15 04:42:16 2017 x64'
    config_args='undef'
    hint=recommended, useposix=true, d_sigaction=undef
    useithreads=define, usemultiplicity=define
    use64bitint=define, use64bitall=undef, uselongdouble=undef
    usemymalloc=n, bincompat5005=undef
  Compiler:
    cc='gcc', ccflags =' -s -O2 -DWIN32 -DWIN64 -DCONSERVATIVE  -DPERL_TEXTMODE_SCRIPTS -DPERL_IMPLICIT_CONTEXT -DPERL_IMPLICIT_SYS -fwrapv -fno-strict-aliasing -mms-bitfields',
    optimize='-s -O2',
    cppflags='-DWIN32'
    ccversion='', gccversion='4.9.2', gccosandvers=''
    intsize=4, longsize=4, ptrsize=8, doublesize=8, byteorder=12345678, doublekind=3
    d_longlong=define, longlongsize=8, d_longdbl=define, longdblsize=16, longdblkind=3
    ivtype='long long', ivsize=8, nvtype='double', nvsize=8, Off_t='long long', lseeksize=8
    alignbytes=8, prototype=define
  Linker and Libraries:
    ld='g++', ldflags ='-s -L"C:\STRAWB~1\perl\lib\CORE" -L"C:\STRAWB~1\c\lib"'
    libpth=C:\STRAWB~1\c\lib C:\STRAWB~1\c\x86_64-w64-mingw32\lib C:\STRAWB~1\c\lib\gcc\x86_64-w64-mingw32\4.9.2
    libs=-lmoldname -lkernel32 -luser32 -lgdi32 -lwinspool -lcomdlg32 -ladvapi32 -lshell32 -lole32 -loleaut32 -lnetapi32 -luuid -lws2_32 -lmpr -lwinmm -lversion -lodbc32 -lodbccp32 -lcomctl32
    perllibs=-lmoldname -lkernel32 -luser32 -lgdi32 -lwinspool -lcomdlg32 -ladvapi32 -lshell32 -lole32 -loleaut32 -lnetapi32 -luuid -lws2_32 -lmpr -lwinmm -lversion -lodbc32 -lodbccp32 -lcomctl32
    libc=, so=dll, useshrplib=true, libperl=libperl522.a
    gnulibc_version=''
  Dynamic Linking:
    dlsrc=dl_win32.xs, dlext=xs.dll, d_dlsymun=undef, ccdlflags=' '
    cccdlflags=' ', lddlflags='-mdll -s -L"C:\STRAWB~1\perl\lib\CORE" -L"C:\STRAWB~1\c\lib"'


Characteristics of this binary (from libperl): 
  Compile-time options: HAS_TIMES HAVE_INTERP_INTERN MULTIPLICITY
                        PERLIO_LAYERS PERL_DONT_CREATE_GVSV
                        PERL_HASH_FUNC_ONE_AT_A_TIME_HARD
                        PERL_IMPLICIT_CONTEXT PERL_IMPLICIT_SYS
                        PERL_MALLOC_WRAP PERL_NEW_COPY_ON_WRITE
                        PERL_PRESERVE_IVUV USE_64_BIT_INT USE_ITHREADS
                        USE_LARGE_FILES USE_LOCALE USE_LOCALE_COLLATE
                        USE_LOCALE_CTYPE USE_LOCALE_NUMERIC USE_LOCALE_TIME
                        USE_PERLIO USE_PERL_ATOF
  Built under MSWin32
  Compiled at Jan 15 2017 04:47:34
  %ENV:
    PERL5_CPANPLUS_IS_RUNNING="7984"
    PERL5_CPAN_IS_RUNNING="7984"
    PERL5_CPAN_IS_RUNNING_IN_RECURSION="1348,7984"
    PERL_CR_SMOKER_CURRENT="App-perlimports-0.000057"
    PERL_EXTUTILS_AUTOINSTALL="--defaultdeps"
    PERL_MM_USE_DEFAULT="1"
  @INC:
    C:/Strawberry/perl/site/lib
    C:/Strawberry/perl/vendor/lib
    C:/Strawberry/perl/lib
    .