Report for Curses-UI-0.9607

Back
From: metabase:user:320bfe00-2aae-11df-837a-5e0a49663a4f
Subject: PASS Curses-UI-0.9607 v5.8.4 GNU/Linux
Date: 2011-03-01T21:04:45Z

This distribution has been tested as part of the CPAN Testers
project, supporting the Perl programming language.  See
http://wiki.cpantesters.org/ for more information or email
questions to cpan-testers-discuss@perl.org


--
Dear Shawn Boyette,

This is a computer-generated report for Curses-UI-0.9607
on perl 5.8.4, created by CPAN-Reporter-1.1902.

Thank you for uploading your work to CPAN.  Congratulations!
All tests were successful.

Sections of this report:

    * Tester comments
    * Program output
    * Prerequisites
    * Environment and other context

------------------------------
TESTER COMMENTS
------------------------------

Additional comments from tester:

this report is from an automated smoke testing program
and was not reviewed by a human for accuracy

------------------------------
PROGRAM OUTPUT
------------------------------

Output from '/usr/bin/make test':

/home/src/perl/repoperls/installed-perls/perl/perl-5.8.4/bin/perl "-Iinc" Makefile.PL --config= --installdeps=Curses,0
Cannot determine perl version info from lib/Curses/UI.pm
WARNING: 'All rights reserved' in copyright may invalidate Open Source license.
PERL_DL_NONLAZY=1 /home/src/perl/repoperls/installed-perls/perl/perl-5.8.4/bin/perl "-MExtUtils::Command::MM" "-e" "test_harness(0, 'inc', 'blib/lib', 'blib/arch')" t/01base_classes.t t/02widget_classes.t t/03dialog_classes.t t/04language_classes.t t/05pod.t t/06ui.t t/07widget.t t/08common.t t/09label.t t/10texteditor.t t/11listbox.t t/12gpm_handler.t t/13notebook.t t/99misc.t
t/01base_classes.t ...... ok
t/02widget_classes.t .... ok
t/03dialog_classes.t .... ok
t/04language_classes.t .. ok
t/05pod.t ............... ok
t/06ui.t ................ ok
t/07widget.t ............ ok
t/08common.t ............ ok
t/09label.t ............. ok
t/10texteditor.t ........ ok
t/11listbox.t ........... ok
t/12gpm_handler.t ....... ok
t/13notebook.t .......... ok
t/99misc.t .............. ok
All tests successful.
Files=14, Tests=169,  3 wallclock secs ( 0.10 usr  0.02 sys +  1.94 cusr  0.24 csys =  2.30 CPU)
Result: PASS

------------------------------
PREREQUISITES
------------------------------

Prerequisite modules loaded:

requires:

    Module              Need Have
    ------------------- ---- ----
    Curses              0    1.28
    ExtUtils::MakeMaker 6.56 6.56
    Term::ReadKey       0    2.30


------------------------------
ENVIRONMENT AND OTHER CONTEXT
------------------------------

Environment variables:

    AUTOMATED_TESTING = 1
    LANG = en_US.UTF-8
    LC_TIME = de_DE.utf8
    PATH = /home/sand/bin:/usr/local/bin:/usr/bin:/bin:/usr/bin/X11:/usr/games:/usr/local/perl/bin:/usr/X11/bin:/sbin:/usr/sbin
    PERL5LIB = 
    PERL5OPT = 
    PERL5_CPANPLUS_IS_RUNNING = 19094
    PERL5_CPAN_IS_RUNNING = 19094
    PERL_MM_USE_DEFAULT = 1
    SHELL = /usr/bin/zsh
    TERM = screen

Perl special variables (and OS-specific diagnostics, for MSWin32):

    $^X = /home/src/perl/repoperls/installed-perls/perl/perl-5.8.4/bin/perl
    $UID/$EUID = 1001 / 1001
    $GID = 1001 1001
    $EGID = 1001 1001

Perl module toolchain versions installed:

    Module              Have    
    ------------------- --------
    CPAN                1.9402  
    Cwd                 3.33    
    ExtUtils::CBuilder  0.280202
    ExtUtils::Command   1.16    
    ExtUtils::Install   1.54    
    ExtUtils::MakeMaker 6.56    
    ExtUtils::Manifest  1.58    
    ExtUtils::ParseXS   2.2206  
    File::Spec          3.33    
    Module::Build       0.37_05 
    Module::Signature   0.66    
    Test::Harness       3.23    
    Test::More          2.00_07 
    YAML                0.72    
    YAML::Syck          1.17    
    version             0.88    


--

Summary of my perl5 (revision 5 version 8 subversion 4) configuration:
  Platform:
    osname=linux, osvers=2.6.32-5-xen-amd64, archname=x86_64-linux-ld
    uname='linux k81 2.6.32-5-xen-amd64 #1 smp wed jan 12 05:46:49 utc 2011 x86_64 gnulinux '
    config_args='-Dprefix=/home/src/perl/repoperls/installed-perls/perl/perl-5.8.4 -Dinstallusrbinperl=n -Uversiononly -Dusedevel -des -Ui_db -Uuseithreads -Duselongdouble'
    hint=recommended, useposix=true, d_sigaction=define
    usethreads=undef use5005threads=undef useithreads=undef usemultiplicity=undef
    useperlio=define d_sfio=undef uselargefiles=define usesocks=undef
    use64bitint=define use64bitall=define uselongdouble=define
    usemymalloc=n, bincompat5005=undef
  Compiler:
    cc='cc', ccflags ='-fno-strict-aliasing -I/usr/local/include -D_LARGEFILE_SOURCE -D_FILE_OFFSET_BITS=64',
    optimize='-O2',
    cppflags='-fno-strict-aliasing -I/usr/local/include'
    ccversion='', gccversion='4.4.5', gccosandvers=''
    intsize=4, longsize=8, ptrsize=8, doublesize=8, byteorder=12345678
    d_longlong=define, longlongsize=8, d_longdbl=define, longdblsize=16
    ivtype='long', ivsize=8, nvtype='long double', nvsize=16, Off_t='off_t', lseeksize=8
    alignbytes=16, prototype=define
  Linker and Libraries:
    ld='cc', ldflags =' -L/usr/local/lib'
    libpth=/usr/local/lib /lib /usr/lib
    libs=-lnsl -lgdbm -ldb -ldl -lm -lcrypt -lutil -lc
    perllibs=-lnsl -ldl -lm -lcrypt -lutil -lc
    libc=/lib/libc-2.11.2.so, so=so, useshrplib=false, libperl=libperl.a
    gnulibc_version='2.11.2'
  Dynamic Linking:
    dlsrc=dl_dlopen.xs, dlext=so, d_dlsymun=undef, ccdlflags='-Wl,-E'
    cccdlflags='-fpic', lddlflags='-shared -L/usr/local/lib'


Characteristics of this binary (from libperl): 
  Compile-time options: USE_64_BIT_INT USE_64_BIT_ALL USE_LONG_DOUBLE USE_LARGE_FILES
  Locally applied patches:
  	22701
  Built under linux
  Compiled at Feb 19 2011 11:38:43
  %ENV:
    PERL5LIB=""
    PERL5OPT=""
    PERL5_CPANPLUS_IS_RUNNING="19094"
    PERL5_CPAN_IS_RUNNING="19094"
    PERL_MM_USE_DEFAULT="1"
  @INC:
    /home/src/perl/repoperls/installed-perls/perl/perl-5.8.4/lib/5.8.4/x86_64-linux-ld
    /home/src/perl/repoperls/installed-perls/perl/perl-5.8.4/lib/5.8.4
    /home/src/perl/repoperls/installed-perls/perl/perl-5.8.4/lib/site_perl/5.8.4/x86_64-linux-ld
    /home/src/perl/repoperls/installed-perls/perl/perl-5.8.4/lib/site_perl/5.8.4
    /home/src/perl/repoperls/installed-perls/perl/perl-5.8.4/lib/site_perl
    .