Report for lib-remote-0.11

Back
From: metabase:user:9c36dc84-a30f-11e0-a9fc-0a18abbd4f2f
Subject: PASS lib-remote-0.11 v5.20.2 OpenBSD
Date: 2016-07-28T01:13:47Z

This distribution has been tested as part of the CPAN Testers
project, supporting the Perl programming language.  See
http://wiki.cpantesters.org/ for more information or email
questions to cpan-testers-discuss@perl.org


--
Dear Mikhail Che,

This is a computer-generated report for lib-remote-0.11
on perl 5.20.2, created by CPAN-Reporter-1.2018.

Thank you for uploading your work to CPAN.  Congratulations!
All tests were successful.

Sections of this report:

    * Tester comments
    * Program output
    * Prerequisites
    * Environment and other context

------------------------------
TESTER COMMENTS
------------------------------

Additional comments from tester:

this report is from an automated smoke testing program
and was not reviewed by a human for accuracy

------------------------------
PROGRAM OUTPUT
------------------------------

Output from './Build test':

Smartmatch is experimental at /var/cpan/lib-remote-0.11-0/blib/lib/lib/remote.pm line 133.
Smartmatch is experimental at /var/cpan/lib-remote-0.11-0/blib/lib/lib/remote.pm line 140.
# Testing lib::remote 0.11, Perl 5.020002, /usr/bin/perl
t/00-load.t ....... ok
Smartmatch is experimental at /var/cpan/lib-remote-0.11-0/blib/lib/lib/remote.pm line 133.
Smartmatch is experimental at /var/cpan/lib-remote-0.11-0/blib/lib/lib/remote.pm line 140.
Module::Stubber: Can't locate Unavailable/Module/As/Stub.pm in @INC (you may need to install the Unavailable::Module::As::Stub module) (@INC contains: /var/cpan/lib-remote-0.11-0/blib/lib /var/cpan/lib-remote-0.11-0/blib/arch /home/arfreitas/perl5/lib/perl5/5.20.2/amd64-openbsd /home/arfreitas/perl5/lib/perl5/5.20.2/amd64-openbsd /home/arfreitas/perl5/lib/perl5/5.20.2 /home/arfreitas/perl5/lib/perl5/amd64-openbsd /home/arfreitas/perl5/lib/perl5/5.20.2/amd64-openbsd /home/arfreitas/perl5/lib/perl5/5.20.2 /home/arfreitas/perl5/lib/perl5/amd64-openbsd /home/arfreitas/perl5/lib/perl5 /home/arfreitas/perl5/lib/perl5/5.20.2/amd64-openbsd /home/arfreitas/perl5/lib/perl5/5.20.2 /home/arfreitas/perl5/lib/perl5/amd64-openbsd /home/arfreitas/perl5/lib/perl5 /usr/local/libdata/perl5/site_perl/amd64-openbsd /usr/libdata/perl5/site_perl/amd64-openbsd /usr/local/libdata/perl5/site_perl /usr/libdata/perl5/site_perl /usr/libdata/perl5/amd64-openbsd/5.20.2 /usr/local/libdata/perl5/amd64-openbsd/5.20.2 /usr/libdata/perl5 /usr/local/libdata/perl5 CODE(0x97c478bde80)) at /loader/0x97c478bde80/Module::Stubber line 85.
Subroutine _can_warn redefined at /loader/0x97c478bde80/Module/Stubber.pm line 20.
Subroutine AUTOLOAD redefined at /loader/0x97c478bde80/Module/Stubber.pm line 26.
Subroutine new redefined at /loader/0x97c478bde80/Module/Stubber.pm line 44.
Subroutine import redefined at /loader/0x97c478bde80/Module/Stubber.pm line 52.
Subroutine import redefined at /loader/0x97c478bde80/Module/Stubber.pm line 73.
Module::Stubber: Can't locate Unavailable/Module/As/Stub2.pm in @INC (you may need to install the Unavailable::Module::As::Stub2 module) (@INC contains: /var/cpan/lib-remote-0.11-0/blib/lib /var/cpan/lib-remote-0.11-0/blib/arch /home/arfreitas/perl5/lib/perl5/5.20.2/amd64-openbsd /home/arfreitas/perl5/lib/perl5/5.20.2/amd64-openbsd /home/arfreitas/perl5/lib/perl5/5.20.2 /home/arfreitas/perl5/lib/perl5/amd64-openbsd /home/arfreitas/perl5/lib/perl5/5.20.2/amd64-openbsd /home/arfreitas/perl5/lib/perl5/5.20.2 /home/arfreitas/perl5/lib/perl5/amd64-openbsd /home/arfreitas/perl5/lib/perl5 /home/arfreitas/perl5/lib/perl5/5.20.2/amd64-openbsd /home/arfreitas/perl5/lib/perl5/5.20.2 /home/arfreitas/perl5/lib/perl5/amd64-openbsd /home/arfreitas/perl5/lib/perl5 /usr/local/libdata/perl5/site_perl/amd64-openbsd /usr/libdata/perl5/site_perl/amd64-openbsd /usr/local/libdata/perl5/site_perl /usr/libdata/perl5/site_perl /usr/libdata/perl5/amd64-openbsd/5.20.2 /usr/local/libdata/perl5/amd64-openbsd/5.20.2 /usr/libdata/perl5 /usr/local/libdata/perl5 CODE(0x97c478bde80)) at /loader/0x97c478bde80/Module/Stubber.pm line 85.
Runtime start at t/01-use.t line 11.
*** 'Unavailable::Module::As::Stub::new' requested at t/01-use.t:23
*** This symbol does not really exist, and has been
*** implemented as a stub by Module::Stubber.
*** Depending on how important
*** this function is, this program may not function
*** correctly. This message will only display once.
lib::remote->import: incoming args = [ XXX HASH(0x97c8d3ac760) ] at t/01-use.t line 53.
lib::remote->INC_dispatcher: try dispatch of [XXX][path=XXX.pm][arg=XXX]] at t/01-use.t line 53.
lib::remote->INC_dispatcher: try dispatch of [Encode::ConfigLocal][path=Encode/ConfigLocal.pm][arg=Encode/ConfigLocal.pm]] at /home/arfreitas/perl5/lib/perl5/amd64-openbsd/Encode.pm line 59.
lib::remote->INC_dispatcher: success LWP get content [XXX] by url=[ http://api.metacpan.org/source/INGY/XXX-0.18/lib/XXX.pm ] at t/01-use.t line 53.
lib::remote->import: success done [require XXX]
 at t/01-use.t line 53.
lib::remote->import: success done [XXX->import(-with Data::Dumper)]
 at t/01-use.t line 53.
Load the remote module: XXX at t/01-use.t line 53.
lib::remote->import: incoming args = [ Scalar::Random::PP HASH(0x97c23170e68) ] at t/01-use.t line 60.
lib::remote->INC_dispatcher: try dispatch of [Scalar::Random::PP][path=Scalar/Random/PP.pm][arg=Scalar::Random::PP]] at t/01-use.t line 60.
lib::remote->INC_dispatcher: success LWP get content [Scalar::Random::PP] by url [ http://api.metacpan.org/source/INGY/Scalar-Random-PP-0.11/lib/Scalar/Random/PP.pm ] at t/01-use.t line 60.
lib::remote->INC_dispatcher: try dispatch of [Scalar::Random::PP::OO][path=Scalar/Random/PP/OO.pm][arg=Scalar/Random/PP/OO.pm]] at /loader/0x97c478bde80/Scalar::Random::PP line 2.
lib::remote->INC_dispatcher: success LWP get content [Scalar::Random::PP::OO] by url [ http://api.metacpan.org/source/INGY/Scalar-Random-PP-0.11/lib/Scalar/Random/PP/OO.pm ] at /loader/0x97c478bde80/Scalar::Random::PP line 2.
lib::remote->import: success done [require Scalar::Random::PP]
 at t/01-use.t line 60.
# Testing lib::remote Module::Stubber(0.03)=[Unavailable::Module::As::Stub=SCALAR(0x97cedc4b9a0)]&[Unavailable::Module::As::Stub2=SCALAR(0x97d17e62928)] Module::Hash(0.002)::Math::BigInt=[154919371] Scalar::Random::PP->randomize(1000)=[219]
Runtime stop at t/01-use.t line 72.
t/01-use.t ........ ok
t/boilerplate.t ... ok
t/manifest.t ...... skipped: Author tests not required for installation
Smartmatch is experimental at /var/cpan/lib-remote-0.11-0/blib/lib/lib/remote.pm line 133.
Smartmatch is experimental at /var/cpan/lib-remote-0.11-0/blib/lib/lib/remote.pm line 140.
t/pod-coverage.t .. ok
t/pod.t ........... ok
All tests successful.

Test Summary Report
-------------------
t/boilerplate.t (Wstat: 0 Tests: 3 Failed: 0)
  TODO passed:   1, 3
Files=6, Tests=8,  8 wallclock secs ( 0.04 usr  0.08 sys +  0.69 cusr  0.59 csys =  1.40 CPU)
Result: PASS

------------------------------
PREREQUISITES
------------------------------

Prerequisite modules loaded:

requires:

    Module         Need  Have    
    -------------- ----- --------
    LWP::UserAgent 0     6.15    
    perl           5.006 5.020002

build_requires:

    Module         Need  Have    
    -------------- ----- --------
    Test::More     0     1.302045

configure_requires:

    Module         Need  Have    
    -------------- ----- --------
    Module::Build  0.40  0.4218  


------------------------------
ENVIRONMENT AND OTHER CONTEXT
------------------------------

Environment variables:

    AUTOMATED_TESTING = 1
    PATH = /home/arfreitas/bin:/home/arfreitas/perl5/bin:/usr/bin:/bin:/usr/sbin:/sbin:/usr/X11R6/bin:/usr/local/bin:/usr/local/sbin
    PERL5LIB = /home/arfreitas/perl5/lib/perl5
    PERL5OPT = 
    PERL5_CPANPLUS_IS_RUNNING = 12045
    PERL5_CPAN_IS_RUNNING = 12045
    PERL5_CPAN_IS_RUNNING_IN_RECURSION = 450,12045
    PERL_CR_SMOKER_CURRENT = lib-remote-0.11
    PERL_EXTUTILS_AUTOINSTALL = --defaultdeps
    PERL_LOCAL_LIB_ROOT = /home/arfreitas/perl5
    PERL_MB_OPT = --install_base "/home/arfreitas/perl5"
    PERL_MM_OPT = INSTALL_BASE=/home/arfreitas/perl5
    PERL_MM_USE_DEFAULT = 1
    SHELL = /usr/local/bin/bash
    TERM = vt220

Perl special variables (and OS-specific diagnostics, for MSWin32):

    $^X = /usr/bin/perl
    $UID/$EUID = 1000 / 1000
    $GID = 1000 1000 0
    $EGID = 1000 1000 0

Perl module toolchain versions installed:

    Module              Have    
    ------------------- --------
    CPAN                2.15    
    CPAN::Meta          2.150009
    Cwd                 3.62    
    ExtUtils::CBuilder  0.280224
    ExtUtils::Command   7.19_06 
    ExtUtils::Install   2.04    
    ExtUtils::MakeMaker 7.19_06 
    ExtUtils::Manifest  1.70    
    ExtUtils::ParseXS   3.30    
    File::Spec          3.62    
    JSON                2.90    
    JSON::PP            2.27400 
    Module::Build       0.4218  
    Module::Signature   n/a     
    Parse::CPAN::Meta   1.4422  
    Test::Harness       3.36    
    Test::More          1.302045
    YAML                1.18    
    YAML::Syck          1.29    
    version             0.9912  


--

Summary of my perl5 (revision 5 version 20 subversion 2) configuration:
   
  Platform:
    osname=openbsd, osvers=5.9, archname=amd64-openbsd
    uname='openbsd'
    config_args='-dsE -Dopenbsd_distribution=defined -Dccflags=-DNO_LOCALE_NUMERIC -DNO_LOCALE_COLLATE -Dmksymlinks'
    hint=recommended, useposix=true, d_sigaction=define
    useithreads=undef, usemultiplicity=undef
    use64bitint=define, use64bitall=define, uselongdouble=undef
    usemymalloc=n, bincompat5005=undef
  Compiler:
    cc='cc', ccflags ='-DNO_LOCALE_NUMERIC -DNO_LOCALE_COLLATE -fno-strict-aliasing -fno-delete-null-pointer-checks -pipe -fstack-protector -I/usr/local/include',
    optimize='-O2',
    cppflags='-DNO_LOCALE_NUMERIC -DNO_LOCALE_COLLATE -fno-strict-aliasing -fno-delete-null-pointer-checks -pipe -fstack-protector -I/usr/local/include'
    ccversion='', gccversion='4.2.1 20070719 ', gccosandvers='openbsd5.9'
    intsize=4, longsize=8, ptrsize=8, doublesize=8, byteorder=12345678
    d_longlong=define, longlongsize=8, d_longdbl=define, longdblsize=16
    ivtype='long', ivsize=8, nvtype='double', nvsize=8, Off_t='off_t', lseeksize=8
    alignbytes=8, prototype=define
  Linker and Libraries:
    ld='cc', ldflags ='-Wl,-E  -fstack-protector -L/usr/local/lib'
    libpth=/usr/lib /usr/local/lib
    libs=-lm -lutil -lc
    perllibs=-lm -lutil -lc
    libc=/usr/lib/libc.a, so=so, useshrplib=true, libperl=libperl.so.17.1
    gnulibc_version=''
  Dynamic Linking:
    dlsrc=dl_dlopen.xs, dlext=so, d_dlsymun=undef, ccdlflags='-Wl,-R/usr/libdata/perl5/amd64-openbsd/5.20.2/CORE'
    cccdlflags='-DPIC -fPIC ', lddlflags='-shared -fPIC  -fstack-protector -L/usr/local/lib'


Characteristics of this binary (from libperl): 
  Compile-time options: HAS_TIMES PERLIO_LAYERS PERL_DONT_CREATE_GVSV
                        PERL_HASH_FUNC_ONE_AT_A_TIME_HARD PERL_MALLOC_WRAP
                        PERL_NEW_COPY_ON_WRITE PERL_PRESERVE_IVUV
                        USE_64_BIT_ALL USE_64_BIT_INT USE_LARGE_FILES
                        USE_LOCALE USE_LOCALE_CTYPE USE_PERLIO USE_PERL_ATOF
  Built under openbsd
  Compiled at Feb 26 2016 01:02:08
  %ENV:
    PERL5LIB="/home/arfreitas/perl5/lib/perl5"
    PERL5OPT=""
    PERL5_CPANPLUS_IS_RUNNING="12045"
    PERL5_CPAN_IS_RUNNING="12045"
    PERL5_CPAN_IS_RUNNING_IN_RECURSION="450,12045"
    PERL_CR_SMOKER_CURRENT="lib-remote-0.11"
    PERL_EXTUTILS_AUTOINSTALL="--defaultdeps"
    PERL_LOCAL_LIB_ROOT="/home/arfreitas/perl5"
    PERL_MB_OPT="--install_base "/home/arfreitas/perl5""
    PERL_MM_OPT="INSTALL_BASE=/home/arfreitas/perl5"
    PERL_MM_USE_DEFAULT="1"
  @INC:
    /home/arfreitas/perl5/lib/perl5/5.20.2/amd64-openbsd
    /home/arfreitas/perl5/lib/perl5/5.20.2
    /home/arfreitas/perl5/lib/perl5/amd64-openbsd
    /home/arfreitas/perl5/lib/perl5
    /usr/local/libdata/perl5/site_perl/amd64-openbsd
    /usr/libdata/perl5/site_perl/amd64-openbsd
    /usr/local/libdata/perl5/site_perl
    /usr/libdata/perl5/site_perl
    /usr/libdata/perl5/amd64-openbsd/5.20.2
    /usr/local/libdata/perl5/amd64-openbsd/5.20.2
    /usr/libdata/perl5
    /usr/local/libdata/perl5
    .