FFI-Platypus-Lang-Rust v0.17 Perl 5 v5.40.1 riscv64-linux-thread-multi

Status
Pass
From
David Cantrell (DCANTRELL)
Dist
FFI-Platypus-Lang-Rust v0.17
Platform
Perl 5 v5.40.1 riscv64-linux-thread-multi
Date
2025-04-18 21:10:20
ID
892a6aa8-1c99-11f0-a87a-b9536a40e7f4
This distribution has been tested as part of the CPAN Testers
project, supporting the Perl programming language.  See
http://wiki.cpantesters.org/ for more information or email
questions to cpan-testers-discuss@perl.org


--
Dear Graham Ollis,

This is a computer-generated report for FFI-Platypus-Lang-Rust-0.17
on perl 5.40.1, created by CPAN-Reporter-1.2020.

Thank you for uploading your work to CPAN.  Congratulations!
All tests were successful.

Sections of this report:

    * Tester comments
    * Program output
    * Prerequisites
    * Environment and other context

------------------------------
TESTER COMMENTS
------------------------------

Additional comments from tester:

this report is from an automated smoke testing program
and was not reviewed by a human for accuracy

------------------------------
PROGRAM OUTPUT
------------------------------

Output from '/usr/bin/make test':

PERL_DL_NONLAZY=1 "/home/cpantesting/cpantesting/perl-5.40.1-threads/bin/perl" "-MExtUtils::Command::MM" "-MTest::Harness" "-e" "undef *Test::Harness::Switches; test_harness(0, 'blib/lib', 'blib/arch')" t/*.t
# 
# 
# 
# HARNESS_ACTIVE=1
# HARNESS_VERSION=3.48
# LANG=en_US.UTF-8
# LC_TERMINAL=iTerm2
# LC_TERMINAL_VERSION=3.5.11
# PERL="/home/cpantesting/cpantesting/perl-5.40.1-threads/bin/perl"
# PERL5LIB=/home/cpantesting/cpantesting/perl-5.40.1-threads/.cpan/build/FFI-Platypus-Lang-Rust-0.17-0/blib/lib:/home/cpantesting/cpantesting/perl-5.40.1-threads/.cpan/build/FFI-Platypus-Lang-Rust-0.17-0/blib/arch:
# PERL5OPT=
# PERL5_CPANPLUS_IS_RUNNING=147883
# PERL5_CPAN_IS_RUNNING=147883
# PERLVER=5.40.1-threads
# PERL_DL_NONLAZY=1
# PERL_INLINE_DIRECTORY=/home/cpantesting/.Inline-5.40.1-threads
# PERL_MM_USE_DEFAULT=1
# PERL_USE_UNSAFE_INC=0
# SHELL=/bin/bash
# 
# 
# 
# PERL5LIB path
# /home/cpantesting/cpantesting/perl-5.40.1-threads/.cpan/build/FFI-Platypus-Lang-Rust-0.17-0/blib/lib
# /home/cpantesting/cpantesting/perl-5.40.1-threads/.cpan/build/FFI-Platypus-Lang-Rust-0.17-0/blib/arch
# 
# 
# 
# perl                   5.040001 linux riscv64-linux-thread-multi
# Alien::Rust            0.03
# Capture::Tiny          0.50
# Env::ShellWords        0.02
# ExtUtils::MakeMaker    7.70
# FFI::Build::File::Base 2.10
# FFI::Build::MM         2.10
# FFI::CheckLib          0.31
# FFI::Platypus          2.10
# File::Which            1.27
# File::chdir            0.1011
# Path::Tiny             0.148
# Test2::V0              0.000162
# Test::Script           1.29
# 
# 
# 
t/00_diag.t ................. ok
t/02_types.t ................ ok
t/example.t ................. ok
t/example__person.t ......... ok
t/ffi_build_file_cargo.t .... ok
t/ffi_platypus_lang_rust.t .. ok
All tests successful.
Files=6, Tests=10, 33 wallclock secs ( 0.16 usr  0.04 sys + 24.55 cusr  7.05 csys = 31.80 CPU)
Result: PASS

------------------------------
PREREQUISITES
------------------------------

Prerequisite modules loaded:

requires:

    Module                 Need     Have    
    ---------------------- -------- --------
    base                   0        2.27    
    Env::ShellWords        0        0.02    
    FFI::Build::File::Base 1.00     2.10    
    FFI::CheckLib          0.11     0.31    
    FFI::Platypus          0        2.10    
    File::chdir            0        0.1011  
    File::Which            0        1.27    
    Path::Tiny             0        0.148   
    perl                   5.008001 5.040001

build_requires:

    Module                 Need     Have    
    ---------------------- -------- --------
    Capture::Tiny          0        0.50    
    ExtUtils::MakeMaker    0        7.70    
    Test2::V0              0.000121 0.000162
    Test::Script           0        1.29    

configure_requires:

    Module                 Need     Have    
    ---------------------- -------- --------
    ExtUtils::MakeMaker    6.64     7.70    
    FFI::Build::MM         1.00     2.10    
    FFI::CheckLib          0.11     0.31    
    File::chdir            0        0.1011  
    File::Which            0        1.27    
    Path::Tiny             0        0.148   
    perl                   5.008001 5.040001


------------------------------
ENVIRONMENT AND OTHER CONTEXT
------------------------------

Environment variables:

    AUTOMATED_TESTING = 1
    LANG = en_US.UTF-8
    LC_TERMINAL = iTerm2
    LC_TERMINAL_VERSION = 3.5.11
    NONINTERACTIVE_TESTING = 1
    PATH = /home/cpantesting/.cargo/bin:/usr/local/bin:/usr/bin:/bin:/usr/local/games:/usr/games:/snap/bin
    PERL = 5.40.1-threads
    PERL5LIB = 
    PERL5OPT = 
    PERL5_CPANPLUS_IS_RUNNING = 147883
    PERL5_CPAN_IS_RUNNING = 147883
    PERLVER = 5.40.1-threads
    PERL_INLINE_DIRECTORY = /home/cpantesting/.Inline-5.40.1-threads
    PERL_MM_USE_DEFAULT = 1
    PERL_USE_UNSAFE_INC = 0
    SHELL = /bin/bash
    TERM = screen

Perl special variables (and OS-specific diagnostics, for MSWin32):

    $^X = /home/cpantesting/cpantesting/perl-5.40.1-threads/bin/perl
    $UID/$EUID = 1002 / 1002
    $GID = 1002 100 1002
    $EGID = 1002 100 1002

Perl module toolchain versions installed:

    Module              Have    
    ------------------- --------
    CPAN                2.38    
    CPAN::Meta          2.150010
    Cwd                 3.91    
    ExtUtils::CBuilder  0.280240
    ExtUtils::Command   7.70    
    ExtUtils::Install   2.22    
    ExtUtils::MakeMaker 7.70    
    ExtUtils::Manifest  1.75    
    ExtUtils::ParseXS   3.51    
    File::Spec          3.91    
    JSON                4.10    
    JSON::PP            4.16    
    Module::Build       0.4234  
    Module::Signature   0.89    
    Parse::CPAN::Meta   2.150010
    Test2               1.302199
    Test::Harness       3.48    
    Test::More          1.302199
    YAML                1.31    
    YAML::Syck          n/a     
    version             0.9930  


--

Summary of my perl5 (revision 5 version 40 subversion 1) configuration:
   
  Platform:
    osname=linux
    osvers=5.10.113-scw1
    archname=riscv64-linux-thread-multi
    uname='linux plough 5.10.113-scw1 #1 smp preempt fri jul 12 15:31:22 utc 2024 riscv64 gnulinux '
    config_args='-de -Dusethreads -Dprefix=/home/cpantesting/cpantesting/perl-5.40.1-threads'
    hint=recommended
    useposix=true
    d_sigaction=define
    useithreads=define
    usemultiplicity=define
    use64bitint=define
    use64bitall=define
    uselongdouble=undef
    usemymalloc=n
    default_inc_excludes_dot=define
  Compiler:
    cc='cc'
    ccflags ='-D_REENTRANT -D_GNU_SOURCE -fwrapv -fno-strict-aliasing -pipe -fstack-protector-strong -I/usr/local/include -D_LARGEFILE_SOURCE -D_FILE_OFFSET_BITS=64 -D_FORTIFY_SOURCE=2'
    optimize='-O2'
    cppflags='-D_REENTRANT -D_GNU_SOURCE -fwrapv -fno-strict-aliasing -pipe -fstack-protector-strong -I/usr/local/include'
    ccversion=''
    gccversion='14.2.0'
    gccosandvers=''
    intsize=4
    longsize=8
    ptrsize=8
    doublesize=8
    byteorder=12345678
    doublekind=3
    d_longlong=define
    longlongsize=8
    d_longdbl=define
    longdblsize=16
    longdblkind=1
    ivtype='long'
    ivsize=8
    nvtype='double'
    nvsize=8
    Off_t='off_t'
    lseeksize=8
    alignbytes=8
    prototype=define
  Linker and Libraries:
    ld='cc'
    ldflags =' -fstack-protector-strong -L/usr/local/lib'
    libpth=/usr/local/lib /usr/lib/riscv64-linux-gnu /usr/lib
    libs=-lpthread -ldl -lm -lcrypt -lutil -lc
    perllibs=-lpthread -ldl -lm -lcrypt -lutil -lc
    libc=/lib/riscv64-linux-gnu/libc.so.6
    so=so
    useshrplib=false
    libperl=libperl.a
    gnulibc_version='2.41'
  Dynamic Linking:
    dlsrc=dl_dlopen.xs
    dlext=so
    d_dlsymun=undef
    ccdlflags='-Wl,-E'
    cccdlflags='-fPIC'
    lddlflags='-shared -O2 -L/usr/local/lib -fstack-protector-strong'


Characteristics of this binary (from libperl): 
  Compile-time options:
    HAS_LONG_DOUBLE
    HAS_STRTOLD
    HAS_TIMES
    MULTIPLICITY
    PERLIO_LAYERS
    PERL_COPY_ON_WRITE
    PERL_DONT_CREATE_GVSV
    PERL_HASH_FUNC_SIPHASH13
    PERL_HASH_USE_SBOX32
    PERL_MALLOC_WRAP
    PERL_OP_PARENT
    PERL_PRESERVE_IVUV
    PERL_USE_SAFE_PUTENV
    USE_64_BIT_ALL
    USE_64_BIT_INT
    USE_ITHREADS
    USE_LARGE_FILES
    USE_LOCALE
    USE_LOCALE_COLLATE
    USE_LOCALE_CTYPE
    USE_LOCALE_NUMERIC
    USE_LOCALE_TIME
    USE_PERLIO
    USE_PERL_ATOF
    USE_REENTRANT_API
    USE_THREAD_SAFE_LOCALE
  Built under linux
  Compiled at Mar 18 2025 13:52:44
  %ENV:
    PERL="5.40.1-threads"
    PERL5LIB=""
    PERL5OPT=""
    PERL5_CPANPLUS_IS_RUNNING="147883"
    PERL5_CPAN_IS_RUNNING="147883"
    PERLVER="5.40.1-threads"
    PERL_INLINE_DIRECTORY="/home/cpantesting/.Inline-5.40.1-threads"
    PERL_MM_USE_DEFAULT="1"
    PERL_USE_UNSAFE_INC="0"
  @INC:
    /home/cpantesting/cpantesting/perl-5.40.1-threads/lib/site_perl/5.40.1/riscv64-linux-thread-multi
    /home/cpantesting/cpantesting/perl-5.40.1-threads/lib/site_perl/5.40.1
    /home/cpantesting/cpantesting/perl-5.40.1-threads/lib/5.40.1/riscv64-linux-thread-multi
    /home/cpantesting/cpantesting/perl-5.40.1-threads/lib/5.40.1