Report for HTML-Widgets-Index-0.61

Back
From: metabase:user:320bfe00-2aae-11df-837a-5e0a49663a4f
Subject: PASS HTML-Widgets-Index-0.61 v5.8.9 GNU/Linux
Date: 2010-10-04T09:41:16Z

This distribution has been tested as part of the CPAN Testers
project, supporting the Perl programming language.  See
http://wiki.cpantesters.org/ for more information or email
questions to cpan-testers-discuss@perl.org


--
Dear Francesc Guasch,

This is a computer-generated report for HTML-Widgets-Index-0.61
on perl 5.8.9, created by CPAN-Reporter-1.1803.

Thank you for uploading your work to CPAN.  Congratulations!
All tests were successful.

Sections of this report:

    * Tester comments
    * Program output
    * Prerequisites
    * Environment and other context

------------------------------
TESTER COMMENTS
------------------------------

Additional comments from tester:

this report is from an automated smoke testing program
and was not reviewed by a human for accuracy

------------------------------
PROGRAM OUTPUT
------------------------------

Output from '/usr/bin/make test':

make[1]: Entering directory `/home/sand/.cpan/build/HTML-Widgets-Index-0.61-SvIkvk/Format'
make[2]: Entering directory `/home/sand/.cpan/build/HTML-Widgets-Index-0.61-SvIkvk/Format/Item'
make[2]: Leaving directory `/home/sand/.cpan/build/HTML-Widgets-Index-0.61-SvIkvk/Format/Item'
make[1]: Leaving directory `/home/sand/.cpan/build/HTML-Widgets-Index-0.61-SvIkvk/Format'
make[1]: Entering directory `/home/sand/.cpan/build/HTML-Widgets-Index-0.61-SvIkvk/Item'
make[1]: Leaving directory `/home/sand/.cpan/build/HTML-Widgets-Index-0.61-SvIkvk/Item'
make[1]: Entering directory `/home/sand/.cpan/build/HTML-Widgets-Index-0.61-SvIkvk/Javascript'
make[1]: Leaving directory `/home/sand/.cpan/build/HTML-Widgets-Index-0.61-SvIkvk/Javascript'
PERL_DL_NONLAZY=1 /usr/local/perl-5.8.9/bin/perl "-MExtUtils::Command::MM" "-e" "test_harness(0, 'blib/lib', 'blib/arch')" t/*.t
t/00_base.t ............. ok
DBI connect('test','',...) failed: Access denied for user 'sand'@'localhost' (using password: NO) at t/10_minim_mysql.t line 30

t/10_minim_mysql.t ...... skipped: (no reason given)
t/20_table_format.t ..... skipped: (no reason given)
t/25_table_js.t ......... skipped: (no reason given)
t/30_teleco.t ........... skipped: (no reason given)
t/32_teleco_children.t .. skipped: (no reason given)
t/35_teleco_js.t ........ skipped: (no reason given)
t/40_auth.t ............. skipped: (no reason given)
t/50_picoxova.t ......... skipped: TODO test #2
t/60_minixova.t ......... skipped: (no reason given)
t/70_nephews.t .......... skipped: TODO
t/99_clean.t ............ skipped: (no reason given)
All tests successful.
Files=12, Tests=1,  1 wallclock secs ( 0.05 usr  0.01 sys +  0.65 cusr  0.11 csys =  0.82 CPU)
Result: PASS
make[1]: Entering directory `/home/sand/.cpan/build/HTML-Widgets-Index-0.61-SvIkvk/Format'
make[2]: Entering directory `/home/sand/.cpan/build/HTML-Widgets-Index-0.61-SvIkvk/Format/Item'
make[2]: Leaving directory `/home/sand/.cpan/build/HTML-Widgets-Index-0.61-SvIkvk/Format/Item'
PERL_DL_NONLAZY=1 /usr/local/perl-5.8.9/bin/perl "-MExtUtils::Command::MM" "-e" "test_harness(0, '../blib/lib', '../blib/arch')" t/*.t
t/00_base.t .. ok
All tests successful.
Files=1, Tests=1,  0 wallclock secs ( 0.01 usr  0.01 sys +  0.01 cusr  0.00 csys =  0.03 CPU)
Result: PASS
PERL_DL_NONLAZY=1 /usr/local/perl-5.8.9/bin/perl "-I../blib/lib" "-I../blib/arch" test.pl
1..1
# Running under perl version 5.008009 for linux
# Current time local: Mon Oct  4 11:41:15 2010
# Current time GMT:   Mon Oct  4 09:41:15 2010
# Using Test.pm version 1.25_02
ok 1
make[2]: Entering directory `/home/sand/.cpan/build/HTML-Widgets-Index-0.61-SvIkvk/Format/Item'
PERL_DL_NONLAZY=1 /usr/local/perl-5.8.9/bin/perl "-MExtUtils::Command::MM" "-e" "test_harness(0, '../../blib/lib', '../../blib/arch')" t/*.t
t/00_base.t .. ok
All tests successful.
Files=1, Tests=1,  0 wallclock secs ( 0.02 usr +  0.00 sys =  0.02 CPU)
Result: PASS
PERL_DL_NONLAZY=1 /usr/local/perl-5.8.9/bin/perl "-I../../blib/lib" "-I../../blib/arch" test.pl
1..1
# Running under perl version 5.008009 for linux
# Current time local: Mon Oct  4 11:41:15 2010
# Current time GMT:   Mon Oct  4 09:41:15 2010
# Using Test.pm version 1.25_02
ok 1
make[2]: Leaving directory `/home/sand/.cpan/build/HTML-Widgets-Index-0.61-SvIkvk/Format/Item'
make[1]: Leaving directory `/home/sand/.cpan/build/HTML-Widgets-Index-0.61-SvIkvk/Format'
make[1]: Entering directory `/home/sand/.cpan/build/HTML-Widgets-Index-0.61-SvIkvk/Item'
PERL_DL_NONLAZY=1 /usr/local/perl-5.8.9/bin/perl "-MExtUtils::Command::MM" "-e" "test_harness(0, '../blib/lib', '../blib/arch')" t/*.t
t/00_base.t .. ok
All tests successful.
Files=1, Tests=2,  0 wallclock secs ( 0.02 usr +  0.00 sys =  0.02 CPU)
Result: PASS
make[1]: Leaving directory `/home/sand/.cpan/build/HTML-Widgets-Index-0.61-SvIkvk/Item'
make[1]: Entering directory `/home/sand/.cpan/build/HTML-Widgets-Index-0.61-SvIkvk/Javascript'
PERL_DL_NONLAZY=1 /usr/local/perl-5.8.9/bin/perl "-MExtUtils::Command::MM" "-e" "test_harness(0, '../blib/lib', '../blib/arch')" t/*.t
t/00_base.t .. ok
All tests successful.
Files=1, Tests=1,  0 wallclock secs ( 0.02 usr +  0.00 sys =  0.02 CPU)
Result: PASS
PERL_DL_NONLAZY=1 /usr/local/perl-5.8.9/bin/perl "-I../blib/lib" "-I../blib/arch" test.pl
1..1
ok 1
make[1]: Leaving directory `/home/sand/.cpan/build/HTML-Widgets-Index-0.61-SvIkvk/Javascript'

------------------------------
PREREQUISITES
------------------------------

Prerequisite modules loaded:

requires:

    Module              Need Have   
    ------------------- ---- -------
    DBD::mysql          0.01 4.017  
    HTTP::BrowserDetect 0.97 1.19   

configure_requires:

    Module              Need Have   
    ------------------- ---- -------
    ExtUtils::MakeMaker 0    6.57_05


------------------------------
ENVIRONMENT AND OTHER CONTEXT
------------------------------

Environment variables:

    AUTOMATED_TESTING = 1
    LANG = en_US.UTF-8
    PATH = /home/sand/bin:/usr/local/bin:/usr/bin:/bin:/usr/bin/X11:/usr/games:/usr/local/perl/bin:/usr/X11/bin:/sbin:/usr/sbin
    PERL5LIB = 
    PERL5OPT = 
    PERL5_CPANPLUS_IS_RUNNING = 30975
    PERL5_CPAN_IS_RUNNING = 30975
    PERL_MM_USE_DEFAULT = 1
    SHELL = /usr/bin/zsh
    TERM = screen

Perl special variables (and OS-specific diagnostics, for MSWin32):

    $^X = /usr/local/perl-5.8.9/bin/perl
    $UID/$EUID = 1001 / 1001
    $GID = 1001 1001
    $EGID = 1001 1001

Perl module toolchain versions installed:

    Module              Have   
    ------------------- -------
    CPAN                1.94_61
    Cwd                 3.33   
    ExtUtils::CBuilder  0.27_07
    ExtUtils::Command   1.16   
    ExtUtils::Install   1.54   
    ExtUtils::MakeMaker 6.57_05
    ExtUtils::Manifest  1.58   
    ExtUtils::ParseXS   2.2206 
    File::Spec          3.33   
    Module::Build       0.36_16
    Module::Signature   0.66   
    Test::Harness       3.23   
    Test::More          2.00_01
    YAML                0.72   
    YAML::Syck          1.15   
    version             0.82   


--

Summary of my perl5 (revision 5 version 8 subversion 9) configuration:
  Platform:
    osname=linux, osvers=2.6.26-1-amd64, archname=x86_64-linux
    uname='linux k81 2.6.26-1-amd64 #1 smp sat jan 10 17:57:00 utc 2009 x86_64 gnulinux '
    config_args='-Dprefix=/usr/local/perl-5.8.9 -des -Ui_db'
    hint=recommended, useposix=true, d_sigaction=define
    usethreads=undef use5005threads=undef useithreads=undef usemultiplicity=undef
    useperlio=define d_sfio=undef uselargefiles=define usesocks=undef
    use64bitint=define use64bitall=define uselongdouble=undef
    usemymalloc=n, bincompat5005=undef
  Compiler:
    cc='cc', ccflags ='-fno-strict-aliasing -pipe -I/usr/local/include -D_LARGEFILE_SOURCE -D_FILE_OFFSET_BITS=64',
    optimize='-O2',
    cppflags='-fno-strict-aliasing -pipe -I/usr/local/include'
    ccversion='', gccversion='4.3.2', gccosandvers=''
    intsize=4, longsize=8, ptrsize=8, doublesize=8, byteorder=12345678
    d_longlong=define, longlongsize=8, d_longdbl=define, longdblsize=16
    ivtype='long', ivsize=8, nvtype='double', nvsize=8, Off_t='off_t', lseeksize=8
    alignbytes=8, prototype=define
  Linker and Libraries:
    ld='cc', ldflags =' -L/usr/local/lib'
    libpth=/usr/local/lib /lib /usr/lib /lib64 /usr/lib64
    libs=-lnsl -lgdbm -ldb -ldl -lm -lcrypt -lutil -lc
    perllibs=-lnsl -ldl -lm -lcrypt -lutil -lc
    libc=/lib/libc-2.7.so, so=so, useshrplib=false, libperl=libperl.a
    gnulibc_version='2.7'
  Dynamic Linking:
    dlsrc=dl_dlopen.xs, dlext=so, d_dlsymun=undef, ccdlflags='-Wl,-E'
    cccdlflags='-fPIC', lddlflags='-shared -O2 -L/usr/local/lib'


Characteristics of this binary (from libperl): 
  Compile-time options: PERL_MALLOC_WRAP USE_64_BIT_ALL USE_64_BIT_INT
                        USE_FAST_STDIO USE_LARGE_FILES USE_PERLIO
  Built under linux
  Compiled at May 17 2009 07:12:37
  %ENV:
    PERL5LIB=""
    PERL5OPT=""
    PERL5_CPANPLUS_IS_RUNNING="30975"
    PERL5_CPAN_IS_RUNNING="30975"
    PERL_MM_USE_DEFAULT="1"
  @INC:
    /usr/local/perl-5.8.9/lib/5.8.9/x86_64-linux
    /usr/local/perl-5.8.9/lib/5.8.9
    /usr/local/perl-5.8.9/lib/site_perl/5.8.9/x86_64-linux
    /usr/local/perl-5.8.9/lib/site_perl/5.8.9
    .