Report for Net-Statsd-Server-0.20

Back
From: metabase:user:30f4dfbe-2aae-11df-837a-5e0a49663a4f
Subject: PASS Net-Statsd-Server-0.20 v5.14.2 Mac OS X
Date: 2016-06-05T06:05:42Z

This distribution has been tested as part of the CPAN Testers
project, supporting the Perl programming language.  See
http://wiki.cpantesters.org/ for more information or email
questions to cpan-testers-discuss@perl.org


--
Dear Cosimo Streppone,

This is a computer-generated report for Net-Statsd-Server-0.20
on perl 5.14.2, created by CPAN-Reporter-1.2017.

Thank you for uploading your work to CPAN.  Congratulations!
All tests were successful.

Sections of this report:

    * Tester comments
    * Program output
    * Prerequisites
    * Environment and other context

------------------------------
TESTER COMMENTS
------------------------------

Additional comments from tester:

this report is from an automated smoke testing program
and was not reviewed by a human for accuracy

------------------------------
PROGRAM OUTPUT
------------------------------

Output from '/sw/bin/make test':

PERL_DL_NONLAZY=1 "/Users/hornenj/perl5/perlbrew/perls/perl-5.14.2/bin/perl5.14.2" "-MExtUtils::Command::MM" "-MTest::Harness" "-e" "undef *Test::Harness::Switches; test_harness(0, 'blib/lib', 'blib/arch')" t/*.t t/integration-tests/*.t
t/000-sanity.t ............................. ok
t/config.t ................................. ok
t/graphite.t ............................... ok
2016-06-05 02:05:31.000000 -0400 note  Net::Statsd::Server: Initializing Net::Statsd::Server::Backend::Console backend
2016-06-05 02:05:31.000000 -0400 note  Net::Statsd::Server: Initializing Net::Statsd::Server::Backend::Graphite backend
2016-06-05 02:05:31.000000 -0400 info  AnyEvent: Autoloaded model 'AnyEvent::Impl::EV', using it.
Couldn't set SO_RCVBUF: No buffer space available at /Users/hornenj/.cpan/build/Net-Statsd-Server-0.20-9QkVHl/bin/../lib/Net/Statsd/Server.pm line 709.
2016-06-05 02:05:31.949381 -0400 note  Net::Statsd::Server: statsd server started on 0.0.0.0:40001 (v0.17)
2016-06-05 02:05:31.949402 -0400 note  Net::Statsd::Server: manager interface started on 0.0.0.0:40002
2016-06-05 02:05:31.949420 -0400 note  Net::Statsd::Server: metrics flush will happen every 1s
2016-06-05 02:05:32.374914 -0400 warn  Net::Statsd::Server: Bad line: 1 in msg "a_bad_test_value|z"
2016-06-05 02:05:32.956665 -0400 note  Net::Statsd::Server: flushing metrics
Flushing stats at Sun Jun  5 02:05:32 2016
{"pctThreshold":[90],"sets":null,"counter_rates":{"statsd.bad_lines_seen":1,"statsd.packets_received":1},"timer_data":{},"gauges":{},"timers":{},"counters":{"statsd.bad_lines_seen":1,"statsd.packets_received":1}}
t/integration-tests/bad-message.t .......... ok
2016-06-05 02:05:33.000000 -0400 note  Net::Statsd::Server: Initializing Net::Statsd::Server::Backend::Console backend
2016-06-05 02:05:33.000000 -0400 note  Net::Statsd::Server: Initializing Net::Statsd::Server::Backend::Graphite backend
2016-06-05 02:05:33.000000 -0400 info  AnyEvent: Autoloaded model 'AnyEvent::Impl::EV', using it.
Couldn't set SO_RCVBUF: No buffer space available at /Users/hornenj/.cpan/build/Net-Statsd-Server-0.20-9QkVHl/bin/../lib/Net/Statsd/Server.pm line 709.
2016-06-05 02:05:33.098421 -0400 note  Net::Statsd::Server: statsd server started on 0.0.0.0:40001 (v0.17)
2016-06-05 02:05:33.098442 -0400 note  Net::Statsd::Server: manager interface started on 0.0.0.0:40002
2016-06-05 02:05:33.098472 -0400 note  Net::Statsd::Server: metrics flush will happen every 1s
2016-06-05 02:05:34.097417 -0400 note  Net::Statsd::Server: flushing metrics
Flushing stats at Sun Jun  5 02:05:34 2016
{"pctThreshold":[90],"sets":null,"counter_rates":{"a_test_value":100,"statsd.bad_lines_seen":0,"statsd.packets_received":1},"timer_data":{},"gauges":{},"timers":{},"counters":{"a_test_value":100,"statsd.bad_lines_seen":0,"statsd.packets_received":1}}
# stats.counters.a_test_value.rate 100.000000 1465106734
# stats.counters.a_test_value.count 100 1465106734
# stats.counters.statsd.bad_lines_seen.rate 0.000000 1465106734
# stats.counters.statsd.bad_lines_seen.count 0 1465106734
# stats.counters.statsd.packets_received.rate 1.000000 1465106734
# stats.counters.statsd.packets_received.count 1 1465106734
# stats.statsd.numStats 3 1465106734
# stats.statsd.graphiteStats.calculationtime 0.039000 1465106734
# stats.statsd.processing_time 0.018 1465106734
# stats.statsd.graphiteStats.last_exception 140589630838232 1465106734
# stats.statsd.graphiteStats.last_flush 140589630838232 1465106734
t/integration-tests/counts-are-valid.t ..... ok
2016-06-05 02:05:34.000000 -0400 note  Net::Statsd::Server: Initializing Net::Statsd::Server::Backend::Graphite backend
2016-06-05 02:05:34.000000 -0400 info  AnyEvent: Autoloaded model 'AnyEvent::Impl::EV', using it.
Couldn't set SO_RCVBUF: No buffer space available at /Users/hornenj/.cpan/build/Net-Statsd-Server-0.20-9QkVHl/bin/../lib/Net/Statsd/Server.pm line 709.
2016-06-05 02:05:34.237828 -0400 note  Net::Statsd::Server: statsd server started on 0.0.0.0:40001 (v0.17)
2016-06-05 02:05:34.237848 -0400 note  Net::Statsd::Server: manager interface started on 0.0.0.0:40002
2016-06-05 02:05:34.237865 -0400 note  Net::Statsd::Server: metrics flush will happen every 1s
2016-06-05 02:05:35.239942 -0400 note  Net::Statsd::Server: flushing metrics
# First flush. Test gauge should be there.
2016-06-05 02:05:36.242283 -0400 note  Net::Statsd::Server: flushing metrics
# Second flush. deleteGauges=false should keep the test gauge.
t/integration-tests/delete-gauges-false.t .. ok
2016-06-05 02:05:36.000000 -0400 note  Net::Statsd::Server: Initializing Net::Statsd::Server::Backend::Graphite backend
2016-06-05 02:05:36.000000 -0400 info  AnyEvent: Autoloaded model 'AnyEvent::Impl::EV', using it.
Couldn't set SO_RCVBUF: No buffer space available at /Users/hornenj/.cpan/build/Net-Statsd-Server-0.20-9QkVHl/bin/../lib/Net/Statsd/Server.pm line 709.
2016-06-05 02:05:36.382330 -0400 note  Net::Statsd::Server: statsd server started on 0.0.0.0:40001 (v0.17)
2016-06-05 02:05:36.382352 -0400 note  Net::Statsd::Server: manager interface started on 0.0.0.0:40002
2016-06-05 02:05:36.382369 -0400 note  Net::Statsd::Server: metrics flush will happen every 1s
2016-06-05 02:05:37.383517 -0400 note  Net::Statsd::Server: flushing metrics
# First flush. Test gauge should be there.
2016-06-05 02:05:38.382827 -0400 note  Net::Statsd::Server: flushing metrics
# Second flush. deleteIdleStats should have cleared the test gauge.
t/integration-tests/delete-idle-stats.t .... ok
2016-06-05 02:05:38.000000 -0400 note  Net::Statsd::Server: Initializing Net::Statsd::Server::Backend::Console backend
2016-06-05 02:05:38.000000 -0400 note  Net::Statsd::Server: Initializing Net::Statsd::Server::Backend::Graphite backend
2016-06-05 02:05:38.000000 -0400 info  AnyEvent: Autoloaded model 'AnyEvent::Impl::EV', using it.
Couldn't set SO_RCVBUF: No buffer space available at /Users/hornenj/.cpan/build/Net-Statsd-Server-0.20-9QkVHl/bin/../lib/Net/Statsd/Server.pm line 709.
2016-06-05 02:05:38.516555 -0400 note  Net::Statsd::Server: statsd server started on 0.0.0.0:40001 (v0.17)
2016-06-05 02:05:38.516576 -0400 note  Net::Statsd::Server: manager interface started on 0.0.0.0:40002
2016-06-05 02:05:38.516592 -0400 note  Net::Statsd::Server: metrics flush will happen every 1s
2016-06-05 02:05:39.518673 -0400 note  Net::Statsd::Server: flushing metrics
Flushing stats at Sun Jun  5 02:05:39 2016
{"pctThreshold":[90],"sets":null,"counter_rates":{"statsd.bad_lines_seen":0,"statsd.packets_received":1,"a_test_value,category=web,severity=high":100},"timer_data":{},"gauges":{},"timers":{},"counters":{"statsd.bad_lines_seen":0,"statsd.packets_received":1,"a_test_value,category=web,severity=high":100}}
# stats.counters.statsd.bad_lines_seen.rate 0.000000 1465106739
# stats.counters.statsd.bad_lines_seen.count 0 1465106739
# stats.counters.statsd.packets_received.rate 1.000000 1465106739
# stats.counters.statsd.packets_received.count 1 1465106739
# stats.counters.a_test_value,category=web,severity=high.rate 100.000000 1465106739
# stats.counters.a_test_value,category=web,severity=high.count 100 1465106739
# stats.statsd.numStats 3 1465106739
# stats.statsd.graphiteStats.calculationtime 0.039000 1465106739
# stats.statsd.processing_time 0.018 1465106739
# stats.statsd.graphiteStats.last_exception 140450681935320 1465106739
# stats.statsd.graphiteStats.last_flush 140450681935320 1465106739
t/integration-tests/keys-with-tags.t ....... ok
2016-06-05 02:05:39.000000 -0400 note  Net::Statsd::Server: Initializing Net::Statsd::Server::Backend::Graphite backend
2016-06-05 02:05:39.000000 -0400 info  AnyEvent: Autoloaded model 'AnyEvent::Impl::EV', using it.
Couldn't set SO_RCVBUF: No buffer space available at /Users/hornenj/.cpan/build/Net-Statsd-Server-0.20-9QkVHl/bin/../lib/Net/Statsd/Server.pm line 709.
2016-06-05 02:05:39.655308 -0400 note  Net::Statsd::Server: statsd server started on 0.0.0.0:40001 (v0.17)
2016-06-05 02:05:39.655328 -0400 note  Net::Statsd::Server: manager interface started on 0.0.0.0:40002
2016-06-05 02:05:39.655347 -0400 note  Net::Statsd::Server: metrics flush will happen every 1s
# Expected mean value is 2060.62
2016-06-05 02:05:40.657932 -0400 note  Net::Statsd::Server: flushing metrics
# stats.counters.statsd.bad_lines_seen.rate 0.000000 1465106740
# stats.counters.statsd.bad_lines_seen.count 0 1465106740
# stats.counters.statsd.packets_received.rate 100.000000 1465106740
# stats.counters.statsd.packets_received.count 100 1465106740
# stats.timers.read_latency.sum_98 200104.000000 1465106740
# stats.timers.read_latency.upper_95 2886.000000 1465106740
# stats.timers.read_latency.mean_95 2014.326316 1465106740
# stats.timers.read_latency.sum_95 191361.000000 1465106740
# stats.timers.read_latency.upper_98 2932.000000 1465106740
# stats.timers.read_latency.median 2076.000000 1465106740
# stats.timers.read_latency.count_95 95.000000 1465106740
# stats.timers.read_latency.upper_99 2977.000000 1465106740
# stats.timers.read_latency.sum_squares_95 410951575.000000 1465106740
# stats.timers.read_latency.sum 206062.000000 1465106740
# stats.timers.read_latency.mean_99 2051.323232 1465106740
# stats.timers.read_latency.count 100.000000 1465106740
# stats.timers.read_latency.upper 2981.000000 1465106740
# stats.timers.read_latency.mean_98 2041.877551 1465106740
# stats.timers.read_latency.sum_squares_98 436432480.000000 1465106740
# stats.timers.read_latency.count_99 99.000000 1465106740
# stats.timers.read_latency.std 543.745267 1465106740
# stats.timers.read_latency.mean 2060.620000 1465106740
# stats.timers.read_latency.count_98 98.000000 1465106740
# stats.timers.read_latency.count_ps 100.000000 1465106740
# stats.timers.read_latency.lower 1035.000000 1465106740
# stats.timers.read_latency.sum_squares 454181370.000000 1465106740
# stats.timers.read_latency.sum_squares_99 445295009.000000 1465106740
# stats.timers.read_latency.sum_99 203081.000000 1465106740
# stats.statsd.numStats 3 1465106740
# stats.statsd.graphiteStats.calculationtime 0.082000 1465106740
# stats.statsd.processing_time 0.2 1465106740
# stats.statsd.graphiteStats.last_exception 140516574451160 1465106740
# stats.statsd.graphiteStats.last_flush 140516574451160 1465106740
t/integration-tests/percent-threshold.t .... ok
2016-06-05 02:05:40.000000 -0400 note  Net::Statsd::Server: Initializing Net::Statsd::Server::Backend::Console backend
2016-06-05 02:05:40.000000 -0400 note  Net::Statsd::Server: Initializing Net::Statsd::Server::Backend::Graphite backend
2016-06-05 02:05:40.000000 -0400 info  AnyEvent: Autoloaded model 'AnyEvent::Impl::EV', using it.
Couldn't set SO_RCVBUF: No buffer space available at /Users/hornenj/.cpan/build/Net-Statsd-Server-0.20-9QkVHl/bin/../lib/Net/Statsd/Server.pm line 709.
2016-06-05 02:05:40.797786 -0400 note  Net::Statsd::Server: statsd server started on 0.0.0.0:40001 (v0.17)
2016-06-05 02:05:40.797807 -0400 note  Net::Statsd::Server: manager interface started on 0.0.0.0:40002
2016-06-05 02:05:40.797826 -0400 note  Net::Statsd::Server: metrics flush will happen every 1s
2016-06-05 02:05:41.801573 -0400 note  Net::Statsd::Server: flushing metrics
Flushing stats at Sun Jun  5 02:05:41 2016
{"pctThreshold":["90"],"sets":null,"counter_rates":{"statsd.bad_lines_seen":0,"statsd.packets_received":1},"timer_data":{"a_test_value":{"count":1,"upper":"100","std":0,"count_90":1,"median":"100","mean":100,"sum_squares_90":10000,"mean_90":"100","count_ps":1,"upper_90":"100","sum_90":"100","lower":"100","sum_squares":10000,"sum":"100"}},"gauges":{},"timers":{"a_test_value":["100"]},"counters":{"statsd.bad_lines_seen":0,"statsd.packets_received":1}}
# stats.counters.statsd.bad_lines_seen.rate 0.000000 1465106741
# stats.counters.statsd.bad_lines_seen.count 0 1465106741
# stats.counters.statsd.packets_received.rate 1.000000 1465106741
# stats.counters.statsd.packets_received.count 1 1465106741
# stats.timers.a_test_value.count 1.000000 1465106741
# stats.timers.a_test_value.upper 100.000000 1465106741
# stats.timers.a_test_value.std 0.000000 1465106741
# stats.timers.a_test_value.count_90 1.000000 1465106741
# stats.timers.a_test_value.median 100.000000 1465106741
# stats.timers.a_test_value.mean 100.000000 1465106741
# stats.timers.a_test_value.sum_squares_90 10000.000000 1465106741
# stats.timers.a_test_value.mean_90 100.000000 1465106741
# stats.timers.a_test_value.count_ps 1.000000 1465106741
# stats.timers.a_test_value.upper_90 100.000000 1465106741
# stats.timers.a_test_value.sum_90 100.000000 1465106741
# stats.timers.a_test_value.lower 100.000000 1465106741
# stats.timers.a_test_value.sum_squares 10000.000000 1465106741
# stats.timers.a_test_value.sum 100.000000 1465106741
# stats.statsd.numStats 3 1465106741
# stats.statsd.graphiteStats.calculationtime 0.065000 1465106741
# stats.statsd.processing_time 0.052 1465106741
# stats.statsd.graphiteStats.last_exception 140703330031064 1465106741
# stats.statsd.graphiteStats.last_flush 140703330031064 1465106741
t/integration-tests/timers-are-valid.t ..... ok
t/process-metrics.t ........................ ok
t/trim.t ................................... ok
All tests successful.
Files=12, Tests=92, 10 wallclock secs ( 0.03 usr  0.02 sys +  0.59 cusr  0.25 csys =  0.89 CPU)
Result: PASS

------------------------------
PREREQUISITES
------------------------------

Prerequisite modules loaded:

requires:

    Module                Need Have    
    --------------------- ---- --------
    AnyEvent::Handle::UDP 0    0.043   
    IO::Socket::INET      0    1.31    
    JSON::XS              0    3.02    

build_requires:

    Module                Need Have    
    --------------------- ---- --------
    ExtUtils::MakeMaker   0    7.16    
    Test::More            0    1.001014

configure_requires:

    Module                Need Have    
    --------------------- ---- --------
    ExtUtils::MakeMaker   0    7.16    


------------------------------
ENVIRONMENT AND OTHER CONTEXT
------------------------------

Environment variables:

    AUTOMATED_TESTING = 1
    LANG = en_US.UTF-8
    LC_ALL = POSIX
    NO_NETWORK_TESTING = 1
    PATH = /Users/hornenj/perl5/perlbrew/bin:/Users/hornenj/perl5/perlbrew/perls/perl-5.14.2/bin:/Users/hornenj/perl5/perlbrew/bin:/Users/hornenj/bin:/sw/lib/perl5/ExtUtils:/sw/bin:/am/ncbiapdata/bin:/usr/bin:/bin:/usr/X11R6/bin:/netopt/ncbi_tools/bin:/usr/local/ncbi/blast/bin:/net/traces01.be-md.ncbi.nlm.nih.gov/trace_software/vdb/mac/release/x86_64/bin
    PERL5LIB = /Users/hornenj/.cpan/build/AnyEvent-Handle-UDP-0.043-2UAMYy/blib/arch:/Users/hornenj/.cpan/build/AnyEvent-Handle-UDP-0.043-2UAMYy/blib/lib
    PERL5OPT = 
    PERL5_CPANPLUS_IS_RUNNING = 21782
    PERL5_CPAN_IS_RUNNING = 21782
    PERL5_MINISMOKEBOX = 0.58
    PERLBREW_BASHRC_VERSION = 0.75
    PERLBREW_HOME = /Users/hornenj/.perlbrew
    PERLBREW_LIB = 
    PERLBREW_MANPATH = /Users/hornenj/perl5/perlbrew/perls/perl-5.14.2/man
    PERLBREW_PATH = /Users/hornenj/perl5/perlbrew/bin:/Users/hornenj/perl5/perlbrew/perls/perl-5.14.2/bin
    PERLBREW_PERL = perl-5.14.2
    PERLBREW_ROOT = /Users/hornenj/perl5/perlbrew
    PERLBREW_VERSION = 0.75
    PERL_EXTUTILS_AUTOINSTALL = --defaultdeps
    PERL_LOCAL_LIB_ROOT = 
    PERL_MM_USE_DEFAULT = 1
    SHELL = /bin/bash
    TERM = xterm-256color
    TMPDIR = /var/folders/pz/pd7y1qjs6s3cbk170cw50fjc000c61/T/
    ac_cv_path_INTLTOOL_PERL = /usr/bin/perl

Perl special variables (and OS-specific diagnostics, for MSWin32):

    $^X = /Users/hornenj/perl5/perlbrew/perls/perl-5.14.2/bin/perl5.14.2
    $UID/$EUID = 12481 / 12481
    $GID = 14 14 5344 37191 527 241
    $EGID = 14 14 5344 37191 527 241

Perl module toolchain versions installed:

    Module              Have    
    ------------------- --------
    CPAN                2.10    
    CPAN::Meta          2.150005
    Cwd                 3.62    
    ExtUtils::CBuilder  0.280224
    ExtUtils::Command   7.16    
    ExtUtils::Install   2.04    
    ExtUtils::MakeMaker 7.16    
    ExtUtils::Manifest  1.70    
    ExtUtils::ParseXS   3.30    
    File::Spec          3.62    
    JSON                2.90    
    JSON::PP            2.27400 
    Module::Build       0.4218  
    Module::Signature   n/a     
    Parse::CPAN::Meta   1.4417  
    Test::Harness       3.36    
    Test::More          1.001014
    YAML                1.15    
    YAML::Syck          1.29    
    version             0.9916  


--

Summary of my perl5 (revision 5 version 14 subversion 2) configuration:
   
  Platform:
    osname=darwin, osvers=14.3.0, archname=darwin-thread-multi-2level
    uname='darwin ncbimac2027.ncbi.nlm.nih.gov 14.3.0 darwin kernel version 14.3.0: mon mar 23 11:59:05 pdt 2015; root:xnu-2782.20.48~5release_x86_64 x86_64 '
    config_args='-de -Dprefix=/Users/hornenj/perl5/perlbrew/perls/perl-5.14.2 -Duseithreads -Dusemultiplicity -Dusedevel -Accflags=-O2 -W -Wformat=2 -Wswitch -Wshadow -Wwrite-strings -Wuninitialized -Wall -pipe -mtune=native -march=native -fomit-frame-pointer -msse2 -msse -mmmx -pedantic -D_FORTIFY_SOURCE=2 -Wpointer-arith -Wstrict-prototypes -fstack-protector -Wstack-protector -Wextra -Wbad-function-cast -Wcast-align -Wcast-qual -Wdisabled-optimization -Wendif-labels -Wfloat-equal -Wformat-nonliteral -Winline -Wmissing-declarations -Wmissing-prototypes -Wnested-externs -Wpointer-arith -Wundef -Wformat-security -fassociative-math -Acc=cc -Aeval:scriptdir=/Users/hornenj/perl5/perlbrew/perls/perl-5.14.2/bin'
    hint=recommended, useposix=true, d_sigaction=define
    useithreads=define, usemultiplicity=define
    useperlio=define, d_sfio=undef, uselargefiles=define, usesocks=undef
    use64bitint=define, use64bitall=define, uselongdouble=undef
    usemymalloc=n, bincompat5005=undef
  Compiler:
    cc='cc', ccflags ='-fno-common -DPERL_DARWIN -O2 -W -Wformat=2 -Wswitch -Wshadow -Wwrite-strings -Wuninitialized -Wall -pipe -mtune=native -march=native -fomit-frame-pointer -msse2 -msse -mmmx -pedantic -D_FORTIFY_SOURCE=2 -Wpointer-arith -Wstrict-prototypes -fstack-protector -Wstack-protector -Wextra -Wbad-function-cast -Wcast-align -Wcast-qual -Wdisabled-optimization -Wendif-labels -Wfloat-equal -Wformat-nonliteral -Winline -Wmissing-declarations -Wmissing-prototypes -Wnested-externs -Wpointer-arith -Wundef -Wformat-security -fassociative-math -fno-strict-aliasing -I/usr/local/include',
    optimize='-O3',
    cppflags='-fno-common -DPERL_DARWIN -O2 -W -Wformat=2 -Wswitch -Wshadow -Wwrite-strings -Wuninitialized -Wall -pipe -mtune=native -march=native -fomit-frame-pointer -msse2 -msse -mmmx -pedantic -D_FORTIFY_SOURCE=2 -Wpointer-arith -Wstrict-prototypes -fstack-protector -Wstack-protector -Wextra -Wbad-function-cast -Wcast-align -Wcast-qual -Wdisabled-optimization -Wendif-labels -Wfloat-equal -Wformat-nonliteral -Winline -Wmissing-declarations -Wmissing-prototypes -Wnested-externs -Wpointer-arith -Wundef -Wformat-security -fassociative-math -fno-strict-aliasing -I/usr/local/include'
    ccversion='', gccversion='4.2.1 Compatible Apple LLVM 6.0 (clang-600.0.56)', gccosandvers=''
    intsize=4, longsize=8, ptrsize=8, doublesize=8, byteorder=12345678
    d_longlong=define, longlongsize=8, d_longdbl=define, longdblsize=16
    ivtype='long', ivsize=8, nvtype='double', nvsize=8, Off_t='off_t', lseeksize=8
    alignbytes=8, prototype=define
  Linker and Libraries:
    ld='env MACOSX_DEPLOYMENT_TARGET=10.3 cc', ldflags =' -fstack-protector -L/usr/local/lib'
    libpth=/usr/local/lib /usr/lib
    libs=-ldbm -ldl -lm -lutil -lc
    perllibs=-ldl -lm -lutil -lc
    libc=, so=dylib, useshrplib=false, libperl=libperl.a
    gnulibc_version=''
  Dynamic Linking:
    dlsrc=dl_dlopen.xs, dlext=bundle, d_dlsymun=undef, ccdlflags=' '
    cccdlflags=' ', lddlflags=' -bundle -undefined dynamic_lookup -L/usr/local/lib -fstack-protector'


Characteristics of this binary (from libperl): 
  Compile-time options: MULTIPLICITY PERL_DONT_CREATE_GVSV
                        PERL_IMPLICIT_CONTEXT PERL_MALLOC_WRAP
                        PERL_PRESERVE_IVUV PERL_USE_DEVEL USE_64_BIT_ALL
                        USE_64_BIT_INT USE_ITHREADS USE_LARGE_FILES
                        USE_PERLIO USE_PERL_ATOF USE_REENTRANT_API
  Locally applied patches:
	Devel::PatchPerl 1.30
  Built under darwin
  Compiled at Apr 20 2015 09:52:37
  %ENV:
    PERL5LIB="/Users/hornenj/.cpan/build/AnyEvent-Handle-UDP-0.043-2UAMYy/blib/arch:/Users/hornenj/.cpan/build/AnyEvent-Handle-UDP-0.043-2UAMYy/blib/lib"
    PERL5OPT=""
    PERL5_CPANPLUS_IS_RUNNING="21782"
    PERL5_CPAN_IS_RUNNING="21782"
    PERL5_MINISMOKEBOX="0.58"
    PERLBREW_BASHRC_VERSION="0.75"
    PERLBREW_HOME="/Users/hornenj/.perlbrew"
    PERLBREW_LIB=""
    PERLBREW_MANPATH="/Users/hornenj/perl5/perlbrew/perls/perl-5.14.2/man"
    PERLBREW_PATH="/Users/hornenj/perl5/perlbrew/bin:/Users/hornenj/perl5/perlbrew/perls/perl-5.14.2/bin"
    PERLBREW_PERL="perl-5.14.2"
    PERLBREW_ROOT="/Users/hornenj/perl5/perlbrew"
    PERLBREW_VERSION="0.75"
    PERL_EXTUTILS_AUTOINSTALL="--defaultdeps"
    PERL_LOCAL_LIB_ROOT=""
    PERL_MM_USE_DEFAULT="1"
  @INC:
    /Users/hornenj/.cpan/build/AnyEvent-Handle-UDP-0.043-2UAMYy/blib/arch
    /Users/hornenj/.cpan/build/AnyEvent-Handle-UDP-0.043-2UAMYy/blib/lib
    /Users/hornenj/perl5/perlbrew/perls/perl-5.14.2/lib/site_perl/5.14.2/darwin-thread-multi-2level
    /Users/hornenj/perl5/perlbrew/perls/perl-5.14.2/lib/site_perl/5.14.2
    /Users/hornenj/perl5/perlbrew/perls/perl-5.14.2/lib/5.14.2/darwin-thread-multi-2level
    /Users/hornenj/perl5/perlbrew/perls/perl-5.14.2/lib/5.14.2
    .