Time-Stamp v1.300 Perl 5 v5.43.3 amd64-freebsd
- Status
- Pass
- From
- Carlos Guevara
- Dist
-
Time-Stamp v1.300
- Platform
- Perl 5 v5.43.3 amd64-freebsd
- Date
- 2025-09-15 11:10:06
- ID
- 88d65304-9224-11f0-b47c-a5d9c232666c
This distribution has been tested as part of the CPAN Testers
project, supporting the Perl programming language. See
http://wiki.cpantesters.org/ for more information or email
questions to cpan-testers-discuss@perl.org
--
Dear Randy Stauner,
This is a computer-generated report for Time-Stamp-1.300
on perl 5.43.3, created by CPAN-Reporter-1.2020.
Thank you for uploading your work to CPAN. Congratulations!
All tests were successful.
Sections of this report:
* Tester comments
* Program output
* Prerequisites
* Environment and other context
------------------------------
TESTER COMMENTS
------------------------------
Additional comments from tester:
this report is from an automated smoke testing program
and was not reviewed by a human for accuracy
------------------------------
PROGRAM OUTPUT
------------------------------
Output from '/usr/bin/make test':
PERL_DL_NONLAZY=1 "/home/cpan/bin/perl/bin/perl5.43.3" "-MExtUtils::Command::MM" "-MTest::Harness" "-e" "undef *Test::Harness::Switches; test_harness(0, 'blib/lib', 'blib/arch')" t/*.t
t/00-compile.t ......... ok
# Prerequisite Report:
# Version Module
# -------- -----------------------
# 7.76 ExtUtils::MakeMaker
# 1.44 File::Find
# 3.94 File::Spec::Functions
# 0.2312 File::Temp
# 1.70 List::Util
# 0.100006 Pod::Coverage::TrustPod
# 0.991 Sub::Exporter
# 0.25 Test::CPAN::Meta
# 1.302214 Test::More
# 1.52 Test::Pod
# 1.10 Test::Pod::Coverage
# 1.9779 Time::HiRes
# 1.35 Time::Local
# 1.14 strict
# 1.04 subs
# 1.74 warnings
t/00-report-prereqs.t .. ok
Prototype mismatch: sub Time::HiRes::gettimeofday () vs none at t/lib/ControlTime.pm line 45.
t/core_time.t .......... ok
t/exports.t ............ ok
t/format.t ............. ok
Prototype mismatch: sub Time::HiRes::gettimeofday () vs none at t/lib/ControlTime.pm line 45.
t/hires.t .............. ok
t/imports.t ............ ok
t/parse.t .............. ok
Prototype mismatch: sub Time::HiRes::gettimeofday () vs none at t/lib/ControlTime.pm line 45.
t/time.t ............... ok
All tests successful.
Files=9, Tests=215, 1 wallclock secs ( 0.03 usr 0.01 sys + 0.38 cusr 0.10 csys = 0.52 CPU)
Result: PASS
------------------------------
PREREQUISITES
------------------------------
Prerequisite modules loaded:
requires:
Module Need Have
--------------------- ----- --------
strict 0 1.14
Sub::Exporter 0.982 0.991
Time::Local 0 1.35
warnings 0 1.74
build_requires:
Module Need Have
--------------------- ----- --------
ExtUtils::MakeMaker 0 7.76
File::Find 0 1.44
File::Spec::Functions 0 3.94
File::Temp 0 0.2312
List::Util 0 1.70
subs 0 1.04
Test::More 0.96 1.302214
configure_requires:
Module Need Have
--------------------- ----- --------
ExtUtils::MakeMaker 6.30 7.76
opt_requires:
Module Need Have
--------------------- ----- --------
Time::HiRes 0 1.9779
------------------------------
ENVIRONMENT AND OTHER CONTEXT
------------------------------
Environment variables:
AUTOMATED_TESTING = 1
DATE_MANIP_TEST_DM5 = 1
LANG = C.UTF-8
LC_ALL = C
NONINTERACTIVE_TESTING = 1
NO_NETWORK_TESTING = 1
PATH = /home/cpan/bin/perl/bin:/home/cpan/bin:/sbin:/bin:/usr/sbin:/usr/bin:/usr/local/sbin:/usr/local/bin:/home/cpan/bin
PERL5LIB =
PERL5OPT =
PERL5_CPANPLUS_IS_RUNNING = 59454
PERL5_CPAN_IS_RUNNING = 59454
PERL_MM_USE_DEFAULT = 1
PERL_PERTURB_KEYS = 0
PERL_USE_UNSAFE_INC = 1
SHELL = /usr/local/bin/bash
TERM = screen
TMPDIR = /home/cpan/tmp
Perl special variables (and OS-specific diagnostics, for MSWin32):
$^X = /home/cpan/bin/perl/bin/perl5.43.3
$UID/$EUID = 1002 / 1002
$GID = 1002 1002
$EGID = 1002 1002
Perl module toolchain versions installed:
Module Have
------------------- --------
CPAN 2.38
CPAN::Meta 2.150010
Cwd 3.94
ExtUtils::CBuilder 0.280242
ExtUtils::Command 7.76
ExtUtils::Install 2.22
ExtUtils::MakeMaker 7.76
ExtUtils::Manifest 1.75
ExtUtils::ParseXS 3.60
File::Spec 3.94
JSON 4.10
JSON::PP 4.16
Module::Build 0.4234
Module::Signature n/a
Parse::CPAN::Meta 2.150010
Test2 1.302214
Test::Harness 3.52
Test::More 1.302214
YAML 1.31
YAML::Syck 1.34
version 0.9933
--
Summary of my perl5 (revision 5 version 43 subversion 3) configuration:
Commit id: 431220366c09b34b8daf71c691dfcdd3c98db323
Platform:
osname=freebsd
osvers=14.3-release-p2
archname=amd64-freebsd
uname='freebsd cjg-freebsd14 14.3-release-p2 freebsd 14.3-release-p2 generic amd64 '
config_args='-des -Dprefix=/home/cpan/bin/perl -Dscriptdir=/home/cpan/bin/perl/bin -Dusedevel -Duse64bitall'
hint=recommended
useposix=true
d_sigaction=define
useithreads=undef
usemultiplicity=undef
use64bitint=define
use64bitall=define
uselongdouble=undef
usemymalloc=n
default_inc_excludes_dot=define
Compiler:
cc='cc'
ccflags ='-DHAS_FPSETMASK -DHAS_FLOATINGPOINT_H -DNO_POSIX_2008_LOCALE -fno-strict-aliasing -pipe -fstack-protector-strong -I/usr/local/include'
optimize='-O2'
cppflags='-DHAS_FPSETMASK -DHAS_FLOATINGPOINT_H -DNO_POSIX_2008_LOCALE -fno-strict-aliasing -pipe -fstack-protector-strong -I/usr/local/include'
ccversion=''
gccversion='FreeBSD Clang 19.1.7 (https://github.com/llvm/llvm-project.git llvmorg-19.1.7-0-gcd708029e0b2)'
gccosandvers=''
intsize=4
longsize=8
ptrsize=8
doublesize=8
byteorder=12345678
doublekind=3
d_longlong=define
longlongsize=8
d_longdbl=define
longdblsize=16
longdblkind=3
ivtype='long'
ivsize=8
nvtype='double'
nvsize=8
Off_t='off_t'
lseeksize=8
alignbytes=8
prototype=define
Linker and Libraries:
ld='cc'
ldflags ='-Wl,-E -fstack-protector-strong -L/usr/local/lib'
libpth=/usr/lib /usr/local/lib /usr/lib/clang/19/lib
libs=-lpthread -lgdbm -ldl -lm -lcrypt -lutil -lc
perllibs=-lpthread -ldl -lm -lcrypt -lutil -lc
libc=
so=so
useshrplib=false
libperl=libperl.a
gnulibc_version=''
Dynamic Linking:
dlsrc=dl_dlopen.xs
dlext=so
d_dlsymun=undef
ccdlflags=' '
cccdlflags='-DPIC -fPIC'
lddlflags='-shared -L/usr/local/lib -fstack-protector-strong'
Characteristics of this binary (from libperl):
Compile-time options:
HAS_LONG_DOUBLE
HAS_STRTOLD
HAS_TIMES
PERLIO_LAYERS
PERL_COPY_ON_WRITE
PERL_DONT_CREATE_GVSV
PERL_HASH_FUNC_SIPHASH13
PERL_HASH_USE_SBOX32
PERL_MALLOC_WRAP
PERL_OP_PARENT
PERL_PRESERVE_IVUV
PERL_USE_DEVEL
PERL_USE_SAFE_PUTENV
USE_64_BIT_ALL
USE_64_BIT_INT
USE_LARGE_FILES
USE_LOCALE
USE_LOCALE_COLLATE
USE_LOCALE_CTYPE
USE_LOCALE_NUMERIC
USE_LOCALE_TIME
USE_PERLIO
USE_PERL_ATOF
Built under freebsd
Compiled at Sep 14 2025 23:25:50
%ENV:
PERL5LIB=""
PERL5OPT=""
PERL5_CPANPLUS_IS_RUNNING="59454"
PERL5_CPAN_IS_RUNNING="59454"
PERL_MM_USE_DEFAULT="1"
PERL_PERTURB_KEYS="0"
PERL_USE_UNSAFE_INC="1"
@INC:
/home/cpan/bin/perl/lib/site_perl/5.43.3/amd64-freebsd
/home/cpan/bin/perl/lib/site_perl/5.43.3
/home/cpan/bin/perl/lib/5.43.3/amd64-freebsd
/home/cpan/bin/perl/lib/5.43.3
.