Dist-Zilla-Plugin-Test-Version v1.09 Perl 5 v5.36.0 x86_64-linux

Status
Pass
From
Ioan Rogers
Dist
Dist-Zilla-Plugin-Test-Version v1.09
Platform
Perl 5 v5.36.0 x86_64-linux
Date
2023-02-17 20:56:22
ID
88a9c5b4-af05-11ed-a15b-3d508b17017e
This distribution has been tested as part of the CPAN Testers
project, supporting the Perl programming language.  See
http://wiki.cpantesters.org/ for more information or email
questions to cpan-testers-discuss@perl.org


--
Dear PLICEASE,

This is a computer-generated report for Dist-Zilla-Plugin-Test-Version-1.09
on perl 5.36.0, created by App::cpanminus::reporter 0.18 (1.7046).

Thank you for uploading your work to CPAN.  Congratulations!
All tests were successful.

Sections of this report:

    * Tester comments
    * Program output
    * Prerequisites
    * Environment and other context

------------------------------
TESTER COMMENTS
------------------------------

Additional comments from tester:

none provided

------------------------------
PROGRAM OUTPUT
------------------------------

Output from '':

Building and testing Dist-Zilla-Plugin-Test-Version-1.09
cp lib/Dist/Zilla/Plugin/Test/Version.pm blib/lib/Dist/Zilla/Plugin/Test/Version.pm
PERL_DL_NONLAZY=1 "/home/irogers/.plenv/versions/5.36.0/bin/perl5.36.0" "-MExtUtils::Command::MM" "-MTest::Harness" "-e" "undef *Test::Harness::Switches; test_harness(0, 'blib/lib', 'blib/arch')" t/*.t
# 
# Versions for all modules listed in MYMETA.json (including optional ones):
# 
# === Configure Requires ===
# 
#     Module              Want Have
#     ------------------- ---- ----
#     ExtUtils::MakeMaker  any 7.66
# 
# === Build Requires ===
# 
#     Module              Want Have
#     ------------------- ---- ----
#     ExtUtils::MakeMaker  any 7.66
# 
# === Test Requires ===
# 
#     Module               Want     Have
#     ------------------- ----- --------
#     Dist::Zilla         5.036    6.030
#     ExtUtils::MakeMaker   any     7.66
#     File::Spec            any     3.84
#     File::chdir           any   0.1011
#     IO::Handle            any     1.51
#     IPC::Open3            any     1.22
#     Path::Tiny            any    0.144
#     Test::DZil            any    6.030
#     Test::EOL             any     2.02
#     Test::More            any 1.302192
#     Test::NoTabs          any     2.02
#     Test::Script         1.12     1.29
#     Test::Version           1     2.09
#     blib                 1.01     1.07
#     strict                any     1.12
#     warnings              any     1.58
# 
# === Test Recommends ===
# 
#     Module         Want     Have
#     ---------- -------- --------
#     CPAN::Meta 2.120900 2.150010
# 
# === Runtime Requires ===
# 
#     Module                             Want     Have
#     --------------------------------- ----- --------
#     Data::Section                     0.004 0.200008
#     Dist::Zilla::File::InMemory         any    6.030
#     Dist::Zilla::Role::FileFinderUser   any    6.030
#     Dist::Zilla::Role::FileGatherer     any    6.030
#     Dist::Zilla::Role::FileMunger       any    6.030
#     Dist::Zilla::Role::PrereqSource     any    6.030
#     Dist::Zilla::Role::TextTemplate     any    6.030
#     Moose                               any   2.2203
#     Moose::Util::TypeConstraints        any   2.2203
#     Sub::Exporter::ForMethods           any 0.100055
#     Test::Version                         1     2.09
#     namespace::autoclean                any     0.29
# 
t/00-report-prereqs.t .. ok
t/00-compile.t ......... ok
t/adaptive.t ........... ok
t/file.t ............... ok
t/filename_match.t ..... ok
t/finder.t ............. ok
All tests successful.
Files=6, Tests=22,  1 wallclock secs ( 0.01 usr  0.01 sys +  2.36 cusr  0.17 csys =  2.55 CPU)
Result: PASS

------------------------------
PREREQUISITES
------------------------------

Prerequisite modules loaded:

runtime:

    Module                            Need  Have    
    --------------------------------- ----- --------
    Data::Section                     0.004 0.200008
    Dist::Zilla::File::InMemory       0     6.030   
    Dist::Zilla::Role::FileFinderUser 0     6.030   
    Dist::Zilla::Role::FileGatherer   0     6.030   
    Dist::Zilla::Role::FileMunger     0     6.030   
    Dist::Zilla::Role::PrereqSource   0     6.030   
    Dist::Zilla::Role::TextTemplate   0     6.030   
    Moose                             0     2.2203  
    Moose::Util::TypeConstraints      0     2.2203  
    namespace::autoclean              0     0.29    
    perl                              5.006 5.036000
    Sub::Exporter::ForMethods         0     0.100055
    Test::Version                     1     2.09    

build:

    Module                            Need  Have    
    --------------------------------- ----- --------
    ExtUtils::MakeMaker               0     7.66    

configure:

    Module                            Need  Have    
    --------------------------------- ----- --------
    ExtUtils::MakeMaker               0     7.66    


------------------------------
ENVIRONMENT AND OTHER CONTEXT
------------------------------

Environment variables:

    HARNESS_OPTIONS = j16
    LANG = en_GB.UTF-8
    LANGUAGE = en_GB:en_CA:en
    LC_ADDRESS = en_CA.UTF-8
    LC_IDENTIFICATION = en_CA.UTF-8
    LC_MEASUREMENT = en_CA.UTF-8
    LC_MONETARY = en_CA.UTF-8
    LC_NAME = en_CA.UTF-8
    LC_NUMERIC = en_CA.UTF-8
    LC_PAPER = en_CA.UTF-8
    LC_TELEPHONE = en_CA.UTF-8
    LC_TIME = en_CA.UTF-8
    PATH = /home/irogers/.plenv/versions/5.36.0/bin:/home/irogers/.plenv/libexec:/home/irogers/.plenv/plugins/perl-build/bin:/home/irogers/.raku/bin:/opt/rakudo-pkg/bin:/home/irogers/.plenv/shims:~/.plenv/bin:/home/irogers/go/bin:/home/irogers/.local/bin:/home/irogers/.raku/bin:/opt/rakudo-pkg/bin:/home/irogers/.plenv/shims:~/.plenv/bin:/home/irogers/go/bin:/home/irogers/.local/bin:/usr/local/sbin:/usr/local/bin:/usr/sbin:/usr/bin:/sbin:/bin:/usr/games:/usr/local/games:/snap/bin:/snap/bin:/opt/rakudo-pkg/bin:/opt/rakudo-pkg/share/perl6/bin
    PERL_CPANM_OPT = --prompt --no-man-pages --verify --mirror https://cpan.metacpan.org
    SHELL = /bin/bash
    TERM = xterm-256color

Perl special variables (and OS-specific diagnostics, for MSWin32):

    EGID = 1000 4 24 27 30 46 122 134 135 1000
    EUID = 1000
    EXECUTABLE_NAME = /home/irogers/.plenv/versions/5.36.0/bin/perl5.36.0
    GID = 1000 4 24 27 30 46 122 134 135 1000
    UID = 1000

Perl module toolchain versions installed:

    Module              Have    
    ------------------- --------
    CPAN                2.34    
    CPAN::Meta          2.150010
    Cwd                 3.84    
    ExtUtils::CBuilder  0.280236
    ExtUtils::Command   7.66    
    ExtUtils::Install   2.22    
    ExtUtils::MakeMaker 7.66    
    ExtUtils::Manifest  1.73    
    ExtUtils::ParseXS   3.45    
    File::Spec          3.84    
    JSON                4.10    
    JSON::PP            4.16    
    Module::Build       0.4232  
    Module::Signature   0.88    
    Parse::CPAN::Meta   2.150010
    Test::Harness       3.44    
    Test::More          1.302192
    YAML                1.30    
    YAML::Syck          1.34    
    version             0.9929  


--

Summary of my perl5 (revision 5 version 36 subversion 0) configuration:
   
  Platform:
    osname=linux
    osvers=5.19.0-29-generic
    archname=x86_64-linux
    uname='linux mm-starbook 5.19.0-29-generic #30-ubuntu smp preempt_dynamic wed jan 4 12:14:09 utc 2023 x86_64 x86_64 x86_64 gnulinux '
    config_args='-Dprefix=/home/irogers/.plenv/versions/5.36.0 -de -Dversiononly -Dcc=clang -Doptimize=-O3 -Dccflags-march=native  -Dman1dir=none -Dman3dir=none -A'eval:scriptdir=/home/irogers/.plenv/versions/5.36.0/bin''
    hint=recommended
    useposix=true
    d_sigaction=define
    useithreads=undef
    usemultiplicity=undef
    use64bitint=define
    use64bitall=define
    uselongdouble=undef
    usemymalloc=n
    default_inc_excludes_dot=define
  Compiler:
    cc='clang'
    ccflags ='-fno-strict-aliasing -pipe -fstack-protector-strong -I/usr/local/include -D_LARGEFILE_SOURCE -D_FILE_OFFSET_BITS=64'
    optimize='-O3'
    cppflags='-fno-strict-aliasing -pipe -fstack-protector-strong -I/usr/local/include'
    ccversion=''
    gccversion='Ubuntu Clang 15.0.6'
    gccosandvers=''
    intsize=4
    longsize=8
    ptrsize=8
    doublesize=8
    byteorder=12345678
    doublekind=3
    d_longlong=define
    longlongsize=8
    d_longdbl=define
    longdblsize=16
    longdblkind=3
    ivtype='long'
    ivsize=8
    nvtype='double'
    nvsize=8
    Off_t='off_t'
    lseeksize=8
    alignbytes=8
    prototype=define
  Linker and Libraries:
    ld='clang'
    ldflags =' -fstack-protector-strong -L/usr/local/lib'
    libpth=/usr/lib/llvm-15/lib/clang/15.0.6/lib /usr/local/lib /usr/lib/x86_64-linux-gnu /usr/lib /usr/lib64
    libs=-lpthread -lnsl -ldl -lm -lcrypt -lutil -lc
    perllibs=-lpthread -lnsl -ldl -lm -lcrypt -lutil -lc
    libc=/lib/x86_64-linux-gnu/libc.so.6
    so=so
    useshrplib=false
    libperl=libperl.a
    gnulibc_version='2.36'
  Dynamic Linking:
    dlsrc=dl_dlopen.xs
    dlext=so
    d_dlsymun=undef
    ccdlflags='-Wl,-E'
    cccdlflags='-fPIC'
    lddlflags='-shared -O3 -L/usr/local/lib -fstack-protector-strong'


Characteristics of this binary (from libperl): 
  Compile-time options:
    HAS_TIMES
    PERLIO_LAYERS
    PERL_COPY_ON_WRITE
    PERL_DONT_CREATE_GVSV
    PERL_MALLOC_WRAP
    PERL_OP_PARENT
    PERL_PRESERVE_IVUV
    USE_64_BIT_ALL
    USE_64_BIT_INT
    USE_LARGE_FILES
    USE_LOCALE
    USE_LOCALE_COLLATE
    USE_LOCALE_CTYPE
    USE_LOCALE_NUMERIC
    USE_LOCALE_TIME
    USE_PERLIO
    USE_PERL_ATOF
  Built under linux
  Compiled at Jan 31 2023 10:51:11
  %ENV:
    PERL_CPANM_OPT="--prompt --no-man-pages --verify --mirror https://cpan.metacpan.org"
  @INC:
    /home/irogers/.plenv/versions/5.36.0/lib/perl5/site_perl/5.36.0/x86_64-linux
    /home/irogers/.plenv/versions/5.36.0/lib/perl5/site_perl/5.36.0
    /home/irogers/.plenv/versions/5.36.0/lib/perl5/5.36.0/x86_64-linux
    /home/irogers/.plenv/versions/5.36.0/lib/perl5/5.36.0