File-DataClass v0.73.1 Perl 5 v5.22.0 i86pc-solaris-thread-multi-64

Status
Pass
From
Chris Williams (BINGOS)
Dist
File-DataClass v0.73.1
Platform
Perl 5 v5.22.0 i86pc-solaris-thread-multi-64
Date
2025-05-27 01:25:54
ID
889b51c4-3a99-11f0-acaa-c91c7f7edd59
This distribution has been tested as part of the CPAN Testers
project, supporting the Perl programming language.  See
http://wiki.cpantesters.org/ for more information or email
questions to cpan-testers-discuss@perl.org


--

Dear Peter Flanigan,

This is a computer-generated error report created automatically by
CPANPLUS, version 0.9916. Testers personal comments may appear
at the end of this report.


Thank you for uploading your work to CPAN.  Congratulations!
All tests were successful.

TEST RESULTS:

Below is the error stack from stage 'make test':


OS: solaris, Host: ouzel

=== Environment variables ===

    $AUTHOR_TESTING                   undef
    $AUTOMATED_TESTING                1
    $EXTENDED_TESTING                 undef
    $NONINTERACTIVE_TESTING           1
    $PERL_CPAN_REPORTER_CONFIG        undef
    $PERL_CR_SMOKER_CURRENT           undef
    $PERL5_CPAN_IS_RUNNING            undef
    $PERL5_CPANPLUS_IS_VERSION        0.9916
    $TEST_CRITIC                      undef
    $TEST_SPELLING                    undef

Versions for all modules listed in MYMETA.json (including optional ones):

=== Configure Requires ===

    Module          Want   Have
    ------------- ------ ------
    Module::Build 0.4004 0.4234
    version         0.88 0.9933

=== Build Requires ===

    Module          Want   Have
    ------------- ------ ------
    Module::Build 0.4004 0.4234
    version         0.88 0.9933

=== Test Requires ===

    Module             Want     Have
    ---------------- ------ --------
    Capture::Tiny      0.30     0.50
    File::Spec          any     3.75
    File::pushd        1.00    1.016
    Module::Build    0.4004   0.4234
    Module::Metadata    any 1.000026
    Path::Tiny        0.013    0.148
    Sys::Hostname       any     1.20
    Test::Deep        0.117    1.205
    Test::Requires     0.06     0.11
    Text::Diff         1.37     1.45
    version            0.88   0.9933

=== Test Recommends ===

    Module         Want     Have
    ---------- -------- --------
    CPAN::Meta 2.120900 2.150010

=== Runtime Requires ===

    Module                   Want     Have
    -------------------- -------- --------
    Cache::FastMmap          1.40     1.58
    Class::Null          2.110730 2.110730
    File::Path               2.09     2.18
    File::ReadBackwards      1.05     1.06
    Hash::Merge             0.200    0.302
    JSON::MaybeXS           1.003 1.004008
    Module::Pluggable         5.1      6.3
    Module::Runtime         0.014    0.018
    Moo                  2.000001 2.005005
    Sub::Install            0.928    0.929
    Subclass::Of            0.003    0.009
    Try::Tiny                0.22     0.32
    Type::Tiny           1.000002 2.008002
    Unexpected            v0.39.0    1.0.1
    boolean                  0.45     0.46
    namespace::autoclean     0.26     0.31
    namespace::clean         0.25     0.27

t/00report-metadata.t .. ok
t/02pod.t .............. skipped: POD test only for developers
t/03podcoverage.t ...... skipped: POD coverage test only for developers
t/05kwalitee.t ......... skipped: Kwalitee test only for developers
t/06yaml.t ............. skipped: YAML test only for developers
t/07podspelling.t ...... skipped: POD spelling test only for developers
t/10exception.t ........ ok
t/12types.t ............ ok
t/13functions.t ........ ok
t/15io.t ............... ok
t/17constraints.t ...... ok
t/20data-class.t ....... ok
t/21hash-merge.t ....... ok
t/50json.t ............. ok
All tests successful.
Files=14, Tests=198, 10 wallclock secs ( 0.18 usr  0.07 sys +  7.97 cusr  1.62 csys =  9.84 CPU)
Result: PASS


PREREQUISITES:

Here is a list of prerequisites you specified and versions we
managed to load:

	  Module Name                        Have     Want
	  Cache::FastMmap                    1.58     1.40
	  Capture::Tiny                      0.50     0.30
	  Class::Null                    2.110730 2.110730
	  File::Path                         2.18     2.09
	  File::ReadBackwards                1.06     1.05
	  File::Spec                         3.75        0
	  File::pushd                       1.016     1.00
	  Hash::Merge                       0.302    0.200
	  JSON::MaybeXS                  1.004008    1.003
	  Module::Build                    0.4234   0.4004
	  Module::Metadata               1.000026        0
	  Module::Pluggable                   6.3      5.1
	  Module::Runtime                   0.018    0.014
	  Moo                            2.005005 2.000001
	  Path::Tiny                        0.148    0.013
	  Sub::Install                      0.929    0.928
	  Subclass::Of                      0.009    0.003
	  Sys::Hostname                      1.20        0
	  Test::Deep                        1.205    0.117
	  Test::Requires                     0.11     0.06
	  Text::Diff                         1.45     1.37
	  Try::Tiny                          0.32     0.22
	  Type::Tiny                     2.008002 1.000002
	  Unexpected                        1.0.1  v0.39.0
	  boolean                            0.46     0.45
	  namespace::autoclean               0.31     0.26
	  namespace::clean                   0.27     0.25
	  version                          0.9933     0.88

Perl module toolchain versions installed:
	Module Name                        Have
	CPANPLUS                         0.9916
	CPANPLUS::Dist::Build              0.90
	Cwd                                3.75
	ExtUtils::CBuilder             0.280236
	ExtUtils::Command                  7.74
	ExtUtils::Install                  2.22
	ExtUtils::MakeMaker                7.74
	ExtUtils::Manifest                 1.75
	ExtUtils::ParseXS                  3.51
	File::Spec                         3.75
	Module::Build                    0.4234
	Pod::Parser                        1.63
	Pod::Simple                        3.29
	Test2                          1.302210
	Test::Harness                      3.50
	Test::More                     1.302210
	version                          0.9933

******************************** NOTE ********************************
The comments above are created mechanically, possibly without manual
checking by the sender.  As there are many people performing automatic
tests on each upload to CPAN, it is likely that you will receive
identical messages about the same problem.

If you believe that the message is mistaken, please reply to the first
one with correction and/or additional informations, and do not take
it personally.  We appreciate your patience. :)
**********************************************************************

Additional comments:


This report was machine-generated by CPANPLUS::Dist::YACSmoke 1.08.
Powered by minismokebox version 0.68

CPANPLUS is prefering Build.PL

------------------------------
ENVIRONMENT AND OTHER CONTEXT
------------------------------

Environment variables:

    AUTOMATED_TESTING = 1
    LANG = en_GB.UTF-8
    NONINTERACTIVE_TESTING = 1
    PATH = /usr/bin:/usr/sbin:/sbin:/opt/ooce/bin:/usr/gnu/bin
    PERL5LIB = /home/cpan/pit/jail/n5rqP2js6a/lib/perl5:/home/cpan/pit/thr/conf/perl-5.22.0/.cpanplus/5.22.0/build/3i7C0nzxJR/File-DataClass-0.73.1/blib/lib:/home/cpan/pit/thr/conf/perl-5.22.0/.cpanplus/5.22.0/build/3i7C0nzxJR/File-DataClass-0.73.1/blib/arch
    PERL5_CPANPLUS_IS_RUNNING = 22084
    PERL5_CPANPLUS_IS_VERSION = 0.9916
    PERL5_MINISMOKEBOX = 0.68
    PERL5_YACSMOKE_BASE = /home/cpan/pit/thr/conf/perl-5.22.0
    PERL_EXTUTILS_AUTOINSTALL = --defaultdeps
    PERL_LOCAL_LIB_ROOT = /home/cpan/pit/jail/n5rqP2js6a
    PERL_MB_OPT = --install_base "/home/cpan/pit/jail/n5rqP2js6a"
    PERL_MM_OPT = INSTALL_BASE=/home/cpan/pit/jail/n5rqP2js6a
    PERL_MM_USE_DEFAULT = 1
    SHELL = /bin/bash
    TERM = screen.xterm-256color

Perl special variables (and OS-specific diagnostics, for MSWin32):

    Perl: $^X = /home/cpan/pit/thr/perl-5.22.0/bin/perl
    UID:  $<  = 101
    EUID: $>  = 101
    GID:  $(  = 101 101
    EGID: $)  = 101 101


-------------------------------


--

Summary of my perl5 (revision 5 version 22 subversion 0) configuration:
   
  Platform:
    osname=solaris, osvers=2.11, archname=i86pc-solaris-thread-multi-64
    uname='sunos ouzel 5.11 omnios-r151034-0d278a0cc5 i86pc i386 i86pc '
    config_args='-des -Dprefix=/home/cpan/pit/thr/perl-5.22.0 -Dusethreads -Duse64bitall -Dcc=gcc'
    hint=recommended, useposix=true, d_sigaction=define
    useithreads=define, usemultiplicity=define
    use64bitint=define, use64bitall=define, uselongdouble=undef
    usemymalloc=n, bincompat5005=undef
  Compiler:
    cc='gcc', ccflags ='-D_REENTRANT -m64 -fwrapv -fno-strict-aliasing -pipe -fstack-protector-strong -D_LARGEFILE_SOURCE -D_FILE_OFFSET_BITS=64 -D_FORTIFY_SOURCE=2 -DPERL_USE_SAFE_PUTENV',
    optimize='-O',
    cppflags='-D_REENTRANT -m64 -fwrapv -fno-strict-aliasing -pipe -fstack-protector-strong'
    ccversion='', gccversion='9.3.0', gccosandvers=''
    intsize=4, longsize=8, ptrsize=8, doublesize=8, byteorder=12345678, doublekind=3
    d_longlong=define, longlongsize=8, d_longdbl=define, longdblsize=16, longdblkind=3
    ivtype='long', ivsize=8, nvtype='double', nvsize=8, Off_t='off_t', lseeksize=8
    alignbytes=8, prototype=define
  Linker and Libraries:
    ld='gcc', ldflags =' -m64 -fstack-protector-strong -L/usr/gnu/lib '
    libpth=/opt/gcc-9/lib /opt/gcc-9/lib/gcc/x86_64-pc-solaris2.11/9.3.0/include-fixed /usr/lib /usr/gnu/lib /usr/ccs/lib
    libs=-lpthread -lsocket -lnsl -ldl -lm -lc
    perllibs=-lpthread -lsocket -lnsl -ldl -lm -lc
    libc=/lib/libc.so, so=so, useshrplib=true, libperl=libperl.so
    gnulibc_version=''
  Dynamic Linking:
    dlsrc=dl_dlopen.xs, dlext=so, d_dlsymun=undef, ccdlflags='  -R /home/cpan/pit/thr/perl-5.22.0/lib/5.22.0/i86pc-solaris-thread-multi-64/CORE'
    cccdlflags='-fPIC', lddlflags=' -shared -m64 -L/usr/gnu/lib -fstack-protector-strong'


Characteristics of this binary (from libperl): 
  Compile-time options: HAS_TIMES MULTIPLICITY PERLIO_LAYERS
                        PERL_DONT_CREATE_GVSV
                        PERL_HASH_FUNC_ONE_AT_A_TIME_HARD
                        PERL_IMPLICIT_CONTEXT PERL_MALLOC_WRAP
                        PERL_NEW_COPY_ON_WRITE PERL_PRESERVE_IVUV
                        PERL_USE_SAFE_PUTENV USE_64_BIT_ALL USE_64_BIT_INT
                        USE_ITHREADS USE_LARGE_FILES USE_LOCALE
                        USE_LOCALE_COLLATE USE_LOCALE_CTYPE
                        USE_LOCALE_NUMERIC USE_LOCALE_TIME USE_PERLIO
                        USE_PERL_ATOF USE_REENTRANT_API
  Locally applied patches:
	Devel::PatchPerl 2.00
  Built under solaris
  Compiled at Aug 20 2020 06:48:18
  %ENV:
    PERL5LIB="/home/cpan/pit/jail/n5rqP2js6a/lib/perl5:/home/cpan/pit/thr/conf/perl-5.22.0/.cpanplus/5.22.0/build/3i7C0nzxJR/File-DataClass-0.73.1/blib/lib:/home/cpan/pit/thr/conf/perl-5.22.0/.cpanplus/5.22.0/build/3i7C0nzxJR/File-DataClass-0.73.1/blib/arch"
    PERL5_CPANPLUS_IS_RUNNING="22084"
    PERL5_CPANPLUS_IS_VERSION="0.9916"
    PERL5_MINISMOKEBOX="0.68"
    PERL5_YACSMOKE_BASE="/home/cpan/pit/thr/conf/perl-5.22.0"
    PERL_EXTUTILS_AUTOINSTALL="--defaultdeps"
    PERL_LOCAL_LIB_ROOT="/home/cpan/pit/jail/n5rqP2js6a"
    PERL_MB_OPT="--install_base "/home/cpan/pit/jail/n5rqP2js6a""
    PERL_MM_OPT="INSTALL_BASE=/home/cpan/pit/jail/n5rqP2js6a"
    PERL_MM_USE_DEFAULT="1"
  @INC:
    /home/cpan/pit/jail/n5rqP2js6a/lib/perl5/5.22.0/i86pc-solaris-thread-multi-64
    /home/cpan/pit/jail/n5rqP2js6a/lib/perl5/5.22.0
    /home/cpan/pit/jail/n5rqP2js6a/lib/perl5/i86pc-solaris-thread-multi-64
    /home/cpan/pit/jail/n5rqP2js6a/lib/perl5
    /home/cpan/pit/thr/conf/perl-5.22.0/.cpanplus/5.22.0/build/3i7C0nzxJR/File-DataClass-0.73.1/blib/lib
    /home/cpan/pit/thr/conf/perl-5.22.0/.cpanplus/5.22.0/build/3i7C0nzxJR/File-DataClass-0.73.1/blib/arch
    /home/cpan/pit/thr/perl-5.22.0/lib/site_perl/5.22.0/i86pc-solaris-thread-multi-64
    /home/cpan/pit/thr/perl-5.22.0/lib/site_perl/5.22.0
    /home/cpan/pit/thr/perl-5.22.0/lib/5.22.0/i86pc-solaris-thread-multi-64
    /home/cpan/pit/thr/perl-5.22.0/lib/5.22.0
    .