Win32-Mock v0.05 Perl 5 v5.27.8 OpenBSD.amd64-openbsd

Status
Pass
From
Alceu Rodrigues de Freitas Junior
Dist
Win32-Mock v0.05
Platform
Perl 5 v5.27.8 OpenBSD.amd64-openbsd
Date
2018-02-04 22:34:16
ID
886a7922-09fb-11e8-a020-f9b7f03f951d
This distribution has been tested as part of the CPAN Testers
project, supporting the Perl programming language.  See
http://wiki.cpantesters.org/ for more information or email
questions to cpan-testers-discuss@perl.org


--
Dear Sebastien Aperghis-Tramoni,

This is a computer-generated report for Win32-Mock-0.05
on perl 5.27.8, created by CPAN-Reporter-1.2018.

Thank you for uploading your work to CPAN.  Congratulations!
All tests were successful.

Sections of this report:

    * Tester comments
    * Program output
    * Prerequisites
    * Environment and other context

------------------------------
TESTER COMMENTS
------------------------------

Additional comments from tester:

this report is from an automated smoke testing program
and was not reviewed by a human for accuracy

------------------------------
PROGRAM OUTPUT
------------------------------

Output from './Build test':

# Testing Win32::Mock 0.05, Perl 5.027008, /home/vegeta/perl5/perlbrew/perls/perl-5.27.8/bin/perl5.27.8
t/00-load.t .............................. ok
t/pod-coverage.t ......................... skipped: *** disabled for now ***
t/pod.t .................................. skipped: *** disabled for now ***
t/core/Win32/CopyFile.t .................. ok
Undefined value assigned to typeglob at /home/vegeta/perl5/perlbrew/perls/perl-5.27.8/lib/site_perl/5.27.8/Devel/FakeOSName.pm line 21.
Subroutine STORE redefined at /home/vegeta/perl5/perlbrew/perls/perl-5.27.8/lib/5.27.8/OpenBSD.amd64-openbsd/Config_heavy.pl line 1438.
t/core/Win32/CreateFile.t ................ ok
Undefined value assigned to typeglob at /home/vegeta/perl5/perlbrew/perls/perl-5.27.8/lib/site_perl/5.27.8/Devel/FakeOSName.pm line 21.
Subroutine STORE redefined at /home/vegeta/perl5/perlbrew/perls/perl-5.27.8/lib/5.27.8/OpenBSD.amd64-openbsd/Config_heavy.pl line 1438.
t/core/Win32/ExpandEnvironmentStrings.t .. ok
Undefined value assigned to typeglob at /home/vegeta/perl5/perlbrew/perls/perl-5.27.8/lib/site_perl/5.27.8/Devel/FakeOSName.pm line 21.
Subroutine STORE redefined at /home/vegeta/perl5/perlbrew/perls/perl-5.27.8/lib/5.27.8/OpenBSD.amd64-openbsd/Config_heavy.pl line 1438.
t/core/Win32/GetCurrentThreadId.t ........ skipped: Test requires fork emulation
Undefined value assigned to typeglob at /home/vegeta/perl5/perlbrew/perls/perl-5.27.8/lib/site_perl/5.27.8/Devel/FakeOSName.pm line 21.
Subroutine STORE redefined at /home/vegeta/perl5/perlbrew/perls/perl-5.27.8/lib/5.27.8/OpenBSD.amd64-openbsd/Config_heavy.pl line 1438.
t/core/Win32/GetFileVersion.t ............ ok
Undefined value assigned to typeglob at /home/vegeta/perl5/perlbrew/perls/perl-5.27.8/lib/site_perl/5.27.8/Devel/FakeOSName.pm line 21.
Subroutine STORE redefined at /home/vegeta/perl5/perlbrew/perls/perl-5.27.8/lib/5.27.8/OpenBSD.amd64-openbsd/Config_heavy.pl line 1438.
t/core/Win32/GetFolderPath.t ............. ok
t/core/Win32/GetFullPathName.t ........... skipped: because these tests are too hard to mock
t/core/Win32/GetLongPathName.t ........... skipped: because these tests are too hard to mock
Undefined value assigned to typeglob at /home/vegeta/perl5/perlbrew/perls/perl-5.27.8/lib/site_perl/5.27.8/Devel/FakeOSName.pm line 21.
Subroutine STORE redefined at /home/vegeta/perl5/perlbrew/perls/perl-5.27.8/lib/5.27.8/OpenBSD.amd64-openbsd/Config_heavy.pl line 1438.
t/core/Win32/GetOSVersion.t .............. ok
t/core/Win32/GetShortPathName.t .......... skipped: because these tests are too hard to mock
Undefined value assigned to typeglob at /home/vegeta/perl5/perlbrew/perls/perl-5.27.8/lib/site_perl/5.27.8/Devel/FakeOSName.pm line 21.
Subroutine STORE redefined at /home/vegeta/perl5/perlbrew/perls/perl-5.27.8/lib/5.27.8/OpenBSD.amd64-openbsd/Config_heavy.pl line 1438.
t/core/Win32/GuidGen.t ................... ok
t/core/Win32/Names.t ..................... ok
Undefined value assigned to typeglob at /home/vegeta/perl5/perlbrew/perls/perl-5.27.8/lib/site_perl/5.27.8/Devel/FakeOSName.pm line 21.
Subroutine STORE redefined at /home/vegeta/perl5/perlbrew/perls/perl-5.27.8/lib/5.27.8/OpenBSD.amd64-openbsd/Config_heavy.pl line 1438.
t/core/Win32/Unicode.t ................... skipped: Filesystem doesn't support Unicode
t/core/Win32CORE/win32core.t ............. ok
t/libwin32/APINet/test.t ................. skipped: *** NOT IMPLEMENTED
t/libwin32/Clipboard/test.t .............. skipped: *** NOT IMPLEMENTED
t/libwin32/EventLog/eventlog.t ........... skipped: *** NOT IMPLEMENTED
Undefined value assigned to typeglob at /home/vegeta/perl5/perlbrew/perls/perl-5.27.8/lib/site_perl/5.27.8/Devel/FakeOSName.pm line 21.
t/libwin32/File/file.t ................... ok
t/libwin32/NetAdmin/netadmin.t ........... skipped: *** NOT IMPLEMENTED
t/libwin32/NetResource/netresource.t ..... skipped: *** NOT IMPLEMENTED
t/libwin32/OLE/1_nls.t ................... skipped: *** NOT IMPLEMENTED
t/libwin32/OLE/2_variant.t ............... skipped: *** NOT IMPLEMENTED
t/libwin32/OLE/3_ole.t ................... skipped: *** NOT IMPLEMENTED
t/libwin32/OLE/4_compat.t ................ skipped: *** NOT IMPLEMENTED
t/libwin32/OLE/5_unicode.t ............... skipped: *** NOT IMPLEMENTED
t/libwin32/OLE/6_event.t ................. skipped: *** NOT IMPLEMENTED
t/libwin32/OLE/7_overload.t .............. skipped: *** NOT IMPLEMENTED
t/libwin32/Registry/registry.t ........... skipped: *** NOT IMPLEMENTED
Undefined value assigned to typeglob at /home/vegeta/perl5/perlbrew/perls/perl-5.27.8/lib/site_perl/5.27.8/Devel/FakeOSName.pm line 21.
dummy|dummy
	Win32ExitCode		0
	ControlsAccepted		2
	CheckPoint		0
	WaitHint		0
	ServiceType		16
	CurrentState		7
	ServiceSpecificExitCode		0
t/libwin32/Service/service.t ............. ok
All tests successful.
Files=32, Tests=59,  3 wallclock secs ( 0.07 usr  0.24 sys +  1.32 cusr  0.68 csys =  2.31 CPU)
Result: PASS

------------------------------
PREREQUISITES
------------------------------

Prerequisite modules loaded:

requires:

    Module            Need Have    
    ----------------- ---- --------
    constant          1.12 1.33    
    Devel::FakeOSName 0    0.01    
    ExtUtils::Command 0    7.31_07 
    File::Basename    0    2.85    
    File::Spec        0.7  3.62    

build_requires:

    Module            Need Have    
    ----------------- ---- --------
    Test::More        0    1.302120

opt_requires:

    Module            Need Have    
    ----------------- ---- --------
    Data::GUID        0    0.049   
    File::HomeDir     0    1.002   


------------------------------
ENVIRONMENT AND OTHER CONTEXT
------------------------------

Environment variables:

    AUTOMATED_TESTING = 1
    DBD_MYSQL_TESTDB = test
    DBD_MYSQL_TESTHOST = localhost
    DBD_MYSQL_TESTPASSWORD = 
    DBD_MYSQL_TESTPORT = 3306
    DBD_MYSQL_TESTUSER = vegeta
    EXTENDED_TESTING = 1
    PATH = /home/vegeta/perl5/perlbrew/bin:/home/vegeta/perl5/perlbrew/perls/perl-5.27.8/bin:/home/vegeta/bin:/usr/bin:/bin:/usr/sbin:/sbin:/usr/X11R6/bin:/usr/local/bin:/usr/local/sbin
    PERL5LIB = 
    PERL5OPT = 
    PERL5_CPANPLUS_IS_RUNNING = 52022
    PERL5_CPAN_IS_RUNNING = 52022
    PERL5_CPAN_IS_RUNNING_IN_RECURSION = 57495,52022
    PERLBREW_HOME = /home/vegeta/.perlbrew
    PERLBREW_MANPATH = /home/vegeta/perl5/perlbrew/perls/perl-5.27.8/man
    PERLBREW_PATH = /home/vegeta/perl5/perlbrew/bin:/home/vegeta/perl5/perlbrew/perls/perl-5.27.8/bin
    PERLBREW_PERL = perl-5.27.8
    PERLBREW_ROOT = /home/vegeta/perl5/perlbrew
    PERLBREW_SHELLRC_VERSION = 0.82
    PERLBREW_VERSION = 0.82
    PERL_CR_SMOKER_CURRENT = Win32-Mock-0.05
    PERL_EXTUTILS_AUTOINSTALL = --defaultdeps
    PERL_MM_USE_DEFAULT = 1
    PERL_USE_UNSAFE_INC = 1
    SHELL = /usr/local/bin/bash
    TERM = xterm

Perl special variables (and OS-specific diagnostics, for MSWin32):

    $^X = /home/vegeta/perl5/perlbrew/perls/perl-5.27.8/bin/perl5.27.8
    $UID/$EUID = 1002 / 1002
    $GID = 1002 1002 1001
    $EGID = 1002 1002 1001

Perl module toolchain versions installed:

    Module              Have    
    ------------------- --------
    CPAN                2.20    
    CPAN::Meta          2.150010
    Cwd                 3.62    
    ExtUtils::CBuilder  0.280230
    ExtUtils::Command   7.31_07 
    ExtUtils::Install   2.14    
    ExtUtils::MakeMaker 7.31_07 
    ExtUtils::Manifest  1.70    
    ExtUtils::ParseXS   3.35    
    File::Spec          3.62    
    JSON                2.90    
    JSON::PP            2.97001 
    Module::Build       0.4224  
    Module::Signature   n/a     
    Parse::CPAN::Meta   2.150010
    Test::Harness       3.39    
    Test::More          1.302120
    YAML                1.24    
    YAML::Syck          n/a     
    version             0.9918  


--

Summary of my perl5 (revision 5 version 27 subversion 8) configuration:
   
  Platform:
    osname=openbsd
    osvers=6.2
    archname=OpenBSD.amd64-openbsd
    uname='openbsd cpan-smoker-openbsd 6.2 generic.mp#134 amd64 '
    config_args='-de -Dprefix=/home/vegeta/perl5/perlbrew/perls/perl-5.27.8 -Dusedevel -Aeval:scriptdir=/home/vegeta/perl5/perlbrew/perls/perl-5.27.8/bin'
    hint=recommended
    useposix=true
    d_sigaction=define
    useithreads=undef
    usemultiplicity=undef
    use64bitint=define
    use64bitall=define
    uselongdouble=undef
    usemymalloc=n
    default_inc_excludes_dot=define
    bincompat5005=undef
  Compiler:
    cc='cc'
    ccflags ='-fno-strict-aliasing -pipe -fstack-protector-strong -I/usr/local/include -D_FORTIFY_SOURCE=2'
    optimize='-O2'
    cppflags='-fno-strict-aliasing -pipe -fstack-protector-strong -I/usr/local/include'
    ccversion=''
    gccversion='4.2.1 Compatible OpenBSD Clang 4.0.0 (tags/RELEASE_400/final)'
    gccosandvers=''
    intsize=4
    longsize=8
    ptrsize=8
    doublesize=8
    byteorder=12345678
    doublekind=3
    d_longlong=define
    longlongsize=8
    d_longdbl=define
    longdblsize=16
    longdblkind=3
    ivtype='long'
    ivsize=8
    nvtype='double'
    nvsize=8
    Off_t='off_t'
    lseeksize=8
    alignbytes=8
    prototype=define
  Linker and Libraries:
    ld='cc'
    ldflags ='-Wl,-E  -fstack-protector-strong -L/usr/local/lib'
    libpth=/usr/lib /usr/local/lib
    libs=-lpthread -lm -lutil -lc
    perllibs=-lpthread -lm -lutil -lc
    libc=/usr/lib/libc.so.90.0
    so=so
    useshrplib=false
    libperl=libperl.a
    gnulibc_version=''
  Dynamic Linking:
    dlsrc=dl_dlopen.xs
    dlext=so
    d_dlsymun=undef
    ccdlflags=' '
    cccdlflags='-DPIC -fPIC '
    lddlflags='-shared -fPIC  -L/usr/local/lib -fstack-protector-strong'


Characteristics of this binary (from libperl): 
  Compile-time options:
    HAS_TIMES
    PERLIO_LAYERS
    PERL_COPY_ON_WRITE
    PERL_DONT_CREATE_GVSV
    PERL_MALLOC_WRAP
    PERL_OP_PARENT
    PERL_PRESERVE_IVUV
    PERL_USE_DEVEL
    USE_64_BIT_ALL
    USE_64_BIT_INT
    USE_LARGE_FILES
    USE_LOCALE
    USE_LOCALE_COLLATE
    USE_LOCALE_CTYPE
    USE_LOCALE_NUMERIC
    USE_LOCALE_TIME
    USE_PERLIO
    USE_PERL_ATOF
  Locally applied patches:
    Devel::PatchPerl 1.48
  Built under openbsd
  Compiled at Jan 23 2018 17:20:45
  %ENV:
    PERL5LIB=""
    PERL5OPT=""
    PERL5_CPANPLUS_IS_RUNNING="52022"
    PERL5_CPAN_IS_RUNNING="52022"
    PERL5_CPAN_IS_RUNNING_IN_RECURSION="57495,52022"
    PERLBREW_HOME="/home/vegeta/.perlbrew"
    PERLBREW_MANPATH="/home/vegeta/perl5/perlbrew/perls/perl-5.27.8/man"
    PERLBREW_PATH="/home/vegeta/perl5/perlbrew/bin:/home/vegeta/perl5/perlbrew/perls/perl-5.27.8/bin"
    PERLBREW_PERL="perl-5.27.8"
    PERLBREW_ROOT="/home/vegeta/perl5/perlbrew"
    PERLBREW_SHELLRC_VERSION="0.82"
    PERLBREW_VERSION="0.82"
    PERL_CR_SMOKER_CURRENT="Win32-Mock-0.05"
    PERL_EXTUTILS_AUTOINSTALL="--defaultdeps"
    PERL_MM_USE_DEFAULT="1"
    PERL_USE_UNSAFE_INC="1"
  @INC:
    /home/vegeta/perl5/perlbrew/perls/perl-5.27.8/lib/site_perl/5.27.8/OpenBSD.amd64-openbsd
    /home/vegeta/perl5/perlbrew/perls/perl-5.27.8/lib/site_perl/5.27.8
    /home/vegeta/perl5/perlbrew/perls/perl-5.27.8/lib/5.27.8/OpenBSD.amd64-openbsd
    /home/vegeta/perl5/perlbrew/perls/perl-5.27.8/lib/5.27.8
    .