Report for Yahoo-Marketing-7.03

Back
From: metabase:user:320bfe00-2aae-11df-837a-5e0a49663a4f
Subject: PASS Yahoo-Marketing-7.03 v5.19.10 GNU/Linux
Date: 2014-02-22T05:59:46Z

This distribution has been tested as part of the CPAN Testers
project, supporting the Perl programming language.  See
http://wiki.cpantesters.org/ for more information or email
questions to cpan-testers-discuss@perl.org


--
Dear Johnny Shen,

This is a computer-generated report for Yahoo-Marketing-7.03
on perl 5.19.10, created by CPAN-Reporter-1.2010.

Thank you for uploading your work to CPAN.  Congratulations!
All tests were successful.

Sections of this report:

    * Tester comments
    * Program output
    * Prerequisites
    * Environment and other context

------------------------------
TESTER COMMENTS
------------------------------

Additional comments from tester:

this report is from an automated smoke testing program
and was not reviewed by a human for accuracy

------------------------------
PROGRAM OUTPUT
------------------------------

Output from './Build test':


NOTE: we can run tests that will connect to Yahoo! Marketing's 
EWS, verifying your login credentials and more completely testing 
that this package is performing correctly.  If you would like to 
run these tests, please use perl Build posttest.

Possible precedence issue with control flow operator at /tmp/loop_over_bdir-18600-R7jtt_/Yahoo-Marketing-7.03-P6gBOx/blib/lib/Yahoo/Marketing/Service.pm line 615.
# Testing Yahoo::Marketing 7.03, Perl 5.019010, /tmp/basesmoker-reloperl-li9F/bin/perl
t/00-load.t .................................... ok
Possible precedence issue with control flow operator at /tmp/loop_over_bdir-18600-R7jtt_/Yahoo-Marketing-7.03-P6gBOx/blib/lib/Yahoo/Marketing/Service.pm line 615.
t/01-instantiate_services.t .................... ok
Possible precedence issue with control flow operator at /tmp/loop_over_bdir-18600-R7jtt_/Yahoo-Marketing-7.03-P6gBOx/blib/lib/Yahoo/Marketing/Service.pm line 615.
t/02-cache.t ................................... ok
t/account.t .................................... ok
t/account_aggregate.t .......................... ok
t/account_balance.t ............................ ok
t/account_carrier_config.t ..................... ok
t/account_carrier_setting.t .................... ok
Possible precedence issue with control flow operator at /tmp/loop_over_bdir-18600-R7jtt_/Yahoo-Marketing-7.03-P6gBOx/blib/lib/Yahoo/Marketing/Service.pm line 615.
t/account_service.t ............................ ok
t/ad.t ......................................... ok
t/ad_carrier_config.t .......................... ok
t/ad_carrier_editorial_reason_info.t ........... ok
t/ad_carrier_editorial_reasons.t ............... ok
t/ad_carrier_setting.t ......................... ok
t/ad_editorial_reasons.t ....................... ok
t/ad_group.t ................................... ok
t/ad_group_carrier_config.t .................... ok
t/ad_group_carrier_setting.t ................... ok
t/ad_group_forecast_request_data.t ............. ok
t/ad_group_optimization_guidelines.t ........... ok
t/ad_group_optimization_guidelines_response.t .. ok
t/ad_group_response.t .......................... ok
Possible precedence issue with control flow operator at /tmp/loop_over_bdir-18600-R7jtt_/Yahoo-Marketing-7.03-P6gBOx/blib/lib/Yahoo/Marketing/Service.pm line 615.
t/ad_group_service.t ........................... ok
t/ad_response.t ................................ ok
Possible precedence issue with control flow operator at /tmp/loop_over_bdir-18600-R7jtt_/Yahoo-Marketing-7.03-P6gBOx/blib/lib/Yahoo/Marketing/Service.pm line 615.
t/ad_service.t ................................. ok
t/address.t .................................... ok
t/age_range.t .................................. ok
t/age_target.t ................................. ok
t/ambiguous_geo_match.t ........................ ok
t/api_fault.t .................................. ok
t/authorization.t .............................. ok
t/basic_report_request.t ....................... ok
Possible precedence issue with control flow operator at /tmp/loop_over_bdir-18600-R7jtt_/Yahoo-Marketing-7.03-P6gBOx/blib/lib/Yahoo/Marketing/Service.pm line 615.
t/basic_report_service.t ....................... ok
t/basic_response.t ............................. ok
t/bid_information.t ............................ ok
t/bid_information_request.t .................... ok
Possible precedence issue with control flow operator at /tmp/loop_over_bdir-18600-R7jtt_/Yahoo-Marketing-7.03-P6gBOx/blib/lib/Yahoo/Marketing/Service.pm line 615.
t/bid_information_service.t .................... ok
t/bid_update_info.t ............................ ok
t/billing_user.t ............................... ok
t/boilerplate.t ................................ ok
t/bucket_type.t ................................ ok
Possible precedence issue with control flow operator at /tmp/loop_over_bdir-18600-R7jtt_/Yahoo-Marketing-7.03-P6gBOx/blib/lib/Yahoo/Marketing/Service.pm line 615.
t/budgeting_service.t .......................... ok
t/bulk_download_status_info.t .................. ok
t/bulk_download_status_response.t .............. ok
Possible precedence issue with control flow operator at /tmp/loop_over_bdir-18600-R7jtt_/Yahoo-Marketing-7.03-P6gBOx/blib/lib/Yahoo/Marketing/Service.pm line 615.
t/bulk_service.t ............................... ok
t/bulk_upload_status_response.t ................ ok
t/bulk_upload_token_url_response.t ............. ok
t/campaign.t ................................... ok
t/campaign_carrier_config.t .................... ok
t/campaign_carrier_setting.t ................... ok
t/campaign_optimization_guidelines.t ........... ok
t/campaign_optimization_guidelines_response.t .. ok
t/campaign_response.t .......................... ok
Possible precedence issue with control flow operator at /tmp/loop_over_bdir-18600-R7jtt_/Yahoo-Marketing-7.03-P6gBOx/blib/lib/Yahoo/Marketing/Service.pm line 615.
t/campaign_service.t ........................... ok
t/capability.t ................................. ok
t/carrier.t .................................... ok
t/carrier_bid_information.t .................... ok
t/carrier_bid_information_request.t ............ ok
t/combined_account_status.t .................... ok
t/company.t .................................... ok
Possible precedence issue with control flow operator at /tmp/loop_over_bdir-18600-R7jtt_/Yahoo-Marketing-7.03-P6gBOx/blib/lib/Yahoo/Marketing/Service.pm line 615.
t/company_service.t ............................ ok
t/credit_card_info.t ........................... ok
t/day_part.t ................................... ok
t/day_parting_target.t ......................... ok
t/day_parting_targeting.t ...................... ok
t/demographic_targeting.t ...................... ok
t/download_file.t .............................. ok
t/error.t ...................................... ok
t/error_type.t ................................. ok
Possible precedence issue with control flow operator at /tmp/loop_over_bdir-18600-R7jtt_/Yahoo-Marketing-7.03-P6gBOx/blib/lib/Yahoo/Marketing/Service.pm line 615.
t/example.t .................................... ok
t/excluded_word.t .............................. ok
t/excluded_word_response.t ..................... ok
Possible precedence issue with control flow operator at /tmp/loop_over_bdir-18600-R7jtt_/Yahoo-Marketing-7.03-P6gBOx/blib/lib/Yahoo/Marketing/Service.pm line 615.
t/excluded_words_service.t ..................... ok
t/file_output_format.t ......................... ok
t/forecast_click_data.t ........................ ok
t/forecast_creative.t .......................... ok
t/forecast_impression_data.t ................... ok
t/forecast_keyword.t ........................... ok
t/forecast_keyword_batch.t ..................... ok
t/forecast_keyword_batch_response.t ............ ok
t/forecast_keyword_batch_response_data.t ....... ok
t/forecast_keyword_response.t .................. ok
t/forecast_request_data.t ...................... ok
t/forecast_response.t .......................... ok
t/forecast_response_data.t ..................... ok
Possible precedence issue with control flow operator at /tmp/loop_over_bdir-18600-R7jtt_/Yahoo-Marketing-7.03-P6gBOx/blib/lib/Yahoo/Marketing/Service.pm line 615.
t/forecast_service.t ........................... ok
t/gender_target.t .............................. ok
t/geo_location.t ............................... ok
t/geo_location_probability.t ................... ok
t/geo_location_probability_set.t ............... ok
t/geo_target.t ................................. ok
Possible precedence issue with control flow operator at /tmp/loop_over_bdir-18600-R7jtt_/Yahoo-Marketing-7.03-P6gBOx/blib/lib/Yahoo/Marketing/Service.pm line 615.
t/geographical_dictionary_service.t ............ ok
t/historical_keyword.t ......................... ok
t/historical_keyword_response.t ................ ok
t/historical_keyword_response_data.t ........... ok
t/historical_request_data.t .................... ok
t/historical_response_data.t ................... ok
t/keyword.t .................................... ok
t/keyword_carrier_config.t ..................... ok
t/keyword_carrier_editorial_reason_info.t ...... ok
t/keyword_carrier_editorial_reasons.t .......... ok
t/keyword_carrier_setting.t .................... ok
t/keyword_editorial_reasons.t .................. ok
t/keyword_forecast_request_data.t .............. ok
t/keyword_info_request_type.t .................. ok
t/keyword_info_response_type.t ................. ok
t/keyword_info_type.t .......................... ok
t/keyword_optimization_guidelines.t ............ ok
t/keyword_optimization_guidelines_response.t ... ok
t/keyword_participation_status.t ............... ok
t/keyword_rejection_reasons.t .................. ok
Possible precedence issue with control flow operator at /tmp/loop_over_bdir-18600-R7jtt_/Yahoo-Marketing-7.03-P6gBOx/blib/lib/Yahoo/Marketing/Service.pm line 615.
t/keyword_research_service.t ................... ok
t/keyword_response.t ........................... ok
Possible precedence issue with control flow operator at /tmp/loop_over_bdir-18600-R7jtt_/Yahoo-Marketing-7.03-P6gBOx/blib/lib/Yahoo/Marketing/Service.pm line 615.
t/keyword_service.t ............................ ok
t/master_account.t ............................. ok
Possible precedence issue with control flow operator at /tmp/loop_over_bdir-18600-R7jtt_/Yahoo-Marketing-7.03-P6gBOx/blib/lib/Yahoo/Marketing/Service.pm line 615.
t/master_account_service.t ..................... ok
Possible precedence issue with control flow operator at /tmp/loop_over_bdir-18600-R7jtt_/Yahoo-Marketing-7.03-P6gBOx/blib/lib/Yahoo/Marketing/Service.pm line 615.
t/mobile_dictionary_service.t .................. ok
t/network.t .................................... ok
t/network_distribution.t ....................... ok
t/network_target.t ............................. ok
t/opt_in_ad_group_response.t ................... ok
t/opt_in_campaign_response.t ................... ok
t/opt_in_status.t .............................. ok
t/page_related_keyword_request_type.t .......... ok
t/payment_info.t ............................... ok
t/payment_method_info.t ........................ ok
Possible precedence issue with control flow operator at /tmp/loop_over_bdir-18600-R7jtt_/Yahoo-Marketing-7.03-P6gBOx/blib/lib/Yahoo/Marketing/Service.pm line 615.
t/pod-coverage.t ............................... ok
t/pod.t ........................................ ok
t/preferences.t ................................ ok
t/process_status.t ............................. ok
t/range_definition_request_type.t .............. ok
t/range_definition_response_type.t ............. ok
t/range_definition_type.t ...................... ok
t/range_value_type.t ........................... ok
t/related_keyword_request_type.t ............... ok
t/related_keyword_response_type.t .............. ok
t/related_keyword_type.t ....................... ok
t/report_download_info.t ....................... ok
t/report_info.t ................................ ok
t/response.t ................................... ok
t/response_status_type.t ....................... ok
t/role.t ....................................... ok
Possible precedence issue with control flow operator at /tmp/loop_over_bdir-18600-R7jtt_/Yahoo-Marketing-7.03-P6gBOx/blib/lib/Yahoo/Marketing/Service.pm line 615.
t/service.t .................................... ok
t/set_geographic_location_response.t ........... ok
t/spend_limit.t ................................ ok
t/sponsored_search_min_bid_request.t ........... ok
t/sub_phrase_keyword_request_type.t ............ ok
t/summary.t .................................... ok
t/tactic_spend_cap.t ........................... ok
t/targeting_attribute.t ........................ ok
t/targeting_attribute_descriptor.t ............. ok
Possible precedence issue with control flow operator at /tmp/loop_over_bdir-18600-R7jtt_/Yahoo-Marketing-7.03-P6gBOx/blib/lib/Yahoo/Marketing/Service.pm line 615.
t/targeting_converter_service.t ................ ok
Possible precedence issue with control flow operator at /tmp/loop_over_bdir-18600-R7jtt_/Yahoo-Marketing-7.03-P6gBOx/blib/lib/Yahoo/Marketing/Service.pm line 615.
t/targeting_dictionary_service.t ............... ok
t/targeting_premium.t .......................... ok
t/targeting_profile.t .......................... ok
Possible precedence issue with control flow operator at /tmp/loop_over_bdir-18600-R7jtt_/Yahoo-Marketing-7.03-P6gBOx/blib/lib/Yahoo/Marketing/Service.pm line 615.
t/targeting_service.t .......................... ok
t/targeting_type.t ............................. ok
t/token.t ...................................... ok
t/update_for_ad.t .............................. ok
t/update_for_ad_carrier_config.t ............... ok
t/update_for_ad_carrier_setting.t .............. ok
t/update_for_keyword.t ......................... ok
t/update_for_keyword_carrier_config.t .......... ok
t/update_for_keyword_carrier_setting.t ......... ok
t/user.t ....................................... ok
t/user_authorization.t ......................... ok
Possible precedence issue with control flow operator at /tmp/loop_over_bdir-18600-R7jtt_/Yahoo-Marketing-7.03-P6gBOx/blib/lib/Yahoo/Marketing/Service.pm line 615.
t/user_management_service.t .................... ok
Possible precedence issue with control flow operator at /tmp/loop_over_bdir-18600-R7jtt_/Yahoo-Marketing-7.03-P6gBOx/blib/lib/Yahoo/Marketing/Service.pm line 615.
t/vault_service.t .............................. ok
t/warning.t .................................... ok
Possible precedence issue with control flow operator at /tmp/loop_over_bdir-18600-R7jtt_/Yahoo-Marketing-7.03-P6gBOx/blib/lib/Yahoo/Marketing/Service.pm line 615.
t/z_cleanup.t .................................. ok
All tests successful.
Files=170, Tests=1364, 31 wallclock secs ( 0.43 usr  0.17 sys + 27.43 cusr  2.36 csys = 30.39 CPU)
Result: PASS

------------------------------
PREREQUISITES
------------------------------

Prerequisite modules loaded:

requires:

    Module                    Need   Have    
    ------------------------- ------ --------
    Cache::Cache              1.01   1.06    
    Class::Accessor::Chained  0.01   0.01    
    Crypt::SSLeay             0.40   0.64    
    DateTime::Format::ISO8601 0      0.08    
    DateTime::Format::W3CDTF  0      0.06    
    Error                     0.15   0.17022 
    Module::Build             0.26   0.4205  
    perl                      v5.6.1 5.019010
    Scalar::Util              1.01   1.38    
    SOAP::Lite                0.66   1.10    
    Test::Class               0.10   0.41    
    Test::More                0      1.001002
    Test::Simple              0.60   1.001002
    XML::XPath                1.10   1.13    
    YAML                      0.01   0.90    

build_requires:

    Module                    Need   Have    
    ------------------------- ------ --------
    Module::Build             0.26   0.4205  
    Test::More                0      1.001002
    YAML                      0.01   0.90    


------------------------------
ENVIRONMENT AND OTHER CONTEXT
------------------------------

Environment variables:

    AUTOMATED_TESTING = 1
    LANG = en_US.UTF-8
    LANGUAGE = en_US:en
    PATH = /usr/lib/ccache:/home/sand/bin:/usr/local/bin:/usr/bin:/bin:/usr/bin/X11:/usr/games:/usr/local/perl/bin:/usr/X11/bin:/sbin:/usr/sbin
    PERL5LIB = 
    PERL5OPT = 
    PERL5_CPANPLUS_IS_RUNNING = 18606
    PERL5_CPAN_IS_RUNNING = 18606
    PERL_MM_USE_DEFAULT = 1
    SHELL = /usr/bin/zsh
    TERM = screen

Perl special variables (and OS-specific diagnostics, for MSWin32):

    $^X = /tmp/basesmoker-reloperl-li9F/bin/perl
    $UID/$EUID = 1005 / 1005
    $GID = 1005 1005
    $EGID = 1005 1005

Perl module toolchain versions installed:

    Module              Have    
    ------------------- --------
    CPAN                2.03    
    CPAN::Meta          2.133380
    Cwd                 3.47    
    ExtUtils::CBuilder  0.280216
    ExtUtils::Command   1.18    
    ExtUtils::Install   1.62    
    ExtUtils::MakeMaker 6.90    
    ExtUtils::Manifest  1.63    
    ExtUtils::ParseXS   3.23    
    File::Spec          3.47    
    JSON                2.90    
    JSON::PP            2.27203 
    Module::Build       0.4205  
    Module::Signature   0.73    
    Parse::CPAN::Meta   1.4413  
    Test::Harness       3.30    
    Test::More          1.001002
    YAML                0.90    
    YAML::Syck          1.27    
    version             0.9908  


--

Summary of my perl5 (revision 5 version 19 subversion 10) configuration:
  Commit id: 591cc29275ca89af0933d32727b40e5162cd19c1
  Platform:
    osname=linux, osvers=3.10-3-amd64, archname=x86_64-linux-ld
    uname='linux k83 3.10-3-amd64 #1 smp debian 3.10.11-1 (2013-09-10) x86_64 gnulinux '
    config_args='-Dprefix=/home/sand/src/perl/repoperls/installed-perls/perl/v5.19.9-27-g591cc29/127e -Dmyhostname=k83 -Dinstallusrbinperl=n -Uversiononly -Dusedevel -des -Ui_db -Uuseithreads -Duselongdouble -DDEBUGGING=-g'
    hint=recommended, useposix=true, d_sigaction=define
    useithreads=undef, usemultiplicity=undef
    use64bitint=define, use64bitall=define, uselongdouble=define
    usemymalloc=n, bincompat5005=undef
  Compiler:
    cc='cc', ccflags ='-fno-strict-aliasing -pipe -fstack-protector -I/usr/local/include -D_LARGEFILE_SOURCE -D_FILE_OFFSET_BITS=64',
    optimize='-O2 -g',
    cppflags='-fno-strict-aliasing -pipe -fstack-protector -I/usr/local/include'
    ccversion='', gccversion='4.8.2', gccosandvers=''
    intsize=4, longsize=8, ptrsize=8, doublesize=8, byteorder=12345678
    d_longlong=define, longlongsize=8, d_longdbl=define, longdblsize=16
    ivtype='long', ivsize=8, nvtype='long double', nvsize=16, Off_t='off_t', lseeksize=8
    alignbytes=16, prototype=define
  Linker and Libraries:
    ld='cc', ldflags =' -fstack-protector -L/usr/local/lib'
    libpth=/usr/local/lib /usr/lib/gcc/x86_64-linux-gnu/4.8/include-fixed /usr/include/x86_64-linux-gnu /usr/lib /lib/x86_64-linux-gnu /lib/../lib /usr/lib/x86_64-linux-gnu /usr/lib/../lib /lib
    libs=-lnsl -lgdbm -ldb -ldl -lm -lcrypt -lutil -lc -lgdbm_compat
    perllibs=-lnsl -ldl -lm -lcrypt -lutil -lc
    libc=libc-2.17.so, so=so, useshrplib=false, libperl=libperl.a
    gnulibc_version='2.17'
  Dynamic Linking:
    dlsrc=dl_dlopen.xs, dlext=so, d_dlsymun=undef, ccdlflags='-Wl,-E'
    cccdlflags='-fPIC', lddlflags='-shared -O2 -g -L/usr/local/lib -fstack-protector'


Characteristics of this binary (from libperl): 
  Compile-time options: HAS_TIMES PERLIO_LAYERS PERL_DONT_CREATE_GVSV
                        PERL_HASH_FUNC_ONE_AT_A_TIME_HARD PERL_MALLOC_WRAP
                        PERL_NEW_COPY_ON_WRITE PERL_PRESERVE_IVUV
                        PERL_USE_DEVEL USE_64_BIT_ALL USE_64_BIT_INT
                        USE_LARGE_FILES USE_LOCALE USE_LOCALE_COLLATE
                        USE_LOCALE_CTYPE USE_LOCALE_NUMERIC USE_LONG_DOUBLE
                        USE_PERLIO USE_PERL_ATOF
  Built under linux
  Compiled at Feb 21 2014 18:06:23
  %ENV:
    PERL5LIB=""
    PERL5OPT=""
    PERL5_CPANPLUS_IS_RUNNING="18606"
    PERL5_CPAN_IS_RUNNING="18606"
    PERL_MM_USE_DEFAULT="1"
  @INC:
    /home/sand/src/perl/repoperls/installed-perls/perl/v5.19.9-27-g591cc29/127e/lib/site_perl/5.19.10/x86_64-linux-ld
    /home/sand/src/perl/repoperls/installed-perls/perl/v5.19.9-27-g591cc29/127e/lib/site_perl/5.19.10
    /home/sand/src/perl/repoperls/installed-perls/perl/v5.19.9-27-g591cc29/127e/lib/5.19.10/x86_64-linux-ld
    /home/sand/src/perl/repoperls/installed-perls/perl/v5.19.9-27-g591cc29/127e/lib/5.19.10
    .