Pod-Weaver-Section-CollectWithIntro v0.001 Perl 5 v5.43.1 i86pc-solaris-thread-multi-64

Status
Pass
From
Carlos Guevara
Dist
Pod-Weaver-Section-CollectWithIntro v0.001
Platform
Perl 5 v5.43.1 i86pc-solaris-thread-multi-64
Date
2025-07-09 00:27:44
ID
885000d2-5c5b-11f0-92e7-db6b5a74e134
This distribution has been tested as part of the CPAN Testers
project, supporting the Perl programming language.  See
http://wiki.cpantesters.org/ for more information or email
questions to cpan-testers-discuss@perl.org


--
Dear Chris Weyl,

This is a computer-generated report for Pod-Weaver-Section-CollectWithIntro-0.001
on perl 5.43.1, created by CPAN-Reporter-1.2020.

Thank you for uploading your work to CPAN.  Congratulations!
All tests were successful.

Sections of this report:

    * Tester comments
    * Program output
    * Prerequisites
    * Environment and other context

------------------------------
TESTER COMMENTS
------------------------------

Additional comments from tester:

this report is from an automated smoke testing program
and was not reviewed by a human for accuracy

------------------------------
PROGRAM OUTPUT
------------------------------

Output from '/usr/bin/make test':

PERL_DL_NONLAZY=1 "/export/home/cpan/bin/perl/bin/perl5.43.1" "-MExtUtils::Command::MM" "-MTest::Harness" "-e" "undef *Test::Harness::Switches; test_harness(0, 'blib/lib', 'blib/arch')" t/*.t
t/00-compile.t .................. ok
# 
# 
# Generated by Dist::Zilla::Plugin::ReportVersions::Tiny v1.08
# perl: 5.043001 (wanted 5.006) on solaris from /export/home/cpan/bin/perl/bin/perl5.43.1
# 
# ExtUtils::MakeMaker                           => 7.76       (want 6.30)   
# File::Find                                    => 1.44       (want any version)
# File::Temp                                    => 0.2311     (want any version)
# Moose                                         => 2.4000     (want any version)
# Moose::Autobox                                => 0.16       (want 0.10)   
# PPI                                           => 1.283      (want any version)
# Pod::Coverage::TrustPod                       => 0.100006   (want any version)
# Pod::Elemental                                => 0.103006   (want any version)
# Pod::Elemental::Element::Pod5::Ordinary       => 0.103006   (want any version)
# Pod::Elemental::Selectors                     => 0.103006   (want any version)
# Pod::Elemental::Transformer::Nester           => 0.103006   (want any version)
# Pod::Elemental::Transformer::Pod5             => 0.103006   (want any version)
# Pod::Weaver                                   => 4.020      (want any version)
# Pod::Weaver::Section::Collect                 => 4.020      (want any version)
# Test::Differences                             => 0.72       (want any version)
# Test::More                                    => 1.302214   (want 0.88)   
# Test::Pod                                     => 1.52       (want 1.41)   
# Test::Pod::Coverage                           => 1.10       (want 1.08)   
# aliased                                       => 0.34       (want any version)
# autobox::Core                                 => 1.33       (want any version)
# namespace::autoclean                          => 0.31       (want any version)
# strict                                        => 1.14       (want any version)
# version                                       => 0.9933     (want 0.9901) 
# warnings                                      => 1.74       (want any version)
# 
# Thanks for using my code.  I hope it works for you.
# If not, please try and include this output in the bug report.
# That will help me reproduce the issue and solve your problem.
# 
t/000-report-versions-tiny.t .... ok
t/author-pod-spell.t ............ skipped: these tests are for testing by the author
t/basic.t ....................... ok
t/release-consistent-version.t .. skipped: these tests are for release candidate testing
t/release-eol.t ................. skipped: these tests are for release candidate testing
t/release-has-version.t ......... skipped: these tests are for release candidate testing
t/release-no-smart-comments.t ... skipped: these tests are for release candidate testing
t/release-no-tabs.t ............. skipped: these tests are for release candidate testing
t/release-pod-coverage.t ........ skipped: these tests are for release candidate testing
t/release-pod-syntax.t .......... skipped: these tests are for release candidate testing
t/release-portability.t ......... skipped: these tests are for release candidate testing
All tests successful.
Files=12, Tests=3,  2 wallclock secs ( 0.04 usr  0.03 sys +  1.77 cusr  0.30 csys =  2.14 CPU)
Result: PASS

------------------------------
PREREQUISITES
------------------------------

Prerequisite modules loaded:

requires:

    Module                                  Need Have    
    --------------------------------------- ---- --------
    aliased                                 0    0.34    
    autobox::Core                           0    1.33    
    Moose                                   0    2.4000  
    namespace::autoclean                    0    0.31    
    Pod::Elemental::Element::Pod5::Ordinary 0    0.103006
    Pod::Weaver::Section::Collect           0    4.020   

build_requires:

    Module                                  Need Have    
    --------------------------------------- ---- --------
    File::Find                              0    1.44    
    File::Temp                              0    0.2311  
    Moose::Autobox                          0.10 0.16    
    Pod::Elemental                          0    0.103006
    Pod::Elemental::Selectors               0    0.103006
    Pod::Elemental::Transformer::Nester     0    0.103006
    Pod::Elemental::Transformer::Pod5       0    0.103006
    Pod::Weaver                             0    4.020   
    PPI                                     0    1.283   
    strict                                  0    1.14    
    Test::Differences                       0    0.72    
    Test::More                              0.88 1.302214
    warnings                                0    1.74    

configure_requires:

    Module                                  Need Have    
    --------------------------------------- ---- --------
    ExtUtils::MakeMaker                     6.30 7.76    


------------------------------
ENVIRONMENT AND OTHER CONTEXT
------------------------------

Environment variables:

    AUTOMATED_TESTING = 1
    DATE_MANIP_TEST_DM5 = 1
    LANG = en_US.UTF-8
    LC_ALL = C
    NONINTERACTIVE_TESTING = 1
    NO_NETWORK_TESTING = 1
    PATH = /export/home/cpan/bin/perl/bin:/usr/bin:/usr/sbin:/sbin:/opt/ooce/bin:/usr/gnu/bin
    PERL5LIB = 
    PERL5OPT = 
    PERL5_CPANPLUS_IS_RUNNING = 4191
    PERL5_CPAN_IS_RUNNING = 4191
    PERL_MM_USE_DEFAULT = 1
    PERL_USE_UNSAFE_INC = 1
    SHELL = /bin/sh
    TERM = screen

Perl special variables (and OS-specific diagnostics, for MSWin32):

    $^X = /export/home/cpan/bin/perl/bin/perl5.43.1
    $UID/$EUID = 101 / 101
    $GID = 1 1
    $EGID = 1 1

Perl module toolchain versions installed:

    Module              Have    
    ------------------- --------
    CPAN                2.38    
    CPAN::Meta          2.150010
    Cwd                 3.94    
    ExtUtils::CBuilder  0.280242
    ExtUtils::Command   7.76    
    ExtUtils::Install   2.22    
    ExtUtils::MakeMaker 7.76    
    ExtUtils::Manifest  1.75    
    ExtUtils::ParseXS   3.58    
    File::Spec          3.94    
    JSON                4.10    
    JSON::PP            4.16    
    Module::Build       0.4234  
    Module::Signature   0.93    
    Parse::CPAN::Meta   2.150010
    Test2               1.302214
    Test::Harness       3.52    
    Test::More          1.302214
    YAML                1.31    
    YAML::Syck          1.34    
    version             0.9933  


--

Summary of my perl5 (revision 5 version 43 subversion 1) configuration:
  Commit id: dddbfc610f5346264f7fe63ba4b694f4ce7f545f
  Platform:
    osname=solaris
    osvers=2.11
    archname=i86pc-solaris-thread-multi-64
    uname='sunos cjg-omniosce 5.11 omnios-r151052-5ce47a2ab6 i86pc i386 i86pc '
    config_args='-des -Dprefix=/export/home/cpan/bin/perl -Dscriptdir=/export/home/cpan/bin/perl/bin -Dusedevel -Duse64bitall -Dcc=gcc -Duseithreads'
    hint=recommended
    useposix=true
    d_sigaction=define
    useithreads=define
    usemultiplicity=define
    use64bitint=define
    use64bitall=define
    uselongdouble=undef
    usemymalloc=n
    default_inc_excludes_dot=define
  Compiler:
    cc='gcc'
    ccflags ='-D_REENTRANT -m64 -fwrapv -fno-strict-aliasing -pipe -fstack-protector-strong -D_LARGEFILE_SOURCE -D_FILE_OFFSET_BITS=64 -D_FORTIFY_SOURCE=2'
    optimize='-O'
    cppflags='-D_REENTRANT -m64 -fwrapv -fno-strict-aliasing -pipe -fstack-protector-strong'
    ccversion=''
    gccversion='14.2.0'
    gccosandvers=''
    intsize=4
    longsize=8
    ptrsize=8
    doublesize=8
    byteorder=12345678
    doublekind=3
    d_longlong=define
    longlongsize=8
    d_longdbl=define
    longdblsize=16
    longdblkind=3
    ivtype='long'
    ivsize=8
    nvtype='double'
    nvsize=8
    Off_t='off_t'
    lseeksize=8
    alignbytes=8
    prototype=define
  Linker and Libraries:
    ld='gcc'
    ldflags =' -m64 -fstack-protector-strong -L/usr/gnu/lib '
    libpth=/opt/gcc-14/lib /usr/lib /usr/gnu/lib /usr/ccs/lib
    libs=-lpthread -lsocket -lnsl -ldl -lm -lc
    perllibs=-lpthread -lsocket -lnsl -ldl -lm -lc
    libc=/lib/libc.so
    so=so
    useshrplib=true
    libperl=libperl.so
    gnulibc_version=''
  Dynamic Linking:
    dlsrc=dl_dlopen.xs
    dlext=so
    d_dlsymun=undef
    ccdlflags='  -R /export/home/cpan/bin/perl/lib/5.43.1/i86pc-solaris-thread-multi-64/CORE'
    cccdlflags='-fPIC'
    lddlflags=' -shared -m64 -L/usr/gnu/lib -fstack-protector-strong'


Characteristics of this binary (from libperl): 
  Compile-time options:
    HAS_LONG_DOUBLE
    HAS_STRTOLD
    HAS_TIMES
    MULTIPLICITY
    PERLIO_LAYERS
    PERL_COPY_ON_WRITE
    PERL_DONT_CREATE_GVSV
    PERL_HASH_FUNC_SIPHASH13
    PERL_HASH_USE_SBOX32
    PERL_MALLOC_WRAP
    PERL_OP_PARENT
    PERL_PRESERVE_IVUV
    PERL_USE_DEVEL
    PERL_USE_SAFE_PUTENV
    USE_64_BIT_ALL
    USE_64_BIT_INT
    USE_ITHREADS
    USE_LARGE_FILES
    USE_LOCALE
    USE_LOCALE_COLLATE
    USE_LOCALE_CTYPE
    USE_LOCALE_NUMERIC
    USE_LOCALE_TIME
    USE_PERLIO
    USE_PERL_ATOF
    USE_REENTRANT_API
    USE_THREAD_SAFE_LOCALE
  Built under solaris
  Compiled at Jul  8 2025 09:58:57
  %ENV:
    PERL5LIB=""
    PERL5OPT=""
    PERL5_CPANPLUS_IS_RUNNING="4191"
    PERL5_CPAN_IS_RUNNING="4191"
    PERL_MM_USE_DEFAULT="1"
    PERL_USE_UNSAFE_INC="1"
  @INC:
    /export/home/cpan/bin/perl/lib/site_perl/5.43.1/i86pc-solaris-thread-multi-64
    /export/home/cpan/bin/perl/lib/site_perl/5.43.1
    /export/home/cpan/bin/perl/lib/5.43.1/i86pc-solaris-thread-multi-64
    /export/home/cpan/bin/perl/lib/5.43.1
    .