Search-Elasticsearch-Client-0_90-Async v7.30_1 Perl 5 v5.26.2 i686-linux-64int

Status
Pass
From
Chris Williams (BINGOS)
Dist
Search-Elasticsearch-Client-0_90-Async v7.30_1
Platform
Perl 5 v5.26.2 i686-linux-64int
Date
2020-08-10T09:47:41
ID
884b78da-daee-11ea-b3a5-abe2e1c4f0ab
This distribution has been tested as part of the CPAN Testers
project, supporting the Perl programming language.  See
http://wiki.cpantesters.org/ for more information or email
questions to cpan-testers-discuss@perl.org


--

Dear EZIMUEL,

This is a computer-generated error report created automatically by
CPANPLUS, version 0.9908. Testers personal comments may appear
at the end of this report.


Thank you for uploading your work to CPAN.  Congratulations!
All tests were successful.

TEST RESULTS:

Below is the error stack from stage 'make test':

PERL_DL_NONLAZY=1 "/home/cpan/pit/64bit/perl-5.26.2/bin/perl" "-MExtUtils::Command::MM" "-MTest::Harness" "-e" "undef *Test::Harness::Switches; test_harness(0, 'blib/lib', 'blib/arch')" t/*.t t/Client_0_90_Async/*.t
t/author-eol.t ............................ skipped: these tests are for testing by the author
t/author-no-tabs.t ........................ skipped: these tests are for testing by the author
t/author-pod-syntax.t ..................... skipped: these tests are for testing by the author
t/Client_0_90_Async/00_print_version.t .... skipped: No $ENV{CLIENT_VER} specified
t/Client_0_90_Async/10_live.t ............. skipped: No $ENV{CLIENT_VER} specified
t/Client_0_90_Async/15_conflict.t ......... skipped: No $ENV{CLIENT_VER} specified
t/Client_0_90_Async/20_fork_aehttp.t ...... skipped: No $ENV{CLIENT_VER} specified
t/Client_0_90_Async/21_fork_mojo.t ........ skipped: No $ENV{CLIENT_VER} specified
t/Client_0_90_Async/30_bulk_add_action.t .. skipped: No $ENV{CLIENT_VER} specified
t/Client_0_90_Async/31_bulk_helpers.t ..... skipped: No $ENV{CLIENT_VER} specified
t/Client_0_90_Async/32_bulk_flush.t ....... skipped: No $ENV{CLIENT_VER} specified
t/Client_0_90_Async/33_bulk_errors.t ...... skipped: No $ENV{CLIENT_VER} specified
t/Client_0_90_Async/34_bulk_cxn_errors.t .. skipped: No $ENV{CLIENT_VER} specified
t/Client_0_90_Async/40_scroll.t ........... skipped: No $ENV{CLIENT_VER} specified
t/Client_0_90_Async/50_reindex.t .......... skipped: No $ENV{CLIENT_VER} specified
t/Client_0_90_Async/60_auth_aehttp.t ...... skipped: AEHTTP - No https server specified in ES_SSL
t/Client_0_90_Async/61_auth_mojo.t ........ skipped: Mojo - No https server specified in ES_SSL
Files=17, Tests=0,  1 wallclock secs ( 0.03 usr  0.01 sys +  0.85 cusr  0.14 csys =  1.03 CPU)
Result: NOTESTS


PREREQUISITES:

Here is a list of prerequisites you specified and versions we
managed to load:

	  Module Name                        Have     Want
	  AE                                    0        0
	  Data::Dumper                      2.167        0
	  EV                                 4.33        0
	  ExtUtils::MakeMaker                7.46        0
	  Log::Any::Adapter                 1.708        0
	  Log::Any::Adapter::Callback       0.101     0.09
	  Mojo::UserAgent                       0        0
	  Moo                            2.004000        0
	  POSIX                              1.76        0
	  Promises                           1.04        0
	  Scalar::Util                    1.46_02        0
	  Search::Elasticsearch              6.81        0
	  Search::Elasticsearch::Async       6.81        0
	  Search::Elasticsearch::Async::Util     6.81        0
	! Search::Elasticsearch::Client::0_90     6.81     7.00
	  Search::Elasticsearch::Client::0_90::Role::Bulk     6.81        0
	  Search::Elasticsearch::Client::0_90::Role::Scroll     6.81        0
	  Search::Elasticsearch::Role::Cxn     6.81        0
	  Search::Elasticsearch::Role::Cxn::Async     6.81        0
	  Search::Elasticsearch::Role::Is_Async     6.81        0
	  Search::Elasticsearch::Transport::Async     6.81        0
	  Search::Elasticsearch::Util        6.81        0
	  Sub::Exporter                     0.987        0
	  Test::Deep                        1.130        0
	  Test::Exception                    0.43        0
	  Test::More                     1.302175     0.98
	  Try::Tiny                          0.30        0
	  lib                                0.64        0
	  namespace::clean                   0.27        0
	  strict                             1.11        0
	  warnings                           1.37        0

Perl module toolchain versions installed:
	Module Name                        Have
	CPANPLUS                         0.9908
	CPANPLUS::Dist::Build              0.90
	Cwd                                3.75
	ExtUtils::CBuilder             0.280234
	ExtUtils::Command                  7.46
	ExtUtils::Install                  2.16
	ExtUtils::MakeMaker                7.46
	ExtUtils::Manifest                 1.72
	ExtUtils::ParseXS                  3.35
	File::Spec                         3.75
	Module::Build                    0.4231
	Pod::Parser                        1.63
	Pod::Simple                        3.35
	Test2                          1.302175
	Test::Harness                      3.42
	Test::More                     1.302175
	version                          0.9924

******************************** NOTE ********************************
The comments above are created mechanically, possibly without manual
checking by the sender.  As there are many people performing automatic
tests on each upload to CPAN, it is likely that you will receive
identical messages about the same problem.

If you believe that the message is mistaken, please reply to the first
one with correction and/or additional informations, and do not take
it personally.  We appreciate your patience. :)
**********************************************************************

Additional comments:


This report was machine-generated by CPANPLUS::Dist::YACSmoke 1.08.
Powered by minismokebox version 0.68

CPANPLUS is prefering Build.PL

------------------------------
ENVIRONMENT AND OTHER CONTEXT
------------------------------

Environment variables:

    AUTOMATED_TESTING = 1
    LANG = en_GB.UTF-8
    LANGUAGE = en_GB:en
    NONINTERACTIVE_TESTING = 1
    PATH = /usr/local/bin:/usr/bin:/bin:/usr/local/games:/usr/games
    PERL5LIB = /home/cpan/pit/jail/A4sbNSuzFC/lib/perl5:/home/cpan/pit/64bit/conf/perl-5.26.2/.cpanplus/5.26.2/build/4I4Ru1tgZq/Search-Elasticsearch-Client-0_90-Async-7.30_1/blib/lib:/home/cpan/pit/64bit/conf/perl-5.26.2/.cpanplus/5.26.2/build/4I4Ru1tgZq/Search-Elasticsearch-Client-0_90-Async-7.30_1/blib/arch
    PERL5_CPANPLUS_IS_RUNNING = 28117
    PERL5_CPANPLUS_IS_VERSION = 0.9908
    PERL5_MINISMOKEBOX = 0.68
    PERL5_YACSMOKE_BASE = /home/cpan/pit/64bit/conf/perl-5.26.2
    PERL_EXTUTILS_AUTOINSTALL = --defaultdeps
    PERL_LOCAL_LIB_ROOT = /home/cpan/pit/jail/A4sbNSuzFC
    PERL_MB_OPT = --install_base "/home/cpan/pit/jail/A4sbNSuzFC"
    PERL_MM_OPT = INSTALL_BASE=/home/cpan/pit/jail/A4sbNSuzFC
    PERL_MM_USE_DEFAULT = 1
    SHELL = /bin/bash
    TERM = screen

Perl special variables (and OS-specific diagnostics, for MSWin32):

    Perl: $^X = /home/cpan/pit/64bit/perl-5.26.2/bin/perl
    UID:  $<  = 1001
    EUID: $>  = 1001
    GID:  $(  = 1001 1001
    EGID: $)  = 1001 1001


-------------------------------


--

Summary of my perl5 (revision 5 version 26 subversion 2) configuration:
   
  Platform:
    osname=linux
    osvers=4.19.0-6-686
    archname=i686-linux-64int
    uname='linux dagobah 4.19.0-6-686 #1 smp debian 4.19.67-2+deb10u2 (2019-11-11) i686 gnulinux '
    config_args='-des -Dprefix=/home/cpan/pit/64bit/perl-5.26.2 -Duse64bitint'
    hint=recommended
    useposix=true
    d_sigaction=define
    useithreads=undef
    usemultiplicity=undef
    use64bitint=define
    use64bitall=undef
    uselongdouble=undef
    usemymalloc=n
    default_inc_excludes_dot=define
    bincompat5005=undef
  Compiler:
    cc='cc'
    ccflags ='-fwrapv -fno-strict-aliasing -pipe -fstack-protector-strong -I/usr/local/include -D_LARGEFILE_SOURCE -D_FILE_OFFSET_BITS=64'
    optimize='-O2'
    cppflags='-fwrapv -fno-strict-aliasing -pipe -fstack-protector-strong -I/usr/local/include'
    ccversion=''
    gccversion='8.3.0'
    gccosandvers=''
    intsize=4
    longsize=4
    ptrsize=4
    doublesize=8
    byteorder=12345678
    doublekind=3
    d_longlong=define
    longlongsize=8
    d_longdbl=define
    longdblsize=12
    longdblkind=3
    ivtype='long long'
    ivsize=8
    nvtype='double'
    nvsize=8
    Off_t='off_t'
    lseeksize=8
    alignbytes=4
    prototype=define
  Linker and Libraries:
    ld='cc'
    ldflags =' -fstack-protector-strong -L/usr/local/lib'
    libpth=/usr/local/lib /usr/lib/gcc/i686-linux-gnu/8/include-fixed /usr/include/i386-linux-gnu /usr/lib /lib/i386-linux-gnu /lib/../lib /usr/lib/i386-linux-gnu /usr/lib/../lib /lib /lib64 /usr/lib64
    libs=-lpthread -lnsl -lgdbm -ldl -lm -lcrypt -lutil -lc
    perllibs=-lpthread -lnsl -ldl -lm -lcrypt -lutil -lc
    libc=libc-2.28.so
    so=so
    useshrplib=false
    libperl=libperl.a
    gnulibc_version='2.28'
  Dynamic Linking:
    dlsrc=dl_dlopen.xs
    dlext=so
    d_dlsymun=undef
    ccdlflags='-Wl,-E'
    cccdlflags='-fPIC'
    lddlflags='-shared -O2 -L/usr/local/lib -fstack-protector-strong'


Characteristics of this binary (from libperl): 
  Compile-time options:
    HAS_TIMES
    PERLIO_LAYERS
    PERL_COPY_ON_WRITE
    PERL_DONT_CREATE_GVSV
    PERL_MALLOC_WRAP
    PERL_OP_PARENT
    PERL_PRESERVE_IVUV
    USE_64_BIT_INT
    USE_LARGE_FILES
    USE_LOCALE
    USE_LOCALE_COLLATE
    USE_LOCALE_CTYPE
    USE_LOCALE_NUMERIC
    USE_LOCALE_TIME
    USE_PERLIO
    USE_PERL_ATOF
  Locally applied patches:
    Devel::PatchPerl 1.80
  Built under linux
  Compiled at Nov 29 2019 14:12:22
  %ENV:
    PERL5LIB="/home/cpan/pit/jail/A4sbNSuzFC/lib/perl5:/home/cpan/pit/64bit/conf/perl-5.26.2/.cpanplus/5.26.2/build/4I4Ru1tgZq/Search-Elasticsearch-Client-0_90-Async-7.30_1/blib/lib:/home/cpan/pit/64bit/conf/perl-5.26.2/.cpanplus/5.26.2/build/4I4Ru1tgZq/Search-Elasticsearch-Client-0_90-Async-7.30_1/blib/arch"
    PERL5_CPANPLUS_IS_RUNNING="28117"
    PERL5_CPANPLUS_IS_VERSION="0.9908"
    PERL5_MINISMOKEBOX="0.68"
    PERL5_YACSMOKE_BASE="/home/cpan/pit/64bit/conf/perl-5.26.2"
    PERL_EXTUTILS_AUTOINSTALL="--defaultdeps"
    PERL_LOCAL_LIB_ROOT="/home/cpan/pit/jail/A4sbNSuzFC"
    PERL_MB_OPT="--install_base "/home/cpan/pit/jail/A4sbNSuzFC""
    PERL_MM_OPT="INSTALL_BASE=/home/cpan/pit/jail/A4sbNSuzFC"
    PERL_MM_USE_DEFAULT="1"
  @INC:
    /home/cpan/pit/jail/A4sbNSuzFC/lib/perl5/5.26.2/i686-linux-64int
    /home/cpan/pit/jail/A4sbNSuzFC/lib/perl5/5.26.2
    /home/cpan/pit/jail/A4sbNSuzFC/lib/perl5/i686-linux-64int
    /home/cpan/pit/jail/A4sbNSuzFC/lib/perl5
    /home/cpan/pit/64bit/conf/perl-5.26.2/.cpanplus/5.26.2/build/4I4Ru1tgZq/Search-Elasticsearch-Client-0_90-Async-7.30_1/blib/lib
    /home/cpan/pit/64bit/conf/perl-5.26.2/.cpanplus/5.26.2/build/4I4Ru1tgZq/Search-Elasticsearch-Client-0_90-Async-7.30_1/blib/arch
    /home/cpan/pit/64bit/perl-5.26.2/lib/site_perl/5.26.2/i686-linux-64int
    /home/cpan/pit/64bit/perl-5.26.2/lib/site_perl/5.26.2
    /home/cpan/pit/64bit/perl-5.26.2/lib/5.26.2/i686-linux-64int
    /home/cpan/pit/64bit/perl-5.26.2/lib/5.26.2