Report for Dist-Zilla-Plugin-CoderwallEndorse-0.2.0

Back
From: metabase:user:68a9c4ac-1ec7-11e0-bf29-9c4bfeb2ac3f
Subject: PASS Dist-Zilla-Plugin-CoderwallEndorse-0.2.0 v5.12.5 GNU/Linux
Date: 2014-03-01T12:46:38Z

This distribution has been tested as part of the CPAN Testers
project, supporting the Perl programming language.  See
http://wiki.cpantesters.org/ for more information or email
questions to cpan-testers-discuss@perl.org


--
Dear Yanick Champoux,

This is a computer-generated report for Dist-Zilla-Plugin-CoderwallEndorse-0.2.0
on perl 5.12.5, created by CPAN-Reporter-1.2010.

Thank you for uploading your work to CPAN.  Congratulations!
All tests were successful.

Sections of this report:

    * Tester comments
    * Program output
    * Prerequisites
    * Environment and other context

------------------------------
TESTER COMMENTS
------------------------------

Additional comments from tester:

none provided

------------------------------
PROGRAM OUTPUT
------------------------------

Output from './Build test':

t/00-compile.t ................ ok
# 
# 
# Generated by Dist::Zilla::Plugin::ReportVersions::Tiny v1.10
# perl: 5.012005 (wanted any version) on linux from /home/rando/perl5/perlbrew/perls/12.5/bin/perl
# 
# Dist::Zilla::Role::File::ChangeNotification   => 0.003      (want any version)
# Dist::Zilla::Role::FileMunger                 => 5.013      (want any version)
# Dist::Zilla::Role::Plugin                     => 5.013      (want any version)
# File::Spec                                    => 3.40       (want any version)
# IO::Handle                                    => 1.28       (want any version)
# IPC::Open3                                    => 1.05       (want any version)
# JSON::Any                                     => 1.32       (want any version)
# List::Util                                    => 1.38       (want any version)
# Module::Build                                 => 0.4205     (want 0.3601) 
# Moose                                         => 2.1204     (want any version)
# Test::DZil                                    => 5.013      (want any version)
# Test::More                                    => 1.001002   (want 0.96)   
# strict                                        => 1.04       (want any version)
# warnings                                      => 1.09       (want any version)
# 
# Thanks for using my code.  I hope it works for you.
# If not, please try and include this output in the bug report.
# That will help me reproduce the issue and solve your problem.
# 
t/000-report-versions-tiny.t .. ok
t/basic.t ..................... ok
All tests successful.
Files=3, Tests=4,  2 wallclock secs ( 0.02 usr  0.01 sys +  1.64 cusr  0.09 csys =  1.76 CPU)
Result: PASS

------------------------------
PREREQUISITES
------------------------------

Prerequisite modules loaded:

requires:

    Module                                      Need   Have    
    ------------------------------------------- ------ --------
    Dist::Zilla::Role::File::ChangeNotification 0      0.003   
    Dist::Zilla::Role::FileMunger               0      5.013   
    Dist::Zilla::Role::Plugin                   0      5.013   
    List::Util                                  0      1.38    
    Moose                                       0      2.1204  
    strict                                      0      1.04    
    warnings                                    0      1.09    

build_requires:

    Module                                      Need   Have    
    ------------------------------------------- ------ --------
    File::Spec                                  0      3.40    
    IO::Handle                                  0      1.28    
    IPC::Open3                                  0      1.05    
    JSON::Any                                   0      1.32    
    Module::Build                               0.3601 0.4205  
    Test::DZil                                  0      5.013   
    Test::More                                  0.96   1.001002

configure_requires:

    Module                                      Need   Have    
    ------------------------------------------- ------ --------
    Module::Build                               0.3601 0.4205  


------------------------------
ENVIRONMENT AND OTHER CONTEXT
------------------------------

Environment variables:

    LANG = en_US.UTF-8
    LANGUAGE = en_US.UTF-8
    LC_ALL = en_US.UTF-8
    LC_CTYPE = en_US.UTF-8
    PATH = /home/rando/perl5/perlbrew/bin:/home/rando/perl5/perlbrew/perls/12.5/bin:/home/rando/devel/linux:/home/rando/python/venv/2.7.3/bin:/home/rando/perl5/perlbrew/bin:/home/rando/perl5/perlbrew/perls/local/bin:/home/rando/gopath/bin:/home/rando/go/bin:/home/rando/bin:/home/rando/bin/contrib:/usr/lib/lightdm/lightdm:/usr/local/sbin:/usr/local/bin:/usr/sbin:/usr/bin:/sbin:/bin:/usr/games
    PERL5LIB = 
    PERL5OPT = 
    PERL5_CPANPLUS_IS_RUNNING = 6547
    PERL5_CPAN_IS_RUNNING = 6547
    PERLBREW_BASHRC_VERSION = 0.67
    PERLBREW_HOME = /home/rando/.perlbrew
    PERLBREW_MANPATH = /home/rando/perl5/perlbrew/perls/12.5/man
    PERLBREW_PATH = /home/rando/perl5/perlbrew/bin:/home/rando/perl5/perlbrew/perls/12.5/bin
    PERLBREW_PERL = 12.5
    PERLBREW_ROOT = /home/rando/perl5/perlbrew
    PERLBREW_VERSION = 0.67
    PERL_CPANM_OPT = --save-dists /home/rando/perl5/cpan/mini --mirror http://cpan.local:4999/-CPAN/ --mirror http://cpan.ezarticleinformation.com/ --mirror http://search.cpan.org/CPAN/
    SHELL = /bin/bash
    TERM = screen-256color

Perl special variables (and OS-specific diagnostics, for MSWin32):

    $^X = /home/rando/perl5/perlbrew/perls/12.5/bin/perl
    $UID/$EUID = 1000 / 1000
    $GID = 1000 4 24 27 30 46 105 110 123 127 1000
    $EGID = 1000 4 24 27 30 46 105 110 123 127 1000

Perl module toolchain versions installed:

    Module              Have    
    ------------------- --------
    CPAN                2.00    
    CPAN::Meta          2.133380
    Cwd                 3.40    
    ExtUtils::CBuilder  0.280212
    ExtUtils::Command   1.16    
    ExtUtils::Install   1.55    
    ExtUtils::MakeMaker 6.90    
    ExtUtils::Manifest  1.60    
    ExtUtils::ParseXS   3.22    
    File::Spec          3.40    
    JSON                2.90    
    JSON::PP            2.27203 
    Module::Build       0.4205  
    Module::Signature   0.73    
    Parse::CPAN::Meta   1.4413  
    Test::Harness       3.30    
    Test::More          1.001002
    YAML                0.90    
    YAML::Syck          1.27    
    version             0.9908  


--

Summary of my perl5 (revision 5 version 12 subversion 5) configuration:
   
  Platform:
    osname=linux, osvers=3.2.0-59-generic, archname=x86_64-linux
    uname='linux raptor 3.2.0-59-generic #90-ubuntu smp tue jan 7 22:43:51 utc 2014 x86_64 x86_64 x86_64 gnulinux '
    config_args='-de -Dprefix=/home/rando/perl5/perlbrew/perls/12.5 -Dman1dir=none -Dman3dir=none -Aeval:scriptdir=/home/rando/perl5/perlbrew/perls/12.5/bin'
    hint=recommended, useposix=true, d_sigaction=define
    useithreads=undef, usemultiplicity=undef
    useperlio=define, d_sfio=undef, uselargefiles=define, usesocks=undef
    use64bitint=define, use64bitall=define, uselongdouble=undef
    usemymalloc=n, bincompat5005=undef
  Compiler:
    cc='cc', ccflags ='-fno-strict-aliasing -pipe -fstack-protector -I/usr/local/include -D_LARGEFILE_SOURCE -D_FILE_OFFSET_BITS=64',
    optimize='-O2',
    cppflags='-fno-strict-aliasing -pipe -fstack-protector -I/usr/local/include'
    ccversion='', gccversion='4.6.3', gccosandvers=''
    intsize=4, longsize=8, ptrsize=8, doublesize=8, byteorder=12345678
    d_longlong=define, longlongsize=8, d_longdbl=define, longdblsize=16
    ivtype='long', ivsize=8, nvtype='double', nvsize=8, Off_t='off_t', lseeksize=8
    alignbytes=8, prototype=define
  Linker and Libraries:
    ld='cc', ldflags =' -fstack-protector -L/usr/local/lib'
    libpth=/usr/local/lib /lib/x86_64-linux-gnu /lib/../lib /usr/lib/x86_64-linux-gnu /usr/lib/../lib /lib /usr/lib
    libs=-lnsl -ldl -lm -lcrypt -lutil -lc
    perllibs=-lnsl -ldl -lm -lcrypt -lutil -lc
    libc=, so=so, useshrplib=false, libperl=libperl.a
    gnulibc_version='2.15'
  Dynamic Linking:
    dlsrc=dl_dlopen.xs, dlext=so, d_dlsymun=undef, ccdlflags='-Wl,-E'
    cccdlflags='-fPIC', lddlflags='-shared -O2 -L/usr/local/lib -fstack-protector'


Characteristics of this binary (from libperl): 
  Compile-time options: PERL_DONT_CREATE_GVSV PERL_MALLOC_WRAP USE_64_BIT_ALL
                        USE_64_BIT_INT USE_LARGE_FILES USE_PERLIO
                        USE_PERL_ATOF
  Built under linux
  Compiled at Mar  1 2014 00:57:49
  %ENV:
    PERL5LIB=""
    PERL5OPT=""
    PERL5_CPANPLUS_IS_RUNNING="6547"
    PERL5_CPAN_IS_RUNNING="6547"
    PERLBREW_BASHRC_VERSION="0.67"
    PERLBREW_HOME="/home/rando/.perlbrew"
    PERLBREW_MANPATH="/home/rando/perl5/perlbrew/perls/12.5/man"
    PERLBREW_PATH="/home/rando/perl5/perlbrew/bin:/home/rando/perl5/perlbrew/perls/12.5/bin"
    PERLBREW_PERL="12.5"
    PERLBREW_ROOT="/home/rando/perl5/perlbrew"
    PERLBREW_VERSION="0.67"
    PERL_CPANM_OPT="--save-dists /home/rando/perl5/cpan/mini --mirror http://cpan.local:4999/-CPAN/ --mirror http://cpan.ezarticleinformation.com/ --mirror http://search.cpan.org/CPAN/"
  @INC:
    /home/rando/perl5/perlbrew/perls/12.5/lib/site_perl/5.12.5/x86_64-linux
    /home/rando/perl5/perlbrew/perls/12.5/lib/site_perl/5.12.5
    /home/rando/perl5/perlbrew/perls/12.5/lib/5.12.5/x86_64-linux
    /home/rando/perl5/perlbrew/perls/12.5/lib/5.12.5
    .