Catalyst-Devel v1.42 Perl 5 v5.41.7 x86_64-linux

Status
Pass
From
John SJ Anderson
Dist
Catalyst-Devel v1.42
Platform
Perl 5 v5.41.7 x86_64-linux
Date
2024-12-20 20:03:50
ID
8806d286-bf0d-11ef-b81a-f66129fe25ed
This distribution has been tested as part of the CPAN Testers
project, supporting the Perl programming language.  See
http://wiki.cpantesters.org/ for more information or email
questions to cpan-testers-discuss@perl.org


--
Dear HAARG,

This is a computer-generated report for Catalyst-Devel-1.42
on perl 5.41.7, created by App::cpanminus::reporter 0.22 (1.7048).

Thank you for uploading your work to CPAN.  Congratulations!
All tests were successful.

Sections of this report:

    * Tester comments
    * Program output
    * Prerequisites
    * Environment and other context

------------------------------
TESTER COMMENTS
------------------------------

Additional comments from tester:

none provided

------------------------------
PROGRAM OUTPUT
------------------------------

Output from '':

Building and testing Catalyst-Devel-1.42
cp share/root/static/images/btn_88x31_powered.png.bin blib/lib/auto/share/dist/Catalyst-Devel/root/static/images/btn_88x31_powered.png.bin
cp share/root/favicon.ico.bin blib/lib/auto/share/dist/Catalyst-Devel/root/favicon.ico.bin
cp share/script/myapp_test.pl.tt blib/lib/auto/share/dist/Catalyst-Devel/script/myapp_test.pl.tt
cp share/root/static/images/btn_120x50_built.png.bin blib/lib/auto/share/dist/Catalyst-Devel/root/static/images/btn_120x50_built.png.bin
cp share/Makefile.PL.tt blib/lib/auto/share/dist/Catalyst-Devel/Makefile.PL.tt
cp share/root/static/images/catalyst_logo.png.bin blib/lib/auto/share/dist/Catalyst-Devel/root/static/images/catalyst_logo.png.bin
cp share/README.tt blib/lib/auto/share/dist/Catalyst-Devel/README.tt
cp share/root/static/images/btn_120x50_built_shadow.png.bin blib/lib/auto/share/dist/Catalyst-Devel/root/static/images/btn_120x50_built_shadow.png.bin
cp share/script/myapp_create.pl.tt blib/lib/auto/share/dist/Catalyst-Devel/script/myapp_create.pl.tt
cp share/root/static/images/btn_120x50_powered_shadow.png.bin blib/lib/auto/share/dist/Catalyst-Devel/root/static/images/btn_120x50_powered_shadow.png.bin
cp share/script/myapp_cgi.pl.tt blib/lib/auto/share/dist/Catalyst-Devel/script/myapp_cgi.pl.tt
cp share/root/static/images/btn_88x31_built_shadow.png.bin blib/lib/auto/share/dist/Catalyst-Devel/root/static/images/btn_88x31_built_shadow.png.bin
cp share/lib/Helper/compclass.pm.tt blib/lib/auto/share/dist/Catalyst-Devel/lib/Helper/compclass.pm.tt
cp share/root/static/images/btn_120x50_powered.png.bin blib/lib/auto/share/dist/Catalyst-Devel/root/static/images/btn_120x50_powered.png.bin
cp share/myapp.psgi.tt blib/lib/auto/share/dist/Catalyst-Devel/myapp.psgi.tt
cp share/root/static/images/btn_88x31_built.png.bin blib/lib/auto/share/dist/Catalyst-Devel/root/static/images/btn_88x31_built.png.bin
cp share/t/01app.t.tt blib/lib/auto/share/dist/Catalyst-Devel/t/01app.t.tt
cp share/script/myapp_server.pl.tt blib/lib/auto/share/dist/Catalyst-Devel/script/myapp_server.pl.tt
cp share/Changes.tt blib/lib/auto/share/dist/Catalyst-Devel/Changes.tt
cp share/lib/MyApp.pm.tt blib/lib/auto/share/dist/Catalyst-Devel/lib/MyApp.pm.tt
cp share/script/myapp_fastcgi.pl.tt blib/lib/auto/share/dist/Catalyst-Devel/script/myapp_fastcgi.pl.tt
cp share/lib/MyApp/Controller/Root.pm.tt blib/lib/auto/share/dist/Catalyst-Devel/lib/MyApp/Controller/Root.pm.tt
cp share/root/static/images/btn_88x31_powered_shadow.png.bin blib/lib/auto/share/dist/Catalyst-Devel/root/static/images/btn_88x31_powered_shadow.png.bin
cp share/myapp.conf.tt blib/lib/auto/share/dist/Catalyst-Devel/myapp.conf.tt
cp share/t/comptest.tt blib/lib/auto/share/dist/Catalyst-Devel/t/comptest.tt
cp share/t/02pod.t.tt blib/lib/auto/share/dist/Catalyst-Devel/t/02pod.t.tt
cp share/t/03podcoverage.t.tt blib/lib/auto/share/dist/Catalyst-Devel/t/03podcoverage.t.tt
cp lib/Module/Install/Catalyst.pm blib/lib/Module/Install/Catalyst.pm
cp lib/Catalyst/Devel.pm blib/lib/Catalyst/Devel.pm
cp lib/Catalyst/Restarter.pm blib/lib/Catalyst/Restarter.pm
cp lib/Catalyst/Restarter/Forking.pm blib/lib/Catalyst/Restarter/Forking.pm
cp lib/Catalyst/Helper.pm blib/lib/Catalyst/Helper.pm
cp lib/Catalyst/Restarter/Win32.pm blib/lib/Catalyst/Restarter/Win32.pm
Manifying 6 pod documents
Skip blib/lib/auto/share/dist/Catalyst-Devel/script/myapp_create.pl.tt (unchanged)
Skip blib/lib/auto/share/dist/Catalyst-Devel/lib/Helper/compclass.pm.tt (unchanged)
Skip blib/lib/auto/share/dist/Catalyst-Devel/root/static/images/btn_88x31_powered.png.bin (unchanged)
Skip blib/lib/auto/share/dist/Catalyst-Devel/root/static/images/btn_120x50_powered.png.bin (unchanged)
Skip blib/lib/auto/share/dist/Catalyst-Devel/myapp.psgi.tt (unchanged)
Skip blib/lib/auto/share/dist/Catalyst-Devel/t/01app.t.tt (unchanged)
Skip blib/lib/auto/share/dist/Catalyst-Devel/script/myapp_server.pl.tt (unchanged)
Skip blib/lib/auto/share/dist/Catalyst-Devel/root/static/images/catalyst_logo.png.bin (unchanged)
Skip blib/lib/auto/share/dist/Catalyst-Devel/root/static/images/btn_120x50_powered_shadow.png.bin (unchanged)
Skip blib/lib/auto/share/dist/Catalyst-Devel/root/static/images/btn_88x31_powered_shadow.png.bin (unchanged)
Skip blib/lib/auto/share/dist/Catalyst-Devel/root/static/images/btn_120x50_built_shadow.png.bin (unchanged)
Skip blib/lib/auto/share/dist/Catalyst-Devel/script/myapp_cgi.pl.tt (unchanged)
Skip blib/lib/auto/share/dist/Catalyst-Devel/root/static/images/btn_88x31_built.png.bin (unchanged)
Skip blib/lib/auto/share/dist/Catalyst-Devel/lib/MyApp/Controller/Root.pm.tt (unchanged)
Skip blib/lib/auto/share/dist/Catalyst-Devel/root/static/images/btn_88x31_built_shadow.png.bin (unchanged)
Skip blib/lib/auto/share/dist/Catalyst-Devel/Changes.tt (unchanged)
Skip blib/lib/auto/share/dist/Catalyst-Devel/root/static/images/btn_120x50_built.png.bin (unchanged)
Skip blib/lib/auto/share/dist/Catalyst-Devel/myapp.conf.tt (unchanged)
Skip blib/lib/auto/share/dist/Catalyst-Devel/root/favicon.ico.bin (unchanged)
Skip blib/lib/auto/share/dist/Catalyst-Devel/lib/MyApp.pm.tt (unchanged)
Skip blib/lib/auto/share/dist/Catalyst-Devel/script/myapp_test.pl.tt (unchanged)
Skip blib/lib/auto/share/dist/Catalyst-Devel/Makefile.PL.tt (unchanged)
Skip blib/lib/auto/share/dist/Catalyst-Devel/README.tt (unchanged)
Skip blib/lib/auto/share/dist/Catalyst-Devel/script/myapp_fastcgi.pl.tt (unchanged)
Skip blib/lib/auto/share/dist/Catalyst-Devel/t/comptest.tt (unchanged)
Skip blib/lib/auto/share/dist/Catalyst-Devel/t/02pod.t.tt (unchanged)
Skip blib/lib/auto/share/dist/Catalyst-Devel/t/03podcoverage.t.tt (unchanged)
PERL_DL_NONLAZY=1 "/opt/plenv/versions/5.41.7/bin/perl5.41.7" "-MExtUtils::Command::MM" "-MTest::Harness" "-e" "undef *Test::Harness::Switches; test_harness(0, 'blib/lib', 'blib/arch')" t/*.t
t/01use.t ......................... ok
t/back_compat.t ................... ok
t/generated_app.t ................. ok
t/get_sharedir_file.t ............. ok
t/optional_http-server-restart.t .. skipped: set TEST_HTTP to enable this test
t/render_file_contents.t .......... ok
t/render_share_dir_file.t ......... ok
All tests successful.
Files=7, Tests=91,  5 wallclock secs ( 0.04 usr  0.01 sys +  4.71 cusr  0.75 csys =  5.51 CPU)
Result: PASS

------------------------------
PREREQUISITES
------------------------------

Prerequisite modules loaded:

runtime:

    Module                                 Need    Have    
    -------------------------------------- ------- --------
    Catalyst                               5.90001 5.90132 
    Catalyst::Action::RenderView           0.10    0.17    
    Catalyst::Plugin::ConfigLoader         0.30    0.35    
    Catalyst::Plugin::Static::Simple       0.28    0.37    
    Config::General                        2.42    2.65    
    File::ChangeNotify                     0.07    0.31    
    File::Copy::Recursive                  0       0.45    
    File::ShareDir                         0       1.118   
    Module::Install                        1.02    1.21    
    Moose                                  0       2.2207  
    MooseX::Emulate::Class::Accessor::Fast 0       0.009032
    namespace::autoclean                   0       0.31    
    namespace::clean                       0       0.27    
    Path::Class                            0.09    0.37    
    Template                               2.14    3.102   

configure:

    Module                                 Need    Have    
    -------------------------------------- ------- --------
    ExtUtils::MakeMaker                    0       7.70    
    File::ShareDir::Install                0       0.14    


------------------------------
ENVIRONMENT AND OTHER CONTEXT
------------------------------

Environment variables:

    LANG = en_US.UTF-8
    LC_ALL = en_US.UTF-8
    LC_TERMINAL = iTerm2
    LC_TERMINAL_VERSION = 3.5.10
    PATH = /opt/plenv/versions/5.41.7/bin:/opt/plenv/libexec:/opt/plenv/plugins/perl-build/bin:/home/genehack/bin:/opt/miniconda3/condabin:/opt/plenv/shims:/opt/plenv/bin:/opt/go/bin:/opt/git/bin:/opt/emacs/bin:/opt/local/bin:/usr/local/bin:/usr/bin:/bin:/usr/games:/opt/rust/cargo/bin
    PERL_CPANM_OPT = --skip-installed --prompt
    SHELL = /bin/zsh
    TERM = screen-256color

Perl special variables (and OS-specific diagnostics, for MSWin32):

    EGID = 1001 113 122 1001
    EUID = 1001
    EXECUTABLE_NAME = /opt/plenv/versions/5.41.7/bin/perl5.41.7
    GID = 1001 113 122 1001
    UID = 1001

Perl module toolchain versions installed:

    Module              Have    
    ------------------- --------
    CPAN                2.38    
    CPAN::Meta          2.150010
    Cwd                 3.92    
    ExtUtils::CBuilder  0.280240
    ExtUtils::Command   7.70    
    ExtUtils::Install   2.22    
    ExtUtils::MakeMaker 7.70    
    ExtUtils::Manifest  1.75    
    ExtUtils::ParseXS   3.56    
    File::Spec          3.93    
    JSON                4.10    
    JSON::PP            4.16    
    Module::Build       0.4234  
    Module::Signature   n/a     
    Parse::CPAN::Meta   2.150010
    Test::Harness       3.50    
    Test::More          1.302204
    YAML                1.31    
    YAML::Syck          n/a     
    version             0.9933  


--

Summary of my perl5 (revision 5 version 41 subversion 7) configuration:
   
  Platform:
    osname=linux
    osvers=5.10.0-20-amd64
    archname=x86_64-linux
    uname='linux doof 5.10.0-20-amd64 #1 smp debian 5.10.158-2 (2022-12-13) x86_64 gnulinux '
    config_args='-Dprefix=/opt/plenv/versions/5.41.7 -de -Dversiononly -Dusedevel -A'eval:scriptdir=/opt/plenv/versions/5.41.7/bin''
    hint=recommended
    useposix=true
    d_sigaction=define
    useithreads=undef
    usemultiplicity=undef
    use64bitint=define
    use64bitall=define
    uselongdouble=undef
    usemymalloc=n
    default_inc_excludes_dot=define
  Compiler:
    cc='cc'
    ccflags ='-fwrapv -fno-strict-aliasing -pipe -fstack-protector-strong -I/usr/local/include -D_LARGEFILE_SOURCE -D_FILE_OFFSET_BITS=64 -D_FORTIFY_SOURCE=2'
    optimize='-O2'
    cppflags='-fwrapv -fno-strict-aliasing -pipe -fstack-protector-strong -I/usr/local/include'
    ccversion=''
    gccversion='12.2.0'
    gccosandvers=''
    intsize=4
    longsize=8
    ptrsize=8
    doublesize=8
    byteorder=12345678
    doublekind=3
    d_longlong=define
    longlongsize=8
    d_longdbl=define
    longdblsize=16
    longdblkind=3
    ivtype='long'
    ivsize=8
    nvtype='double'
    nvsize=8
    Off_t='off_t'
    lseeksize=8
    alignbytes=8
    prototype=define
  Linker and Libraries:
    ld='cc'
    ldflags =' -fstack-protector-strong -L/usr/local/lib'
    libpth=/usr/local/lib /usr/lib/x86_64-linux-gnu /usr/lib /usr/lib64
    libs=-lpthread -lgdbm -ldl -lm -lcrypt -lutil -lc
    perllibs=-lpthread -ldl -lm -lcrypt -lutil -lc
    libc=/lib/x86_64-linux-gnu/libc.so.6
    so=so
    useshrplib=false
    libperl=libperl.a
    gnulibc_version='2.36'
  Dynamic Linking:
    dlsrc=dl_dlopen.xs
    dlext=so
    d_dlsymun=undef
    ccdlflags='-Wl,-E'
    cccdlflags='-fPIC'
    lddlflags='-shared -O2 -L/usr/local/lib -fstack-protector-strong'


Characteristics of this binary (from libperl): 
  Compile-time options:
    HAS_LONG_DOUBLE
    HAS_STRTOLD
    HAS_TIMES
    PERLIO_LAYERS
    PERL_COPY_ON_WRITE
    PERL_DONT_CREATE_GVSV
    PERL_HASH_FUNC_SIPHASH13
    PERL_HASH_USE_SBOX32
    PERL_MALLOC_WRAP
    PERL_OP_PARENT
    PERL_PRESERVE_IVUV
    PERL_USE_DEVEL
    PERL_USE_SAFE_PUTENV
    USE_64_BIT_ALL
    USE_64_BIT_INT
    USE_LARGE_FILES
    USE_LOCALE
    USE_LOCALE_COLLATE
    USE_LOCALE_CTYPE
    USE_LOCALE_NUMERIC
    USE_LOCALE_TIME
    USE_PERLIO
    USE_PERL_ATOF
  Built under linux
  Compiled at Dec 20 2024 10:37:00
  %ENV:
    PERL_CPANM_OPT="--skip-installed --prompt"
  @INC:
    /opt/plenv/versions/5.41.7/lib/perl5/site_perl/5.41.7/x86_64-linux
    /opt/plenv/versions/5.41.7/lib/perl5/site_perl/5.41.7
    /opt/plenv/versions/5.41.7/lib/perl5/5.41.7/x86_64-linux
    /opt/plenv/versions/5.41.7/lib/perl5/5.41.7