Back
From: metabase:user:320bfe00-2aae-11df-837a-5e0a49663a4f
Subject: PASS C-Blocks-0.42 v5.14.2 GNU/Linux
Date: 2017-06-05T05:12:11Z
This distribution has been tested as part of the CPAN Testers
project, supporting the Perl programming language. See
http://wiki.cpantesters.org/ for more information or email
questions to cpan-testers-discuss@perl.org
--
Dear David Mertens,
This is a computer-generated report for C-Blocks-0.42
on perl 5.14.2, created by CPAN-Reporter-1.2018.
Thank you for uploading your work to CPAN. Congratulations!
All tests were successful.
Sections of this report:
* Tester comments
* Program output
* Prerequisites
* Environment and other context
------------------------------
TESTER COMMENTS
------------------------------
Additional comments from tester:
this report is from an automated smoke testing program
and was not reviewed by a human for accuracy
------------------------------
PROGRAM OUTPUT
------------------------------
Output from './Build test':
t/01-basics.t ....................... ok
t/02-use-and-no.t ................... ok
t/03-error-reporting.t .............. ok
t/04-PerlAPI.t ...................... ok
t/05-brace-counting.t ............... ok
t/06-double-colon.t ................. ok
t/06-interpolation.t ................ ok
t/07-compiler-setup.t ............... ok
t/08-lexical-compiler-warnings.t .... ok
t/10-clex.t ......................... ok
t/11-clex-series.t .................. ok
t/12-clex-struct.t .................. ok
t/13-clex-struct.t .................. ok
t/15-clex-with-define.t ............. ok
t/16-clex-scoping.t ................. ok
t/17-clex-define-undefine-series.t .. ok
t/18-clex-global-vars.t ............. ok
t/20-cshare.t ....................... ok
t/21-cshare-warnings.t .............. ok
t/30-API-SV.t ....................... ok
t/35-API-Memory.t ................... ok
t/36-API-Creation.t ................. ok
t/40-csub.t ......................... ok
t/50-sigiled-vars.t ................. ok
t/55-types.t ........................ ok
t/60-filters.t ...................... ok
t/80-StretchyBuffer.t ............... ok
t/99-stdio-fails.t .................. ok
All tests successful.
Files=28, Tests=205, 6 wallclock secs ( 0.05 usr 0.22 sys + 1.65 cusr 0.36 csys = 2.28 CPU)
Result: PASS
------------------------------
PREREQUISITES
------------------------------
Prerequisite modules loaded:
requires:
Module Need Have
------------------ ---- --------
Alien::TinyCCx 0.12 0.12
File::ShareDir 1.00 1.102
File::Spec 0 3.62
build_requires:
Module Need Have
------------------ ---- --------
Alien::TinyCCx 0.12 0.12
Capture::Tiny 0 0.46
ExtUtils::CBuilder 0 0.280224
ExtUtils::Config 0 0.008
ExtUtils::Embed 0 1.30
ExtUtils::ParseXS 3 3.30
File::Basename 0 2.82
File::Spec 0 3.62
File::Temp 0 0.2304
Test::More 0.88 1.302085
Test::Warn 0 0.32
configure_requires:
Module Need Have
------------------ ---- --------
Alien::TinyCCx 0.12 0.12
Module::Build 0.28 0.42_23
------------------------------
ENVIRONMENT AND OTHER CONTEXT
------------------------------
Environment variables:
AUTOMATED_TESTING = 1
LANG = en_US.UTF-8
PATH = /home/sand/bin:/usr/local/bin:/usr/bin:/bin:/usr/games:/usr/local/perl/bin:/usr/X11/bin:/sbin:/usr/sbin
PERL5LIB =
PERL5OPT =
PERL5_CPANPLUS_IS_RUNNING = 15157
PERL5_CPAN_IS_RUNNING = 15157
PERL_CANARY_STABILITY_NOPROMPT = 1
PERL_MM_USE_DEFAULT = 1
PERL_USE_UNSAFE_INC = 1
SHELL = /usr/bin/zsh
TERM = screen
Perl special variables (and OS-specific diagnostics, for MSWin32):
$^X = /home/sand/src/perl/repoperls/installed-perls/host/k93msid/v5.14.2/d2d1/bin/perl
$UID/$EUID = 1005 / 1005
$GID = 1005 1005
$EGID = 1005 1005
Perl module toolchain versions installed:
Module Have
------------------- --------
CPAN 2.18
CPAN::Meta 2.150010
Cwd 3.62
ExtUtils::CBuilder 0.280224
ExtUtils::Command 7.24
ExtUtils::Install 2.14
ExtUtils::MakeMaker 7.24
ExtUtils::Manifest 1.70
ExtUtils::ParseXS 3.30
File::Spec 3.62
JSON 2.94
JSON::PP 2.93
Module::Build 0.42_23
Module::Signature 0.81
Parse::CPAN::Meta 2.150010
Test::Harness 3.39
Test::More 1.302085
YAML 1.23
YAML::Syck 1.30
version 0.9918
--
Summary of my perl5 (revision 5 version 14 subversion 2) configuration:
Derived from: dc281e6088d189558b79a5121119b7196c8b3db0
Platform:
osname=linux, osvers=4.9.0-2-amd64, archname=x86_64-linux
uname='linux k93msid 4.9.0-2-amd64 #1 smp debian 4.9.18-1 (2017-03-30) x86_64 gnulinux '
config_args='-Dprefix=/home/sand/src/perl/repoperls/installed-perls/host/k93msid/v5.14.2/d2d1 -Dmyhostname=k93msid -Dinstallusrbinperl=n -Uversiononly -Dusedevel -des -Ui_db -Dlibswanted=cl pthread socket inet nsl gdbm dbm malloc dl ld sun m crypt sec util c cposix posix ucb BSD gdbm_compat -Uuseithreads -Uuselongdouble -DDEBUGGING=both'
hint=recommended, useposix=true, d_sigaction=define
useithreads=undef, usemultiplicity=undef
useperlio=define, d_sfio=undef, uselargefiles=define, usesocks=undef
use64bitint=define, use64bitall=define, uselongdouble=undef
usemymalloc=n, bincompat5005=undef
Compiler:
cc='cc', ccflags ='-DDEBUGGING -fno-strict-aliasing -pipe -fstack-protector -I/usr/local/include -D_LARGEFILE_SOURCE -D_FILE_OFFSET_BITS=64',
optimize='-O2 -g',
cppflags='-DDEBUGGING -fno-strict-aliasing -pipe -fstack-protector -I/usr/local/include'
ccversion='', gccversion='6.3.0 20170406', gccosandvers=''
intsize=4, longsize=8, ptrsize=8, doublesize=8, byteorder=12345678
d_longlong=define, longlongsize=8, d_longdbl=define, longdblsize=16
ivtype='long', ivsize=8, nvtype='double', nvsize=8, Off_t='off_t', lseeksize=8
alignbytes=8, prototype=define
Linker and Libraries:
ld='cc', ldflags =' -fstack-protector -L/usr/local/lib'
libpth=/usr/local/lib /lib/x86_64-linux-gnu /lib/../lib /usr/lib/x86_64-linux-gnu /usr/lib/../lib /lib /usr/lib
libs=-lpthread -lnsl -ldl -lm -lcrypt -lutil -lc
perllibs=-lpthread -lnsl -ldl -lm -lcrypt -lutil -lc
libc=libc-2.24.so, so=so, useshrplib=false, libperl=libperl.a
gnulibc_version='2.24'
Dynamic Linking:
dlsrc=dl_dlopen.xs, dlext=so, d_dlsymun=undef, ccdlflags='-Wl,-E'
cccdlflags='-fPIC', lddlflags='-shared -O2 -g -L/usr/local/lib -fstack-protector'
Characteristics of this binary (from libperl):
Compile-time options: DEBUGGING PERL_DONT_CREATE_GVSV PERL_MALLOC_WRAP
PERL_PRESERVE_IVUV PERL_USE_DEVEL USE_64_BIT_ALL
USE_64_BIT_INT USE_LARGE_FILES USE_PERLIO
USE_PERL_ATOF
Locally applied patches:
uncommitted-changes
Built under linux
Compiled at Apr 17 2017 07:59:45
%ENV:
PERL5LIB=""
PERL5OPT=""
PERL5_CPANPLUS_IS_RUNNING="15157"
PERL5_CPAN_IS_RUNNING="15157"
PERL_CANARY_STABILITY_NOPROMPT="1"
PERL_MM_USE_DEFAULT="1"
PERL_USE_UNSAFE_INC="1"
@INC:
/home/sand/src/perl/repoperls/installed-perls/host/k93msid/v5.14.2/d2d1/lib/site_perl/5.14.2/x86_64-linux
/home/sand/src/perl/repoperls/installed-perls/host/k93msid/v5.14.2/d2d1/lib/site_perl/5.14.2
/home/sand/src/perl/repoperls/installed-perls/host/k93msid/v5.14.2/d2d1/lib/5.14.2/x86_64-linux
/home/sand/src/perl/repoperls/installed-perls/host/k93msid/v5.14.2/d2d1/lib/5.14.2
.