Back
From: metabase:user:e7b34f46-36ca-11e0-a826-945c7ca43f85
Subject: PASS Struct-Dumb-0.02 v5.20.0 GNU/Linux
Date: 2014-05-30T20:18:15Z
This distribution has been tested as part of the CPAN Testers
project, supporting the Perl programming language. See
http://wiki.cpantesters.org/ for more information or email
questions to cpan-testers-discuss@perl.org
--
Dear Paul Evans,
This is a computer-generated report for Struct-Dumb-0.02
on perl 5.20.0, created by CPAN-Reporter-1.2011.
Thank you for uploading your work to CPAN. Congratulations!
All tests were successful.
Sections of this report:
* Tester comments
* Program output
* Prerequisites
* Environment and other context
------------------------------
TESTER COMMENTS
------------------------------
Additional comments from tester:
none provided
------------------------------
PROGRAM OUTPUT
------------------------------
Output from './Build test':
t/00use.t ....... ok
t/01point.t ..... ok
t/02scope.t ..... ok
t/03readonly.t .. ok
t/99pod.t ....... ok
All tests successful.
Files=5, Tests=12, 0 wallclock secs ( 0.05 usr 0.01 sys + 0.14 cusr 0.04 csys = 0.24 CPU)
Result: PASS
------------------------------
PREREQUISITES
------------------------------
Prerequisite modules loaded:
build_requires:
Module Need Have
----------- ---- --------
Test::Fatal 0 0.013
Test::More 0 1.001002
------------------------------
ENVIRONMENT AND OTHER CONTEXT
------------------------------
Environment variables:
LANG = en_GB.UTF-8
LD_LIBRARY_PATH = /home/tom/local/lib:
MANPATH_WITHOUT_PERLBREW =
PATH = /home/tom/perl5/perlbrew/bin:/home/tom/perl5/perlbrew/perls/perl-5.20.0/bin:/home/tom/local/bin:/home/tom/local/bin:/usr/local/sbin:/usr/local/bin:/usr/sbin:/usr/bin:/sbin:/bin:/usr/games:/usr/local/games:/opt/android-sdk/platform-tools:/opt/android-sdk/tools:/home/tom/.rvm/bin:/home/tom/android-sdk-linux/platform-tools:/home/tom/android-sdk-linux/tools:/opt/android-sdk/platform-tools:/opt/android-sdk/tools:/home/tom/.rvm/bin:/home/tom/android-sdk-linux/platform-tools:/home/tom/android-sdk-linux/tools
PATH_WITHOUT_PERLBREW = /home/tom/local/bin:/home/tom/local/bin:/usr/local/sbin:/usr/local/bin:/usr/sbin:/usr/bin:/sbin:/bin:/usr/games:/usr/local/games:/opt/android-sdk/platform-tools:/opt/android-sdk/tools:/home/tom/.rvm/bin:/home/tom/android-sdk-linux/platform-tools:/home/tom/android-sdk-linux/tools:/opt/android-sdk/platform-tools:/opt/android-sdk/tools:/home/tom/.rvm/bin:/home/tom/android-sdk-linux/platform-tools:/home/tom/android-sdk-linux/tools
PERL5LIB =
PERL5OPT =
PERL5_CPANPLUS_IS_RUNNING = 29633
PERL5_CPAN_IS_RUNNING = 29633
PERLBREW_BASHRC_VERSION = 0.35
PERLBREW_HOME = /home/tom/.perlbrew
PERLBREW_MANPATH = /home/tom/perl5/perlbrew/perls/perl-5.20.0/man
PERLBREW_PATH = /home/tom/perl5/perlbrew/bin:/home/tom/perl5/perlbrew/perls/perl-5.20.0/bin
PERLBREW_PERL = perl-5.20.0
PERLBREW_ROOT = /home/tom/perl5/perlbrew
PERLBREW_VERSION = 0.58
PERL_CPANM_OPT = --mirror http://cpan.entitymodel.com --mirror-only
PERL_LWP_SSL_VERIFY_HOSTNAME = 0
PERL_MM_USE_DEFAULT = 1
SHELL = /bin/bash
TERM = screen
Perl special variables (and OS-specific diagnostics, for MSWin32):
$^X = /home/tom/perl5/perlbrew/perls/perl-5.20.0/bin/perl
$UID/$EUID = 1000 / 1000
$GID = 1000 4 24 27 29 30 46 108 116 125 1000
$EGID = 1000 4 24 27 29 30 46 108 116 125 1000
Perl module toolchain versions installed:
Module Have
------------------- --------
CPAN 2.05
CPAN::Meta 2.140640
Cwd 3.47
ExtUtils::CBuilder 0.280216
ExtUtils::Command 1.18
ExtUtils::Install 1.67
ExtUtils::MakeMaker 6.98
ExtUtils::Manifest 1.63
ExtUtils::ParseXS 3.24
File::Spec 3.47
JSON 2.90
JSON::PP 2.27203
Module::Build 0.4205
Module::Signature n/a
Parse::CPAN::Meta 1.4414
Test::Harness 3.30
Test::More 1.001002
YAML 0.92
YAML::Syck n/a
version 0.9908
--
Summary of my perl5 (revision 5 version 20 subversion 0) configuration:
Platform:
osname=linux, osvers=3.8.0-35-generic, archname=x86_64-linux
uname='linux roku 3.8.0-35-generic #50-ubuntu smp tue dec 3 01:24:59 utc 2013 x86_64 x86_64 x86_64 gnulinux '
config_args='-de -Dprefix=/home/tom/perl5/perlbrew/perls/perl-5.20.0 -Aeval:scriptdir=/home/tom/perl5/perlbrew/perls/perl-5.20.0/bin'
hint=recommended, useposix=true, d_sigaction=define
useithreads=undef, usemultiplicity=undef
use64bitint=define, use64bitall=define, uselongdouble=undef
usemymalloc=n, bincompat5005=undef
Compiler:
cc='cc', ccflags ='-fwrapv -fno-strict-aliasing -pipe -fstack-protector -I/usr/local/include -D_LARGEFILE_SOURCE -D_FILE_OFFSET_BITS=64',
optimize='-O2',
cppflags='-fwrapv -fno-strict-aliasing -pipe -fstack-protector -I/usr/local/include'
ccversion='', gccversion='4.7.3', gccosandvers=''
intsize=4, longsize=8, ptrsize=8, doublesize=8, byteorder=12345678
d_longlong=define, longlongsize=8, d_longdbl=define, longdblsize=16
ivtype='long', ivsize=8, nvtype='double', nvsize=8, Off_t='off_t', lseeksize=8
alignbytes=8, prototype=define
Linker and Libraries:
ld='cc', ldflags =' -fstack-protector -L/usr/local/lib'
libpth=/usr/local/lib /usr/lib/gcc/x86_64-linux-gnu/4.7/include-fixed /usr/include/x86_64-linux-gnu /usr/lib /lib/x86_64-linux-gnu /lib/../lib /usr/lib/x86_64-linux-gnu /usr/lib/../lib /lib
libs=-lnsl -lgdbm -ldb -ldl -lm -lcrypt -lutil -lc -lgdbm_compat
perllibs=-lnsl -ldl -lm -lcrypt -lutil -lc
libc=, so=so, useshrplib=false, libperl=libperl.a
gnulibc_version='2.17'
Dynamic Linking:
dlsrc=dl_dlopen.xs, dlext=so, d_dlsymun=undef, ccdlflags='-Wl,-E'
cccdlflags='-fPIC', lddlflags='-shared -O2 -L/usr/local/lib -fstack-protector'
Characteristics of this binary (from libperl):
Compile-time options: HAS_TIMES PERLIO_LAYERS PERL_DONT_CREATE_GVSV
PERL_HASH_FUNC_ONE_AT_A_TIME_HARD PERL_MALLOC_WRAP
PERL_NEW_COPY_ON_WRITE PERL_PRESERVE_IVUV
USE_64_BIT_ALL USE_64_BIT_INT USE_LARGE_FILES
USE_LOCALE USE_LOCALE_COLLATE USE_LOCALE_CTYPE
USE_LOCALE_NUMERIC USE_PERLIO USE_PERL_ATOF
Built under linux
Compiled at May 30 2014 11:33:38
%ENV:
PERL5LIB=""
PERL5OPT=""
PERL5_CPANPLUS_IS_RUNNING="29633"
PERL5_CPAN_IS_RUNNING="29633"
PERLBREW_BASHRC_VERSION="0.35"
PERLBREW_HOME="/home/tom/.perlbrew"
PERLBREW_MANPATH="/home/tom/perl5/perlbrew/perls/perl-5.20.0/man"
PERLBREW_PATH="/home/tom/perl5/perlbrew/bin:/home/tom/perl5/perlbrew/perls/perl-5.20.0/bin"
PERLBREW_PERL="perl-5.20.0"
PERLBREW_ROOT="/home/tom/perl5/perlbrew"
PERLBREW_VERSION="0.58"
PERL_CPANM_OPT="--mirror http://cpan.entitymodel.com --mirror-only"
PERL_LWP_SSL_VERIFY_HOSTNAME="0"
PERL_MM_USE_DEFAULT="1"
@INC:
/home/tom/perl5/perlbrew/perls/perl-5.20.0/lib/site_perl/5.20.0/x86_64-linux
/home/tom/perl5/perlbrew/perls/perl-5.20.0/lib/site_perl/5.20.0
/home/tom/perl5/perlbrew/perls/perl-5.20.0/lib/5.20.0/x86_64-linux
/home/tom/perl5/perlbrew/perls/perl-5.20.0/lib/5.20.0
.