OPM-Maker v1.14 Perl 5 v5.32.0 i686-linux-64int
- Status
- Pass
- From
- David Cantrell (DCANTRELL)
- Dist
-
OPM-Maker v1.14
- Platform
- Perl 5 v5.32.0 i686-linux-64int
- Date
- 2022-01-20 03:24:52
- ID
- 87dbe7f2-79a0-11ec-af02-e28d5e94d5f1
This distribution has been tested as part of the CPAN Testers
project, supporting the Perl programming language. See
http://wiki.cpantesters.org/ for more information or email
questions to cpan-testers-discuss@perl.org
--
Dear Perl Services,
This is a computer-generated report for OPM-Maker-1.14
on perl 5.32.0, created by CPAN-Reporter-1.2018.
Thank you for uploading your work to CPAN. Congratulations!
All tests were successful.
Sections of this report:
* Tester comments
* Program output
* Prerequisites
* Environment and other context
------------------------------
TESTER COMMENTS
------------------------------
Additional comments from tester:
this report is from an automated smoke testing program
and was not reviewed by a human for accuracy
------------------------------
PROGRAM OUTPUT
------------------------------
Output from '/usr/bin/make test':
PERL_DL_NONLAZY=1 "/home/david/cpantesting/perl-5.32.0-use64bitint/bin/perl" "-MExtUtils::Command::MM" "-MTest::Harness" "-e" "undef *Test::Harness::Switches; test_harness(0, 'blib/lib', 'blib/arch')" t/*.t t/build/*.t t/build_find_sopm/*.t t/dbtest/*.t t/dependencies/*.t t/dependencies_find_sopm/*.t t/filetest/*.t t/filetest_find_sopm/*.t t/filetest_ignore/*.t t/index/*.t t/sopmtest/*.t t/sopmtest_find_sopm/*.t
t/01_sopmtest_valid.t ........................ ok
# 1
t/02_sopmtest_chdir.t ........................ ok
t/author-pod-coverage.t ...................... skipped: these tests are for testing by the author
t/author-pod-syntax.t ........................ skipped: these tests are for testing by the author
t/build/01_base.t ............................ ok
t/build/02_output_dir.t ...................... ok
t/build/03_version.t ......................... ok
t/build/04_subs.t ............................ ok
t/build/05_validate_args.t ................... ok
t/build/06_max_file_size.t ................... ok
t/build_find_sopm/01_base.t .................. ok
t/build_find_sopm/05_validate_args.t ......... ok
t/dbtest/01_base.t ........................... ok
t/dbtest/04_subs.t ........................... ok
t/dbtest/05_validate_args.t .................. ok
t/dependencies/01_base.t ..................... ok
t/dependencies/02_show_deps.t ................ ok
t/dependencies/04_subs.t ..................... ok
t/dependencies/05_validate_args.t ............ ok
t/dependencies/06_max_file_size.t ............ ok
t/dependencies_find_sopm/01_base.t ........... ok
t/dependencies_find_sopm/02_show_deps.t ...... ok
t/dependencies_find_sopm/05_validate_args.t .. ok
t/filetest/01_base.t ......................... ok
t/filetest/02_errors.t ....................... ok
t/filetest/04_subs.t ......................... ok
t/filetest/05_validate_args.t ................ ok
t/filetest/06_max_file_size.t ................ ok
t/filetest_find_sopm/01_base.t ............... ok
t/filetest_find_sopm/02_errors.t ............. ok
t/filetest_find_sopm/05_validate_args.t ...... ok
#
t/filetest_ignore/02_errors.t ................ ok
t/index/01_base.t ............................ ok
t/index/02_build_index.t ..................... ok
t/index/03_build_otobo_index.t ............... ok
t/index/04_subs.t ............................ ok
t/index/05_validate_args.t ................... ok
t/index/06_index_current_dir.t ............... ok
t/index/07_max_file_size.t ................... ok
t/sopmtest/01_base.t ......................... ok
t/sopmtest/02_errors.t ....................... ok
t/sopmtest/04_subs.t ......................... ok
t/sopmtest/05_validate_args.t ................ ok
t/sopmtest_find_sopm/01_base.t ............... ok
t/sopmtest_find_sopm/05_validate_args.t ...... ok
All tests successful.
Files=45, Tests=178, 80 wallclock secs ( 0.36 usr 0.21 sys + 23.47 cusr 2.68 csys = 26.72 CPU)
Result: PASS
------------------------------
PREREQUISITES
------------------------------
Prerequisite modules loaded:
requires:
Module Need Have
------------------------ ----- --------
App::Cmd 0 0.334
Carp 0 1.50
File::Basename 0 2.85
File::Find::Rule 0 0.34
Getopt::Long 0 2.51
MIME::Base64 0 3.15
OPM::Validate 1.10 1.10
Path::Class 0 0.37
perl 5.010 5.032000
Sys::Hostname 0 1.23
Text::Gitignore 0.04 0.04
XML::LibXML 0 2.0207
XML::LibXML::PrettyPrint 0 0.006
build_requires:
Module Need Have
------------------------ ----- --------
Capture::Tiny 0 0.48
ExtUtils::MakeMaker 0 7.44
File::Copy 0 2.34
File::Spec 0 3.78
File::Spec::Functions 0 3.78
Test::LongString 0 0.17
Test::More 0 1.302188
configure_requires:
Module Need Have
------------------------ ----- --------
ExtUtils::MakeMaker 0 7.44
------------------------------
ENVIRONMENT AND OTHER CONTEXT
------------------------------
Environment variables:
AUTOMATED_TESTING = 1
LANG = en_GB.UTF-8
LANGUAGE = en_GB:en
LC_TERMINAL = iTerm2
LC_TERMINAL_VERSION = 3.4.14
NONINTERACTIVE_TESTING = 1
PATH = /home/david/perl5/perlbrew/bin:/home/david/perl5/perlbrew/perls/perl-5.32.0/bin:/home/david/bin:/usr/local/bin:/usr/bin:/bin:/usr/local/games:/usr/games
PERL = 5.32.0-use64bitint
PERL5LIB =
PERL5OPT =
PERL5_CPANPLUS_IS_RUNNING = 10057
PERL5_CPAN_IS_RUNNING = 10057
PERLBREW_HOME = /home/david/.perlbrew
PERLBREW_MANPATH = /home/david/perl5/perlbrew/perls/perl-5.32.0/man
PERLBREW_PATH = /home/david/perl5/perlbrew/bin:/home/david/perl5/perlbrew/perls/perl-5.32.0/bin
PERLBREW_PERL = perl-5.32.0
PERLBREW_ROOT = /home/david/perl5/perlbrew
PERLBREW_SHELLRC_VERSION = 0.89
PERLBREW_VERSION = 0.89
PERLVER = 5.32.0-use64bitint
PERL_INLINE_DIRECTORY = /home/david/.Inline-5.32.0-use64bitint
PERL_MM_USE_DEFAULT = 1
PERL_USE_UNSAFE_INC = 0
SHELL = /bin/bash
TERM = screen
Perl special variables (and OS-specific diagnostics, for MSWin32):
$^X = /home/david/cpantesting/perl-5.32.0-use64bitint/bin/perl
$UID/$EUID = 1000 / 1000
$GID = 1000 24 25 27 29 30 44 46 109 1000
$EGID = 1000 24 25 27 29 30 44 46 109 1000
Perl module toolchain versions installed:
Module Have
------------------- --------
CPAN 2.27
CPAN::Meta 2.150010
Cwd 3.78
ExtUtils::CBuilder 0.280234
ExtUtils::Command 7.44
ExtUtils::Install 2.14
ExtUtils::MakeMaker 7.44
ExtUtils::Manifest 1.72
ExtUtils::ParseXS 3.40
File::Spec 3.78
JSON 4.05
JSON::PP 4.04
Module::Build 0.4231
Module::Signature n/a
Parse::CPAN::Meta 2.150010
Test::Harness 3.42
Test::More 1.302188
YAML 1.30
YAML::Syck n/a
version 0.9924
--
Summary of my perl5 (revision 5 version 32 subversion 0) configuration:
Platform:
osname=linux
osvers=4.19.0-13-686
archname=i686-linux-64int
uname='linux cpantesting-linux-32bit 4.19.0-13-686 #1 smp debian 4.19.160-2 (2020-11-28) i686 gnulinux '
config_args='-de -Dprefix=/home/david/cpantesting/perl-5.32.0-use64bitint -Duse64bitint'
hint=recommended
useposix=true
d_sigaction=define
useithreads=undef
usemultiplicity=undef
use64bitint=define
use64bitall=undef
uselongdouble=undef
usemymalloc=n
default_inc_excludes_dot=define
bincompat5005=undef
Compiler:
cc='cc'
ccflags ='-fwrapv -fno-strict-aliasing -pipe -fstack-protector-strong -I/usr/local/include -D_LARGEFILE_SOURCE -D_FILE_OFFSET_BITS=64 -D_FORTIFY_SOURCE=2'
optimize='-O2'
cppflags='-fwrapv -fno-strict-aliasing -pipe -fstack-protector-strong -I/usr/local/include'
ccversion=''
gccversion='8.3.0'
gccosandvers=''
intsize=4
longsize=4
ptrsize=4
doublesize=8
byteorder=12345678
doublekind=3
d_longlong=define
longlongsize=8
d_longdbl=define
longdblsize=12
longdblkind=3
ivtype='long long'
ivsize=8
nvtype='double'
nvsize=8
Off_t='off_t'
lseeksize=8
alignbytes=4
prototype=define
Linker and Libraries:
ld='cc'
ldflags =' -fstack-protector-strong -L/usr/local/lib'
libpth=/usr/local/lib /usr/lib/gcc/i686-linux-gnu/8/include-fixed /usr/include/i386-linux-gnu /usr/lib /lib/i386-linux-gnu /lib/../lib /usr/lib/i386-linux-gnu /usr/lib/../lib /lib /lib64 /usr/lib64
libs=-lpthread -lnsl -ldl -lm -lcrypt -lutil -lc
perllibs=-lpthread -lnsl -ldl -lm -lcrypt -lutil -lc
libc=libc-2.28.so
so=so
useshrplib=false
libperl=libperl.a
gnulibc_version='2.28'
Dynamic Linking:
dlsrc=dl_dlopen.xs
dlext=so
d_dlsymun=undef
ccdlflags='-Wl,-E'
cccdlflags='-fPIC'
lddlflags='-shared -O2 -L/usr/local/lib -fstack-protector-strong'
Characteristics of this binary (from libperl):
Compile-time options:
HAS_TIMES
PERLIO_LAYERS
PERL_COPY_ON_WRITE
PERL_DONT_CREATE_GVSV
PERL_MALLOC_WRAP
PERL_OP_PARENT
PERL_PRESERVE_IVUV
USE_64_BIT_INT
USE_LARGE_FILES
USE_LOCALE
USE_LOCALE_COLLATE
USE_LOCALE_CTYPE
USE_LOCALE_NUMERIC
USE_LOCALE_TIME
USE_PERLIO
USE_PERL_ATOF
Built under linux
Compiled at Jun 4 2021 18:37:11
%ENV:
PERL="5.32.0-use64bitint"
PERL5LIB=""
PERL5OPT=""
PERL5_CPANPLUS_IS_RUNNING="10057"
PERL5_CPAN_IS_RUNNING="10057"
PERLBREW_HOME="/home/david/.perlbrew"
PERLBREW_MANPATH="/home/david/perl5/perlbrew/perls/perl-5.32.0/man"
PERLBREW_PATH="/home/david/perl5/perlbrew/bin:/home/david/perl5/perlbrew/perls/perl-5.32.0/bin"
PERLBREW_PERL="perl-5.32.0"
PERLBREW_ROOT="/home/david/perl5/perlbrew"
PERLBREW_SHELLRC_VERSION="0.89"
PERLBREW_VERSION="0.89"
PERLVER="5.32.0-use64bitint"
PERL_INLINE_DIRECTORY="/home/david/.Inline-5.32.0-use64bitint"
PERL_MM_USE_DEFAULT="1"
PERL_USE_UNSAFE_INC="0"
@INC:
/home/david/cpantesting/perl-5.32.0-use64bitint/lib/site_perl/5.32.0/i686-linux-64int
/home/david/cpantesting/perl-5.32.0-use64bitint/lib/site_perl/5.32.0
/home/david/cpantesting/perl-5.32.0-use64bitint/lib/5.32.0/i686-linux-64int
/home/david/cpantesting/perl-5.32.0-use64bitint/lib/5.32.0