Report for Object-Botox-1.12

Back
From: metabase:user:51a083d9-7b50-1015-b97c-dc3f1e03b77c
Subject: PASS Object-Botox-1.12 v5.10.1 
Date: 2011-07-04T06:28:44Z

This distribution has been tested as part of the CPAN Testers
project, supporting the Perl programming language.  See
http://wiki.cpantesters.org/ for more information or email
questions to cpan-testers-discuss@perl.org


--
Dear Karpich Dmitry,

This is a computer-generated report for Object-Botox-1.12
on perl 5.10.1, created by CPAN-Reporter-1.1902.

Thank you for uploading your work to CPAN.  Congratulations!
All tests were successful.

Sections of this report:

    * Tester comments
    * Program output
    * Prerequisites
    * Environment and other context

------------------------------
TESTER COMMENTS
------------------------------

Additional comments from tester:

this report is from an automated smoke testing program
and was not reviewed by a human for accuracy

------------------------------
PROGRAM OUTPUT
------------------------------

Output from 'D:\inet\dnwr\usr\local\perl\bin\perl.exe ./Build test':

Set up gcc environment - 3.4.5 (mingw-vista special r3)
Set up gcc environment - 3.4.5 (mingw-vista special r3)
Set up gcc environment - 3.4.5 (mingw-vista special r3)
Warning: Use of "caller" without parentheses is ambiguous at D:\inet\dnwr\usr\local\perl\cpan\build\Object-Botox-1.12-5VjmQy\blib\lib/Object/Botox.pm line 175.
# Testing Object::Botox 1.12, Perl 5.010001, D:\inet\dnwr\usr\local\perl\bin\perl.exe
t\00-load.t ........... ok
Warning: Use of "caller" without parentheses is ambiguous at D:\inet\dnwr\usr\local\perl\cpan\build\Object-Botox-1.12-5VjmQy\blib\lib/Object/Botox.pm line 175.
t\01-base_test.t ...... ok
Warning: Use of "caller" without parentheses is ambiguous at D:\inet\dnwr\usr\local\perl\cpan\build\Object-Botox-1.12-5VjmQy\blib\lib/Object/Botox.pm line 175.
t\02-multi-object.t ... ok
Warning: Use of "caller" without parentheses is ambiguous at D:\inet\dnwr\usr\local\perl\cpan\build\Object-Botox-1.12-5VjmQy\blib\lib/Object/Botox.pm line 175.
t\03-some_name_sub.t .. ok
t\boilerplate.t ....... ok
t\manifest.t .......... skipped: Author tests not required for installation
t\pod-coverage.t ...... skipped: Test::Pod::Coverage 1.08 required for testing POD coverage
t\pod.t ............... skipped: Test::Pod 1.22 required for testing POD
All tests successful.

Test Summary Report
-------------------
t\boilerplate.t     (Wstat: 0 Tests: 3 Failed: 0)
  TODO passed:   1-3
Files=8, Tests=33,  0 wallclock secs ( 0.06 usr +  0.00 sys =  0.06 CPU)
Result: PASS

------------------------------
PREREQUISITES
------------------------------

Prerequisite modules loaded:

requires:

    Module        Need  Have    
    ------------- ----- --------
    MRO::Compat   0     0.11    
    perl          5.006 5.010001

build_requires:

    Module        Need  Have    
    ------------- ----- --------
    Test::More    0     0.98    

configure_requires:

    Module        Need  Have    
    ------------- ----- --------
    Module::Build 0.38  0.3800  


------------------------------
ENVIRONMENT AND OTHER CONTEXT
------------------------------

Environment variables:

    AUTOMATED_TESTING = 1
    COMSPEC = C:\WINDOWS\system32\cmd.exe
    NUMBER_OF_PROCESSORS = 2
    PATH = c:\Program Files\PC Connectivity Solution\;D:\Program Files\ImageMagick-6.6.2-Q16;D:\inet\dnwr\usr\local\perl\site\bin;D:\inet\dnwr\usr\local\perl\bin;C:\WINDOWS\system32;C:\WINDOWS;C:\WINDOWS\System32\Wbem;D:\inet\dnwr\usr\local\python-2.6.5;D:\Program Files\Git\cmd;D:\Program Files\Mercurial\;D:\Program Files\TortoiseHg\
    PERL5LIB = D:\inet\dnwr\usr\local\perl\cpan\build\Module-Build-0.3800-fqKeJ8/blib/arch;D:\inet\dnwr\usr\local\perl\cpan\build\Module-Build-0.3800-fqKeJ8/blib/lib
    PERL5OPT = 
    PERL5_CPANPLUS_IS_RUNNING = 7720
    PERL5_CPAN_IS_RUNNING = 7720
    PERL5_CPAN_IS_RUNNING_IN_RECURSION = 6788,7720
    PERL_CR_SMOKER_CURRENT = Object-Botox-1.12
    PERL_EXTUTILS_AUTOINSTALL = --defaultdeps
    PERL_MM_USE_DEFAULT = 1
    PROCESSOR_IDENTIFIER = x86 Family 6 Model 23 Stepping 10, GenuineIntel
    TEMP = C:\Temp

Perl special variables (and OS-specific diagnostics, for MSWin32):

    $^X = D:\inet\dnwr\usr\local\perl\bin\perl.exe
    $UID/$EUID = 0 / 0
    $GID = 0
    $EGID = 0
    Win32::GetOSName = WinXP/.Net
    Win32::GetOSVersion = Service Pack 3, 5, 1, 2600, 2, 3, 0, 256, 1
    Win32::FsType = NTFS
    Win32::IsAdminUser = 1

Perl module toolchain versions installed:

    Module              Have    
    ------------------- --------
    CPAN                1.9402  
    Cwd                 3.31    
    ExtUtils::CBuilder  0.280202
    ExtUtils::Command   1.16    
    ExtUtils::Install   1.54_01 
    ExtUtils::MakeMaker 6.55_02 
    ExtUtils::Manifest  1.58    
    ExtUtils::ParseXS   2.22    
    File::Spec          3.31    
    Module::Build       0.3800  
    Module::Signature   0.66    
    Test::Harness       3.17    
    Test::More          0.98    
    YAML                n/a     
    YAML::Syck          1.17    
    version             0.91    


--

Summary of my perl5 (revision 5 version 10 subversion 1) configuration:
   
  Platform:
    osname=MSWin32, osvers=5.00, archname=MSWin32-x86-multi-thread
    uname=''
    config_args='undef'
    hint=recommended, useposix=true, d_sigaction=undef
    useithreads=define, usemultiplicity=define
    useperlio=define, d_sfio=undef, uselargefiles=define, usesocks=undef
    use64bitint=undef, use64bitall=undef, uselongdouble=undef
    usemymalloc=n, bincompat5005=undef
  Compiler:
    cc='D:/inet/dnwr/usr/local/perl/site/bin/gcc.exe', ccflags ='-DNDEBUG -DWIN32 -D_CONSOLE -DNO_STRICT -DHAVE_DES_FCRYPT -DUSE_SITECUSTOMIZE -DPRIVLIB_LAST_IN_INC -DPERL_IMPLICIT_CONTEXT -DPERL_IMPLICIT_SYS -DUSE_PERLIO -DPERL_MSVCRT_READFIX -DHASATTRIBUTE -fno-strict-aliasing -mms-bitfields',
    optimize='-O2',
    cppflags='-DWIN32'
    ccversion='', gccversion='3.4.5 (mingw-vista special r3)', gccosandvers=''
    intsize=4, longsize=4, ptrsize=4, doublesize=8, byteorder=1234
    d_longlong=undef, longlongsize=8, d_longdbl=define, longdblsize=8
    ivtype='long', ivsize=4, nvtype='double', nvsize=8, Off_t='__int64', lseeksize=8
    alignbytes=8, prototype=define
  Linker and Libraries:
    ld='D:\inet\dnwr\usr\local\perl\site\bin\g++.exe', ldflags ='-L"D:\inet\dnwr\usr\local\perl\lib\CORE"'
    libpth=\lib
    libs=-lkernel32 -luser32 -lgdi32 -lwinspool -lcomdlg32 -ladvapi32 -lshell32 -lole32 -loleaut32 -lnetapi32 -luuid -lws2_32 -lmpr -lwinmm -lversion -lodbc32 -lodbccp32 -lcomctl32 -lmsvcrt
    perllibs=-lkernel32 -luser32 -lgdi32 -lwinspool -lcomdlg32 -ladvapi32 -lshell32 -lole32 -loleaut32 -lnetapi32 -luuid -lws2_32 -lmpr -lwinmm -lversion -lodbc32 -lodbccp32 -lcomctl32 -lmsvcrt
    libc=msvcrt.lib, so=dll, useshrplib=true, libperl=perl510.lib
    gnulibc_version=''
  Dynamic Linking:
    dlsrc=dl_win32.xs, dlext=dll, d_dlsymun=undef, ccdlflags=' '
    cccdlflags=' ', lddlflags='-mdll -L"D:\inet\dnwr\usr\local\perl\lib\CORE"'


Characteristics of this binary (from libperl): 
  Compile-time options: MULTIPLICITY PERL_DONT_CREATE_GVSV
                        PERL_IMPLICIT_CONTEXT PERL_IMPLICIT_SYS
                        PERL_MALLOC_WRAP PL_OP_SLAB_ALLOC USE_ITHREADS
                        USE_LARGE_FILES USE_PERLIO USE_SITECUSTOMIZE
  Locally applied patches:
	ActivePerl Build 1007 [291969]
	0abd0d disable non-unicode case insensitive trie matching
  Built under MSWin32
  Compiled at Jan 26 2010 23:15:11
  %ENV:
    PERL5LIB="D:\inet\dnwr\usr\local\perl\cpan\build\Module-Build-0.3800-fqKeJ8/blib/arch;D:\inet\dnwr\usr\local\perl\cpan\build\Module-Build-0.3800-fqKeJ8/blib/lib"
    PERL5_CPANPLUS_IS_RUNNING="7720"
    PERL5_CPAN_IS_RUNNING="7720"
    PERL5_CPAN_IS_RUNNING_IN_RECURSION="6788,7720"
    PERL_CR_SMOKER_CURRENT="Object-Botox-1.12"
    PERL_EXTUTILS_AUTOINSTALL="--defaultdeps"
    PERL_MM_USE_DEFAULT="1"
  @INC:
    D:\inet\dnwr\usr\local\perl\cpan\build\Module-Build-0.3800-fqKeJ8/blib/arch
    D:\inet\dnwr\usr\local\perl\cpan\build\Module-Build-0.3800-fqKeJ8/blib/lib
    D:/inet/dnwr/usr/local/perl/site/lib
    D:/inet/dnwr/usr/local/perl/lib
    .