Report for Dist-Zilla-Stash-PodWeaver-1.005

Back
From: metabase:user:68a9c4ac-1ec7-11e0-bf29-9c4bfeb2ac3f
Subject: PASS Dist-Zilla-Stash-PodWeaver-1.005 v5.17.6 GNU/Linux
Date: 2013-03-04T15:09:36Z

This distribution has been tested as part of the CPAN Testers
project, supporting the Perl programming language.  See
http://wiki.cpantesters.org/ for more information or email
questions to cpan-testers-discuss@perl.org


--
Dear Randy Stauner,

This is a computer-generated report for Dist-Zilla-Stash-PodWeaver-1.005
on perl 5.17.6, created by CPAN-Reporter-1.2006.

Thank you for uploading your work to CPAN.  Congratulations!
All tests were successful.

Sections of this report:

    * Tester comments
    * Program output
    * Prerequisites
    * Environment and other context

------------------------------
TESTER COMMENTS
------------------------------

Additional comments from tester:

none provided

------------------------------
PROGRAM OUTPUT
------------------------------

Output from '/usr/bin/make test':

PERL_DL_NONLAZY=1 /home/rando/perl5/perlbrew/perls/perl-5.17.6/bin/perl5.17.6 "-MExtUtils::Command::MM" "-e" "test_harness(0, 'blib/lib', 'blib/arch')" t/*.t
t/00-compile.t ......... ok
t/00-report-prereqs.t .. skipped: $ENV{AUTOMATED_TESTING} not set
t/ini-config.t ......... ok
All tests successful.
Files=3, Tests=16,  4 wallclock secs ( 0.02 usr  0.00 sys +  2.01 cusr  0.10 csys =  2.13 CPU)
Result: PASS

------------------------------
PREREQUISITES
------------------------------

Prerequisite modules loaded:

requires:

    Module                            Need  Have      
    --------------------------------- ----- ----------
    Dist::Zilla::Role::Stash::Plugins 1.006 1.006     
    Moose                             0     2.0604    
    Pod::Weaver::Config::Assembler    0     3.101638  
    strict                            0     1.07      
    warnings                          0     1.15      

build_requires:

    Module                            Need  Have      
    --------------------------------- ----- ----------
    Dist::Zilla::Tester               0     4.300028  
    ExtUtils::MakeMaker               0     6.63_02   
    File::Find                        0     1.23      
    File::Spec::Functions             0     3.39_02   
    File::Temp                        0     0.22      
    List::Util                        0     1.25      
    Test::MockObject                  0     1.20120301
    Test::More                        0     0.98      

configure_requires:

    Module                            Need  Have      
    --------------------------------- ----- ----------
    ExtUtils::MakeMaker               6.30  6.63_02   


------------------------------
ENVIRONMENT AND OTHER CONTEXT
------------------------------

Environment variables:

    LANG = en_US.UTF-8
    LANGUAGE = en_US.UTF-8
    LC_ALL = en_US.UTF-8
    LC_CTYPE = en_US.UTF-8
    PATH = /home/rando/perl5/perlbrew/bin:/home/rando/perl5/perlbrew/perls/perl-5.17.6/bin:/home/rando/perl5/perlbrew/bin:/home/rando/perl5/perlbrew/perls/local/bin:/home/rando/java/grails-2.1.1/bin:/home/rando/java/groovy-2.0.5/bin:/home/rando/java/jdk1.7.0_11/bin:/home/rando/bin:/home/rando/bin/contrib:/home/rando/devel/linux:/opt/vagrant/bin:/usr/lib/lightdm/lightdm:/usr/local/sbin:/usr/local/bin:/usr/sbin:/usr/bin:/sbin:/bin:/usr/games
    PERL5LIB = 
    PERL5OPT = 
    PERL5_CPANPLUS_IS_RUNNING = 8768
    PERL5_CPAN_IS_RUNNING = 8768
    PERLBREW_BASHRC_VERSION = 0.58
    PERLBREW_HOME = /home/rando/.perlbrew
    PERLBREW_MANPATH = /home/rando/perl5/perlbrew/perls/perl-5.17.6/man
    PERLBREW_PATH = /home/rando/perl5/perlbrew/bin:/home/rando/perl5/perlbrew/perls/perl-5.17.6/bin
    PERLBREW_PERL = perl-5.17.6
    PERLBREW_ROOT = /home/rando/perl5/perlbrew
    PERLBREW_VERSION = 0.58
    PERL_CPANM_OPT = --save-dists /home/rando/perl5/cpan/mini --mirror http://cpan.local:4999/-CPAN/ --mirror http://cpan.ezarticleinformation.com/ --mirror http://search.cpan.org/CPAN/
    SHELL = /bin/bash
    TERM = screen-256color

Perl special variables (and OS-specific diagnostics, for MSWin32):

    $^X = /home/rando/perl5/perlbrew/perls/perl-5.17.6/bin/perl5.17.6
    $UID/$EUID = 1000 / 1000
    $GID = 1000 4 24 27 30 46 110 123 127 1000
    $EGID = 1000 4 24 27 30 46 110 123 127 1000

Perl module toolchain versions installed:

    Module              Have    
    ------------------- --------
    CPAN                1.99_51 
    CPAN::Meta          2.120921
    Cwd                 3.39_02 
    ExtUtils::CBuilder  0.280209
    ExtUtils::Command   1.17    
    ExtUtils::Install   1.58    
    ExtUtils::MakeMaker 6.63_02 
    ExtUtils::Manifest  1.62    
    ExtUtils::ParseXS   3.18    
    File::Spec          3.39_02 
    JSON                2.53    
    JSON::PP            2.27200 
    Module::Build       0.4003  
    Module::Signature   0.70    
    Parse::CPAN::Meta   1.4404  
    Test::Harness       3.25_01 
    Test::More          0.98    
    YAML                0.84    
    YAML::Syck          1.21    
    version             0.9901  


--

Summary of my perl5 (revision 5 version 17 subversion 6) configuration:
   
  Platform:
    osname=linux, osvers=3.2.0-34-generic, archname=x86_64-linux
    uname='linux raptor 3.2.0-34-generic #53-ubuntu smp thu nov 15 10:48:16 utc 2012 x86_64 x86_64 x86_64 gnulinux '
    config_args='-de -Dprefix=/home/rando/perl5/perlbrew/perls/perl-5.17.6 -Dusedevel -Aeval:scriptdir=/home/rando/perl5/perlbrew/perls/perl-5.17.6/bin'
    hint=recommended, useposix=true, d_sigaction=define
    useithreads=undef, usemultiplicity=undef
    useperlio=define, d_sfio=undef, uselargefiles=define, usesocks=undef
    use64bitint=define, use64bitall=define, uselongdouble=undef
    usemymalloc=n, bincompat5005=undef
  Compiler:
    cc='cc', ccflags ='-fno-strict-aliasing -pipe -fstack-protector -I/usr/local/include -D_LARGEFILE_SOURCE -D_FILE_OFFSET_BITS=64',
    optimize='-O2',
    cppflags='-fno-strict-aliasing -pipe -fstack-protector -I/usr/local/include'
    ccversion='', gccversion='4.6.3', gccosandvers=''
    intsize=4, longsize=8, ptrsize=8, doublesize=8, byteorder=12345678
    d_longlong=define, longlongsize=8, d_longdbl=define, longdblsize=16
    ivtype='long', ivsize=8, nvtype='double', nvsize=8, Off_t='off_t', lseeksize=8
    alignbytes=8, prototype=define
  Linker and Libraries:
    ld='cc', ldflags =' -fstack-protector -L/usr/local/lib'
    libpth=/usr/local/lib /lib/x86_64-linux-gnu /lib/../lib /usr/lib/x86_64-linux-gnu /usr/lib/../lib /lib /usr/lib
    libs=-lnsl -ldl -lm -lcrypt -lutil -lc
    perllibs=-lnsl -ldl -lm -lcrypt -lutil -lc
    libc=, so=so, useshrplib=false, libperl=libperl.a
    gnulibc_version='2.15'
  Dynamic Linking:
    dlsrc=dl_dlopen.xs, dlext=so, d_dlsymun=undef, ccdlflags='-Wl,-E'
    cccdlflags='-fPIC', lddlflags='-shared -O2 -L/usr/local/lib -fstack-protector'


Characteristics of this binary (from libperl): 
  Compile-time options: HAS_TIMES PERLIO_LAYERS PERL_DONT_CREATE_GVSV
                        PERL_MALLOC_WRAP PERL_PRESERVE_IVUV PERL_USE_DEVEL
                        USE_64_BIT_ALL USE_64_BIT_INT USE_LARGE_FILES
                        USE_LOCALE USE_LOCALE_COLLATE USE_LOCALE_CTYPE
                        USE_LOCALE_NUMERIC USE_PERLIO USE_PERL_ATOF
  Built under linux
  Compiled at Dec  5 2012 07:04:54
  %ENV:
    PERL5LIB=""
    PERL5OPT=""
    PERL5_CPANPLUS_IS_RUNNING="8768"
    PERL5_CPAN_IS_RUNNING="8768"
    PERLBREW_BASHRC_VERSION="0.58"
    PERLBREW_HOME="/home/rando/.perlbrew"
    PERLBREW_MANPATH="/home/rando/perl5/perlbrew/perls/perl-5.17.6/man"
    PERLBREW_PATH="/home/rando/perl5/perlbrew/bin:/home/rando/perl5/perlbrew/perls/perl-5.17.6/bin"
    PERLBREW_PERL="perl-5.17.6"
    PERLBREW_ROOT="/home/rando/perl5/perlbrew"
    PERLBREW_VERSION="0.58"
    PERL_CPANM_OPT="--save-dists /home/rando/perl5/cpan/mini --mirror http://cpan.local:4999/-CPAN/ --mirror http://cpan.ezarticleinformation.com/ --mirror http://search.cpan.org/CPAN/"
  @INC:
    /home/rando/perl5/perlbrew/perls/perl-5.17.6/lib/site_perl/5.17.6/x86_64-linux
    /home/rando/perl5/perlbrew/perls/perl-5.17.6/lib/site_perl/5.17.6
    /home/rando/perl5/perlbrew/perls/perl-5.17.6/lib/5.17.6/x86_64-linux
    /home/rando/perl5/perlbrew/perls/perl-5.17.6/lib/5.17.6
    .