MooseX-Meta-TypeConstraint-Mooish v0.001 Perl 5 v5.12.2 darwin-2level

Status
Pass
From
Neil Bowers
Dist
MooseX-Meta-TypeConstraint-Mooish v0.001
Platform
Perl 5 v5.12.2 darwin-2level
Date
2021-07-02 21:36:15
ID
872c9098-db7d-11eb-977c-696c8554aa64
This distribution has been tested as part of the CPAN Testers
project, supporting the Perl programming language.  See
http://wiki.cpantesters.org/ for more information or email
questions to cpan-testers-discuss@perl.org


--
Dear Chris Weyl,

This is a computer-generated report for MooseX-Meta-TypeConstraint-Mooish-0.001
on perl 5.12.2, created by CPAN-Reporter-1.2018.

Thank you for uploading your work to CPAN.  Congratulations!
All tests were successful.

Sections of this report:

    * Tester comments
    * Program output
    * Prerequisites
    * Environment and other context

------------------------------
TESTER COMMENTS
------------------------------

Additional comments from tester:

none provided

------------------------------
PROGRAM OUTPUT
------------------------------

Output from '/usr/bin/make test':

PERL_DL_NONLAZY=1 "/usr/local/perl/5122/bin/perl" "-MExtUtils::Command::MM" "-MTest::Harness" "-e" "undef *Test::Harness::Switches; test_harness(0, 'blib/lib', 'blib/arch')" t/*.t
t/00-check-deps.t ............. ok
t/00-compile.t ................ ok
# 
# 
# Generated by Dist::Zilla::Plugin::ReportVersions::Tiny v1.10
# perl: 5.012002 (wanted 5.006) on darwin from /usr/local/perl/5122/bin/perl
# 
# ExtUtils::MakeMaker                           => 7.62       (want any version)
# File::Spec                                    => 3.47       (want any version)
# IO::Handle                                    => 1.28       (want any version)
# IPC::Open3                                    => 1.05       (want any version)
# Moose                                         => 2.1603     (want any version)
# Moose::Meta::TypeConstraint                   => 2.1603     (want any version)
# Moose::Role                                   => 2.1603     (want any version)
# Test::CheckDeps                               => 0.010      (want 0.010)  
# Test::Fatal                                   => 0.013      (want any version)
# Test::Moose::More                             => 0.050      (want 0.028)  
# Test::More                                    => 1.302177   (want 0.94)   
# Try::Tiny                                     => 0.22       (want any version)
# aliased                                       => 0.31       (want any version)
# namespace::autoclean                          => 0.29       (want 0.24)   
# strict                                        => 1.04       (want any version)
# warnings                                      => 1.09       (want any version)
# 
# Thanks for using my code.  I hope it works for you.
# If not, please try and include this output in the bug report.
# That will help me reproduce the issue and solve your problem.
# 
t/000-report-versions-tiny.t .. ok
t/isa-mooish.t ................ ok
t/public-interface.t .......... ok
All tests successful.
Files=5, Tests=44,  1 wallclock secs ( 0.03 usr  0.01 sys +  1.40 cusr  0.22 csys =  1.66 CPU)
Result: PASS

------------------------------
PREREQUISITES
------------------------------

Prerequisite modules loaded:

requires:

    Module                      Need  Have    
    --------------------------- ----- --------
    Moose                       0     2.1603  
    Moose::Meta::TypeConstraint 0     2.1603  
    Moose::Role                 0     2.1603  
    namespace::autoclean        0.24  0.29    
    perl                        5.006 5.012002
    Try::Tiny                   0     0.22    

build_requires:

    Module                      Need  Have    
    --------------------------- ----- --------
    aliased                     0     0.31    
    ExtUtils::MakeMaker         0     7.62    
    File::Spec                  0     3.47    
    IO::Handle                  0     1.28    
    IPC::Open3                  0     1.05    
    strict                      0     1.04    
    Test::CheckDeps             0.010 0.010   
    Test::Fatal                 0     0.013   
    Test::Moose::More           0.028 0.050   
    Test::More                  0.94  1.302177
    warnings                    0     1.09    

configure_requires:

    Module                      Need  Have    
    --------------------------- ----- --------
    ExtUtils::MakeMaker         0     7.62    
    perl                        5.006 5.012002


------------------------------
ENVIRONMENT AND OTHER CONTEXT
------------------------------

Environment variables:

    PATH = /usr/local/apache/bin:/usr/local/bin:/opt/local/bin:/usr/local/bin:/usr/bin:/bin:/usr/sbin:/sbin:/Applications/VMware Fusion.app/Contents/Public:/usr/local/go/bin:/opt/X11/bin:/usr/local/git/bin
    PERL5LIB = 
    PERL5OPT = 
    PERL5_CPANPLUS_IS_RUNNING = 84873
    PERL5_CPAN_IS_RUNNING = 84873
    SHELL = /bin/sh
    TERM = xterm

Perl special variables (and OS-specific diagnostics, for MSWin32):

    $^X = /usr/local/perl/5122/bin/perl
    $UID/$EUID = 0 / 0
    $GID = 0 0 1 2 3 4 5 8 9 12 20 29 61 80 701 702 33
    $EGID = 0 0 1 2 3 4 5 8 9 12 20 29 61 80 701 702 33

Perl module toolchain versions installed:

    Module              Have    
    ------------------- --------
    CPAN                1.94_56 
    CPAN::Meta          2.143240
    Cwd                 3.47    
    ExtUtils::CBuilder  0.280216
    ExtUtils::Command   7.62    
    ExtUtils::Install   2.06    
    ExtUtils::MakeMaker 7.62    
    ExtUtils::Manifest  1.70    
    ExtUtils::ParseXS   3.35    
    File::Spec          3.47    
    JSON                2.90    
    JSON::PP            2.27203 
    Module::Build       0.4231  
    Module::Signature   n/a     
    Parse::CPAN::Meta   1.4414  
    Test::Harness       3.32    
    Test::More          1.302177
    YAML                1.30    
    YAML::Syck          1.27    
    version             0.9929  


--

Summary of my perl5 (revision 5 version 12 subversion 2) configuration:
   
  Platform:
    osname=darwin, osvers=12.5.0, archname=darwin-2level
    uname='darwin tucumcari.local 12.5.0 darwin kernel version 12.5.0: sun sep 29 13:33:47 pdt 2013; root:xnu-2050.48.12~1release_x86_64 x86_64 '
    config_args='-Dprefix=/usr/local/perl/5122'
    hint=recommended, useposix=true, d_sigaction=define
    useithreads=undef, usemultiplicity=undef
    useperlio=define, d_sfio=undef, uselargefiles=define, usesocks=undef
    use64bitint=define, use64bitall=define, uselongdouble=undef
    usemymalloc=n, bincompat5005=undef
  Compiler:
    cc='gcc', ccflags ='-fno-common -DPERL_DARWIN -no-cpp-precomp -fno-strict-aliasing -pipe -fstack-protector -I/usr/local/include -I/opt/local/include',
    optimize='-O3',
    cppflags='-no-cpp-precomp -fno-common -DPERL_DARWIN -no-cpp-precomp -fno-strict-aliasing -pipe -fstack-protector -I/usr/local/include -I/opt/local/include'
    ccversion='', gccversion='4.2.1 (Based on Apple Inc. build 5658) (LLVM build 2336.11.00)', gccosandvers=''
    intsize=4, longsize=8, ptrsize=8, doublesize=8, byteorder=12345678
    d_longlong=define, longlongsize=8, d_longdbl=define, longdblsize=16
    ivtype='long', ivsize=8, nvtype='double', nvsize=8, Off_t='off_t', lseeksize=8
    alignbytes=8, prototype=define
  Linker and Libraries:
    ld='env MACOSX_DEPLOYMENT_TARGET=10.3 gcc', ldflags =' -fstack-protector -L/usr/local/lib -L/opt/local/lib'
    libpth=/usr/local/lib /opt/local/lib /usr/lib
    libs=-lgdbm -ldbm -ldl -lm -lutil -lc
    perllibs=-ldl -lm -lutil -lc
    libc=, so=dylib, useshrplib=false, libperl=libperl.a
    gnulibc_version=''
  Dynamic Linking:
    dlsrc=dl_dlopen.xs, dlext=bundle, d_dlsymun=undef, ccdlflags=' '
    cccdlflags=' ', lddlflags=' -bundle -undefined dynamic_lookup -L/usr/local/lib -L/opt/local/lib -fstack-protector'


Characteristics of this binary (from libperl): 
  Compile-time options: PERL_DONT_CREATE_GVSV PERL_MALLOC_WRAP USE_64_BIT_ALL
                        USE_64_BIT_INT USE_LARGE_FILES USE_PERLIO
                        USE_PERL_ATOF
  Built under darwin
  Compiled at Jun 27 2014 10:43:04
  %ENV:
    PERL5LIB=""
    PERL5OPT=""
    PERL5_CPANPLUS_IS_RUNNING="84873"
    PERL5_CPAN_IS_RUNNING="84873"
  @INC:
    /usr/local/perl/5122/lib/site_perl/5.12.2/darwin-2level
    /usr/local/perl/5122/lib/site_perl/5.12.2
    /usr/local/perl/5122/lib/5.12.2/darwin-2level
    /usr/local/perl/5122/lib/5.12.2
    .