Report for Catalyst-Action-REST-1.13

Back
From: metabase:user:323dcade-2aae-11df-837a-5e0a49663a4f
Subject: PASS Catalyst-Action-REST-1.13 v5.14.4 GNU/Linux
Date: 2013-11-25T15:16:15Z

This distribution has been tested as part of the CPAN Testers
project, supporting the Perl programming language.  See
http://wiki.cpantesters.org/ for more information or email
questions to cpan-testers-discuss@perl.org


--
Dear John Napiorkowski,

This is a computer-generated report for Catalyst-Action-REST-1.13
on perl 5.14.4, created by CPAN-Reporter-1.2010.

Thank you for uploading your work to CPAN.  Congratulations!
All tests were successful.

Sections of this report:

    * Tester comments
    * Program output
    * Prerequisites
    * Environment and other context

------------------------------
TESTER COMMENTS
------------------------------

Additional comments from tester:

none provided

------------------------------
PROGRAM OUTPUT
------------------------------

Output from '/usr/bin/make test':

PERL_DL_NONLAZY=1 /usr/local/bin/perl5.14.4-nt "-MExtUtils::Command::MM" "-MTest::Harness" "-e" "undef *Test::Harness::Switches; test_harness(0, 'inc', 'blib/lib', 'blib/arch')" t/callback.t t/catalyst-action-deserialize-multipart.t t/catalyst-action-deserialize.t t/catalyst-action-rest-action-dispatch-for-browsers.t t/catalyst-action-rest-action-dispatch.t t/catalyst-action-rest.t t/catalyst-action-serialize-accept.t t/catalyst-action-serialize-query.t t/catalyst-action-serialize.t t/catalyst-controller-rest.t t/catalyst-request-rest-custom-nonrest-request-class.t t/catalyst-request-rest-custom-rest-request-class.t t/catalyst-traitfor-request-rest-forbrowsers.t t/catalyst-traitfor-request-rest.t t/isa.t t/json.t t/jsonp.t t/view.t t/xml-simple.t t/yaml-html.t t/yaml.t
t/callback.t ............................................ ok
t/catalyst-action-deserialize-multipart.t ............... ok
t/catalyst-action-deserialize.t ......................... ok
t/catalyst-action-rest-action-dispatch-for-browsers.t ... ok
t/catalyst-action-rest-action-dispatch.t ................ ok
t/catalyst-action-rest.t ................................ ok
t/catalyst-action-serialize-accept.t .................... ok
t/catalyst-action-serialize-query.t ..................... ok
t/catalyst-action-serialize.t ........................... ok
t/catalyst-controller-rest.t ............................ ok
t/catalyst-request-rest-custom-nonrest-request-class.t .. ok
t/catalyst-request-rest-custom-rest-request-class.t ..... ok
t/catalyst-traitfor-request-rest-forbrowsers.t .......... ok
t/catalyst-traitfor-request-rest.t ...................... ok
t/isa.t ................................................. ok
t/json.t ................................................ ok
t/jsonp.t ............................................... ok
t/view.t ................................................ ok
t/xml-simple.t .......................................... ok
t/yaml-html.t ........................................... ok
t/yaml.t ................................................ ok
All tests successful.
Files=21, Tests=298, 22 wallclock secs ( 0.08 usr  0.00 sys + 14.51 cusr  0.55 csys = 15.14 CPU)
Result: PASS

------------------------------
PREREQUISITES
------------------------------

Prerequisite modules loaded:

requires:

    Module                    Need     Have    
    ------------------------- -------- --------
    Catalyst::Runtime         5.80030  5.90042 
    Class::Inspector          1.13     1.28    
    Config::General           0        2.52    
    HTML::Parser              0        3.71    
    JSON                      2.12     2.90    
    JSON::XS                  2.2222   2.34    
    LWP::UserAgent            2.033    6.05    
    Module::Pluggable::Object 0        4.8     
    Moose                     1.03     2.1005  
    MRO::Compat               0.10     0.12    
    namespace::autoclean      0        0.14    
    Params::Validate          0.76     1.08    
    perl                      5.008001 5.014004
    Test::More                0.88     1.001002
    Test::Requires            0        0.07    
    URI::Find                 0        20111103
    XML::Simple               0        2.20    
    YAML::Syck                0.67     1.27    

build_requires:

    Module                    Need     Have    
    ------------------------- -------- --------
    ExtUtils::MakeMaker       6.59     6.82    
    Test::More                0.88     1.001002
    Test::Requires            0        0.07    

configure_requires:

    Module                    Need     Have    
    ------------------------- -------- --------
    ExtUtils::MakeMaker       6.59     6.82    


------------------------------
ENVIRONMENT AND OTHER CONTEXT
------------------------------

Environment variables:

    LANG = en_US.UTF-8
    PATH = /home/rurban/bin:/usr/local/bin:/usr/bin:/bin:/usr/local/games:/usr/games
    PERL5LIB = 
    PERL5OPT = 
    PERL5_CPANPLUS_IS_RUNNING = 6818
    PERL5_CPAN_IS_RUNNING = 6818
    SHELL = /bin/bash
    TERM = xterm

Perl special variables (and OS-specific diagnostics, for MSWin32):

    $^X = /usr/local/bin/perl5.14.4-nt
    $UID/$EUID = 1000 / 1000
    $GID = 1000 27 124 125 1000
    $EGID = 1000 27 124 125 1000

Perl module toolchain versions installed:

    Module              Have    
    ------------------- --------
    CPAN                2.00    
    CPAN::Meta          2.132830
    Cwd                 3.40    
    ExtUtils::CBuilder  0.280212
    ExtUtils::Command   1.18    
    ExtUtils::Install   1.56    
    ExtUtils::MakeMaker 6.82    
    ExtUtils::Manifest  1.63    
    ExtUtils::ParseXS   3.22    
    File::Spec          3.40    
    JSON                2.90    
    JSON::PP            2.27203 
    Module::Build       0.4202  
    Module::Signature   0.73    
    Parse::CPAN::Meta   1.4409  
    Test::Harness       3.30    
    Test::More          1.001002
    YAML                0.84    
    YAML::Syck          1.27    
    version             0.9904  


--

Summary of my perl5 (revision 5 version 14 subversion 4) configuration:
   
  Platform:
    osname=linux, osvers=3.2.0-4-amd64, archname=x86_64-linux
    uname='linux reini 3.2.0-4-amd64 #1 smp debian 3.2.39-2 x86_64 gnulinux '
    config_args='-de -Dusedevel -Uversiononly -Dinstallman1dir=none -Dinstallman3dir=none -Dinstallsiteman1dir=none -Dinstallsiteman3dir=none -Uuseithreads -Accflags='-msse4.2' -Accflags='-march=corei7' -Dcf_email='rurban@cpanel.net' -Dperladmin='rurban@cpanel.net' -Duseshrplib'
    hint=recommended, useposix=true, d_sigaction=define
    useithreads=undef, usemultiplicity=undef
    useperlio=define, d_sfio=undef, uselargefiles=define, usesocks=undef
    use64bitint=define, use64bitall=define, uselongdouble=undef
    usemymalloc=n, bincompat5005=undef
  Compiler:
    cc='cc', ccflags ='-msse4.2 -march=corei7 -fno-strict-aliasing -pipe -fstack-protector -I/usr/local/include -D_LARGEFILE_SOURCE -D_FILE_OFFSET_BITS=64',
    optimize='-O2',
    cppflags='-msse4.2 -march=corei7 -fno-strict-aliasing -pipe -fstack-protector -I/usr/local/include'
    ccversion='', gccversion='4.7.2', gccosandvers=''
    intsize=4, longsize=8, ptrsize=8, doublesize=8, byteorder=12345678
    d_longlong=define, longlongsize=8, d_longdbl=define, longdblsize=16
    ivtype='long', ivsize=8, nvtype='double', nvsize=8, Off_t='off_t', lseeksize=8
    alignbytes=8, prototype=define
  Linker and Libraries:
    ld='cc', ldflags =' -fstack-protector -L/usr/local/lib'
    libpth=/usr/local/lib /lib/x86_64-linux-gnu /lib/../lib /usr/lib/x86_64-linux-gnu /usr/lib/../lib /lib /usr/lib
    libs=-lnsl -lgdbm -ldb -ldl -lm -lcrypt -lutil -lc -lgdbm_compat
    perllibs=-lnsl -ldl -lm -lcrypt -lutil -lc
    libc=, so=so, useshrplib=true, libperl=libperl.so
    gnulibc_version='2.13'
  Dynamic Linking:
    dlsrc=dl_dlopen.xs, dlext=so, d_dlsymun=undef, ccdlflags='-Wl,-E -Wl,-rpath,/usr/local/lib/perl5/5.14.4/x86_64-linux/CORE'
    cccdlflags='-fPIC', lddlflags='-shared -O2 -L/usr/local/lib -fstack-protector'


Characteristics of this binary (from libperl): 
  Compile-time options: PERL_DONT_CREATE_GVSV PERL_MALLOC_WRAP
                        PERL_PRESERVE_IVUV PERL_USE_DEVEL USE_64_BIT_ALL
                        USE_64_BIT_INT USE_LARGE_FILES USE_PERLIO
                        USE_PERL_ATOF
  Built under linux
  Compiled at Aug 22 2013 12:44:36
  %ENV:
    PERL5LIB=""
    PERL5OPT=""
    PERL5_CPANPLUS_IS_RUNNING="6818"
    PERL5_CPAN_IS_RUNNING="6818"
  @INC:
    /usr/local/lib/perl5/site_perl/5.14.4/x86_64-linux
    /usr/local/lib/perl5/site_perl/5.14.4
    /usr/local/lib/perl5/5.14.4/x86_64-linux
    /usr/local/lib/perl5/5.14.4
    /usr/local/lib/perl5/site_perl/5.14.3/x86_64-linux
    /usr/local/lib/perl5/site_perl/5.14.3
    /usr/local/lib/perl5/site_perl/5.14.2/x86_64-linux
    /usr/local/lib/perl5/site_perl/5.14.2
    /usr/local/lib/perl5/site_perl/5.14.1/x86_64-linux
    /usr/local/lib/perl5/site_perl/5.14.1
    /usr/local/lib/perl5/site_perl/5.12.4
    /usr/local/lib/perl5/site_perl/5.10.1
    /usr/local/lib/perl5/site_perl/5.8.9
    /usr/local/lib/perl5/site_perl/5.8.8
    /usr/local/lib/perl5/site_perl/5.8.7
    /usr/local/lib/perl5/site_perl/5.8.6
    /usr/local/lib/perl5/site_perl/5.8.5
    /usr/local/lib/perl5/site_perl/5.8.4
    /usr/local/lib/perl5/site_perl/5.8.3
    /usr/local/lib/perl5/site_perl/5.8.2
    /usr/local/lib/perl5/site_perl/5.8.1
    /usr/local/lib/perl5/site_perl/5.6.2
    /usr/local/lib/perl5/site_perl
    .