Metabase-Backend-SQL v1.001 Perl 5 v5.41.10 x86_64-dragonfly

Status
Pass
From
Carlos Guevara
Dist
Metabase-Backend-SQL v1.001
Platform
Perl 5 v5.41.10 x86_64-dragonfly
Date
2025-03-14 20:33:02
ID
86ba7a3e-0113-11f0-a666-f61c0cc31cec
This distribution has been tested as part of the CPAN Testers
project, supporting the Perl programming language.  See
http://wiki.cpantesters.org/ for more information or email
questions to cpan-testers-discuss@perl.org


--
Dear David Golden,

This is a computer-generated report for Metabase-Backend-SQL-1.001
on perl 5.41.10, created by CPAN-Reporter-1.2020.

Thank you for uploading your work to CPAN.  Congratulations!
All tests were successful.

Sections of this report:

    * Tester comments
    * Program output
    * Prerequisites
    * Environment and other context

------------------------------
TESTER COMMENTS
------------------------------

Additional comments from tester:

this report is from an automated smoke testing program
and was not reviewed by a human for accuracy

------------------------------
PROGRAM OUTPUT
------------------------------

Output from '/usr/bin/make test':

PERL_DL_NONLAZY=1 "/home/cpan/bin/perl/bin/perl5.41.10" "-MExtUtils::Command::MM" "-MTest::Harness" "-e" "undef *Test::Harness::Switches; test_harness(0, 'blib/lib', 'blib/arch')" t/*.t t/postgres/*.t t/sharded/*.t t/sqlite/*.t
# 
# Versions for all modules listed in MYMETA.json (including optional ones):
# 
# === Configure Requires ===
# 
#     Module              Want Have
#     ------------------- ---- ----
#     ExtUtils::MakeMaker 6.17 7.70
# 
# === Build Requires ===
# 
#     Module              Want Have
#     ------------------- ---- ----
#     ExtUtils::MakeMaker  any 7.70
# 
# === Test Requires ===
# 
#     Module                Want     Have
#     --------------------- ---- --------
#     ExtUtils::MakeMaker    any     7.70
#     File::Spec             any     3.93
#     File::Spec::Functions  any     3.93
#     Path::Class            any     0.37
#     Test::Deep             any    1.204
#     Test::Fatal            any    0.017
#     Test::More            0.92 1.302209
#     Test::Routine          any    0.031
#     Test::Routine::Util    any    0.031
#     lib                    any     0.65
#     re                     any     0.47
# 
# === Test Recommends ===
# 
#     Module         Want     Have
#     ---------- -------- --------
#     CPAN::Meta 2.120900 2.150010
# 
# === Runtime Requires ===
# 
#     Module                                Want     Have
#     ---------------------------------- ------- --------
#     Carp                                   any     1.54
#     Class::Load                            any     0.25
#     Compress::Zlib                           2    2.213
#     DBD::SQLite                            any     1.76
#     DBI                                      1    1.647
#     DBIx::RunSQL                           any     0.25
#     DBIx::Simple                           any     1.37
#     Data::Stream::Bulk::Array              any     0.11
#     Data::Stream::Bulk::Callback           any     0.11
#     Data::Stream::Bulk::DBI                any     0.11
#     Data::Stream::Bulk::Filter             any     0.11
#     Data::Stream::Bulk::Nil                any     0.11
#     File::Temp                             any   0.2311
#     JSON                                     2     4.10
#     List::AllUtils                         any     0.19
#     List::Util                             any  1.68_01
#     Metabase::Archive                        1    1.003
#     Metabase::Fact                         any    0.025
#     Metabase::Index                          1    1.003
#     Moose                                  any   2.2207
#     Moose::Role                            any   2.2207
#     Moose::Util::TypeConstraints           any   2.2207
#     MooseX::Types::Path::Class             any     0.09
#     SQL::Abstract                          any 2.000001
#     SQL::Translator                    0.11006     1.66
#     SQL::Translator::Diff                  any    undef
#     SQL::Translator::Schema                any     1.66
#     SQL::Translator::Schema::Constants     any     1.66
#     SQL::Translator::Utils                 any     1.66
#     Storable                               any     3.35
#     Try::Tiny                              any     0.32
#     namespace::autoclean                   any     0.31
#     strict                                 any     1.13
#     warnings                               any     1.73
# 
t/00-report-prereqs.t .... ok
t/postgres/archive.t ..... skipped: No $ENV{METABASE_TEST_PG_DBNAME}
t/postgres/index.t ....... skipped: No $ENV{METABASE_TEST_PG_DBNAME}
t/postgres/init-index.t .. skipped: No $ENV{METABASE_TEST_PG_DBNAME}
t/query.t ................ ok
t/sharded/archive.t ...... ok
t/sharded/index.t ........ ok
t/sqlite/archive.t ....... ok
t/sqlite/index.t ......... ok
t/sqlite/init-index.t .... ok
All tests successful.
Files=10, Tests=7, 15 wallclock secs ( 0.04 usr  0.02 sys + 13.52 cusr  1.25 csys = 14.83 CPU)
Result: PASS

------------------------------
PREREQUISITES
------------------------------

Prerequisite modules loaded:

requires:

    Module                             Need     Have    
    ---------------------------------- -------- --------
    Carp                               0        1.54    
    Class::Load                        0        0.25    
    Compress::Zlib                     2        2.213   
    Data::Stream::Bulk::Array          0        0.11    
    Data::Stream::Bulk::Callback       0        0.11    
    Data::Stream::Bulk::DBI            0        0.11    
    Data::Stream::Bulk::Filter         0        0.11    
    Data::Stream::Bulk::Nil            0        0.11    
    DBD::SQLite                        0        1.76    
    DBI                                1        1.647   
    DBIx::RunSQL                       0        0.25    
    DBIx::Simple                       0        1.37    
    File::Temp                         0        0.2311  
    JSON                               2        4.10    
    List::AllUtils                     0        0.19    
    List::Util                         0        1.68_01 
    Metabase::Archive                  1        1.003   
    Metabase::Fact                     0        0.025   
    Metabase::Index                    1        1.003   
    Moose                              0        2.2207  
    Moose::Role                        0        2.2207  
    Moose::Util::TypeConstraints       0        2.2207  
    MooseX::Types::Path::Class         0        0.09    
    namespace::autoclean               0        0.31    
    perl                               5.010    5.041010
    SQL::Abstract                      0        2.000001
    SQL::Translator                    0.11006  1.66    
    SQL::Translator::Diff              0        0       
    SQL::Translator::Schema            0        1.66    
    SQL::Translator::Schema::Constants 0        1.66    
    SQL::Translator::Utils             0        1.66    
    Storable                           0        3.35    
    strict                             0        1.13    
    Try::Tiny                          0        0.32    
    warnings                           0        1.73    

build_requires:

    Module                             Need     Have    
    ---------------------------------- -------- --------
    ExtUtils::MakeMaker                0        7.70    
    File::Spec                         0        3.93    
    File::Spec::Functions              0        3.93    
    lib                                0        0.65    
    Path::Class                        0        0.37    
    re                                 0        0.47    
    Test::Deep                         0        1.204   
    Test::Fatal                        0        0.017   
    Test::More                         0.92     1.302209
    Test::Routine                      0        0.031   
    Test::Routine::Util                0        0.031   

configure_requires:

    Module                             Need     Have    
    ---------------------------------- -------- --------
    ExtUtils::MakeMaker                6.17     7.70    
    perl                               5.008001 5.041010


------------------------------
ENVIRONMENT AND OTHER CONTEXT
------------------------------

Environment variables:

    AUTOMATED_TESTING = 1
    DATE_MANIP_TEST_DM5 = 1
    LC_ALL = C
    NONINTERACTIVE_TESTING = 1
    NO_NETWORK_TESTING = 1
    PATH = /home/cpan/bin/perl/bin:/home/cpan/bin:/sbin:/bin:/usr/sbin:/usr/bin:/usr/games:/usr/local/sbin:/usr/local/bin:/usr/pkg/sbin:/usr/pkg/bin:/home/cpan/bin
    PERL5LIB = 
    PERL5OPT = 
    PERL5_CPANPLUS_IS_RUNNING = 748663
    PERL5_CPAN_IS_RUNNING = 748663
    PERL_MM_USE_DEFAULT = 1
    PERL_USE_UNSAFE_INC = 1
    SHELL = /usr/local/bin/bash
    TERM = screen
    TMPDIR = /home/cpan/tmp

Perl special variables (and OS-specific diagnostics, for MSWin32):

    $^X = /home/cpan/bin/perl/bin/perl5.41.10
    $UID/$EUID = 1002 / 1002
    $GID = 1002 1002
    $EGID = 1002 1002

Perl module toolchain versions installed:

    Module              Have    
    ------------------- --------
    CPAN                2.38    
    CPAN::Meta          2.150010
    Cwd                 3.92    
    ExtUtils::CBuilder  0.280240
    ExtUtils::Command   7.70    
    ExtUtils::Install   2.22    
    ExtUtils::MakeMaker 7.70    
    ExtUtils::Manifest  1.75    
    ExtUtils::ParseXS   3.57    
    File::Spec          3.93    
    JSON                4.10    
    JSON::PP            4.16    
    Module::Build       0.4234  
    Module::Signature   0.89    
    Parse::CPAN::Meta   2.150010
    Test2               1.302209
    Test::Harness       3.50    
    Test::More          1.302209
    YAML                1.31    
    YAML::Syck          1.34    
    version             0.9933  


--

Summary of my perl5 (revision 5 version 41 subversion 10) configuration:
  Commit id: dbe37414ccd0f34ff1638f49deb9955648e98099
  Platform:
    osname=dragonfly
    osvers=6.4-release
    archname=x86_64-dragonfly
    uname='dragonfly cjg-dragonfly6 6.4-release dragonfly v6.4.0-release #54: fri dec 30 09:06:50 pst 2022 root@pkgbox64.dragonflybsd.org:usrobjusrsrcsysx86_64_generic x86_64 '
    config_args='-des -Dprefix=/home/cpan/bin/perl -Dscriptdir=/home/cpan/bin/perl/bin -Dusedevel -Duse64bitall'
    hint=recommended
    useposix=true
    d_sigaction=define
    useithreads=undef
    usemultiplicity=undef
    use64bitint=define
    use64bitall=define
    uselongdouble=undef
    usemymalloc=n
    default_inc_excludes_dot=define
  Compiler:
    cc='cc'
    ccflags ='-DHAS_FPSETMASK -DHAS_FLOATINGPOINT_H -DNO_POSIX_2008_LOCALE -fwrapv -fno-strict-aliasing -pipe -fstack-protector-strong -I/usr/local/include -D_FORTIFY_SOURCE=2'
    optimize='-O2'
    cppflags='-DHAS_FPSETMASK -DHAS_FLOATINGPOINT_H -DNO_POSIX_2008_LOCALE -fwrapv -fno-strict-aliasing -pipe -fstack-protector-strong -I/usr/local/include'
    ccversion=''
    gccversion='8.3 [DragonFly] Release/2019-02-22'
    gccosandvers=''
    intsize=4
    longsize=8
    ptrsize=8
    doublesize=8
    byteorder=12345678
    doublekind=3
    d_longlong=define
    longlongsize=8
    d_longdbl=define
    longdblsize=16
    longdblkind=3
    ivtype='long'
    ivsize=8
    nvtype='double'
    nvsize=8
    Off_t='off_t'
    lseeksize=8
    alignbytes=8
    prototype=define
  Linker and Libraries:
    ld='cc'
    ldflags ='-Wl,-E  -fstack-protector-strong -L/usr/local/lib'
    libpth=/usr/lib /usr/local/lib
    libs=-lpthread -lgdbm -ldl -lm -lcrypt -lutil -lc
    perllibs=-lpthread -ldl -lm -lcrypt -lutil -lc
    libc=
    so=so
    useshrplib=false
    libperl=libperl.a
    gnulibc_version=''
  Dynamic Linking:
    dlsrc=dl_dlopen.xs
    dlext=so
    d_dlsymun=undef
    ccdlflags=' '
    cccdlflags='-DPIC -fPIC'
    lddlflags='-shared  -L/usr/local/lib -fstack-protector-strong'


Characteristics of this binary (from libperl): 
  Compile-time options:
    HAS_LONG_DOUBLE
    HAS_STRTOLD
    HAS_TIMES
    PERLIO_LAYERS
    PERL_COPY_ON_WRITE
    PERL_DONT_CREATE_GVSV
    PERL_HASH_FUNC_SIPHASH13
    PERL_HASH_USE_SBOX32
    PERL_MALLOC_WRAP
    PERL_OP_PARENT
    PERL_PRESERVE_IVUV
    PERL_USE_DEVEL
    PERL_USE_SAFE_PUTENV
    USE_64_BIT_ALL
    USE_64_BIT_INT
    USE_LARGE_FILES
    USE_LOCALE
    USE_LOCALE_COLLATE
    USE_LOCALE_CTYPE
    USE_LOCALE_NUMERIC
    USE_LOCALE_TIME
    USE_PERLIO
    USE_PERL_ATOF
  Built under dragonfly
  Compiled at Mar 14 2025 05:50:01
  %ENV:
    PERL5LIB=""
    PERL5OPT=""
    PERL5_CPANPLUS_IS_RUNNING="748663"
    PERL5_CPAN_IS_RUNNING="748663"
    PERL_MM_USE_DEFAULT="1"
    PERL_USE_UNSAFE_INC="1"
  @INC:
    /home/cpan/bin/perl/lib/site_perl/5.41.10/x86_64-dragonfly
    /home/cpan/bin/perl/lib/site_perl/5.41.10
    /home/cpan/bin/perl/lib/5.41.10/x86_64-dragonfly
    /home/cpan/bin/perl/lib/5.41.10
    .