Gtk2 v1.24992 Perl 5 v5.24.2 x86_64-linux-thread-multi
        
            - Status
- Pass
- From
- Slaven Rezić (SREZIC)
- Dist
- 
                Gtk2 v1.24992
            
- Platform
- Perl 5 v5.24.2 x86_64-linux-thread-multi
- Date
- 2017-10-10 21:46:51
- ID
- 86823472-ae04-11e7-8d56-dcedc5d05ccc
This distribution has been tested as part of the CPAN Testers
project, supporting the Perl programming language.  See
http://wiki.cpantesters.org/ for more information or email
questions to cpan-testers-discuss@perl.org
--
Dear Brian Manning,
This is a computer-generated report for Gtk2-1.24992
on perl 5.24.2, created by CPAN-Reporter-1.2018.
Thank you for uploading your work to CPAN.  Congratulations!
All tests were successful.
Sections of this report:
    * Tester comments
    * Program output
    * Prerequisites
    * Environment and other context
------------------------------
TESTER COMMENTS
------------------------------
Additional comments from tester:
none provided
------------------------------
PROGRAM OUTPUT
------------------------------
Output from '/usr/bin/make test':
Running Mkbootstrap for Gtk2 ()
chmod 644 "Gtk2.bs"
PERL_DL_NONLAZY=1 "/opt/perl-5.24.2t/bin/perl" "-MExtUtils::Command::MM" "-MTest::Harness" "-e" "undef *Test::Harness::Switches; test_harness(0, 'blib/lib', 'blib/arch')" t/*.t
# Testing Gtk2 1.24992
#    Running against gtk+ 2.24.31
#   Compiled against gtk+ 2.24.31
t/00.Gtk2.t ........................ ok
t/01.GtkWindow.t ................... skipped: Gtk2->init_check failed, probably unable to open DISPLAY
t/02.GtkContainer.t ................ skipped: Gtk2->init_check failed, probably unable to open DISPLAY
t/constants.t ...................... ok
t/Gdk.t ............................ skipped: Gtk2->init_check failed, probably unable to open DISPLAY
t/GdkCairo.t ....................... skipped: Gtk2->init_check failed, probably unable to open DISPLAY
t/GdkColor.t ....................... skipped: Gtk2->init_check failed, probably unable to open DISPLAY
t/GdkCursor.t ...................... skipped: Gtk2->init_check failed, probably unable to open DISPLAY
t/GdkDisplay.t ..................... skipped: Gtk2->init_check failed, probably unable to open DISPLAY
t/GdkDisplayManager.t .............. skipped: Gtk2->init_check failed, probably unable to open DISPLAY
t/GdkDrawable.t .................... skipped: Gtk2->init_check failed, probably unable to open DISPLAY
t/GdkEvent.t ....................... skipped: Gtk2->init_check failed, probably unable to open DISPLAY
t/GdkGC.t .......................... skipped: Gtk2->init_check failed, probably unable to open DISPLAY
t/GdkImage.t ....................... skipped: Gtk2->init_check failed, probably unable to open DISPLAY
t/GdkInput.t ....................... skipped: Gtk2->init_check failed, probably unable to open DISPLAY
t/GdkKeys.t ........................ skipped: Gtk2->init_check failed, probably unable to open DISPLAY
t/GdkPango.t ....................... skipped: Gtk2->init_check failed, probably unable to open DISPLAY
GdkPixbuf-LOG **: gdk_pixbuf_from_pixdata() called on: at t/GdkPixbuf.t line 185.
GdkPixbuf-LOG **: 	Encoding rle at t/GdkPixbuf.t line 185.
GdkPixbuf-LOG **: 	Dimensions: 4 x 5 at t/GdkPixbuf.t line 185.
GdkPixbuf-LOG **: 	Rowstride: 16, Length: 91 at t/GdkPixbuf.t line 185.
GdkPixbuf-LOG **: 	Copy pixels == true at t/GdkPixbuf.t line 185.
t/GdkPixbuf.t ...................... ok
t/GdkPixbufLoader.t ................ ok
t/GdkPixbufSimpleAnim.t ............ ok
t/GdkPixmap.t ...................... skipped: Gtk2->init_check failed, probably unable to open DISPLAY
t/GdkProperty.t .................... skipped: Gtk2->init_check failed, probably unable to open DISPLAY
t/GdkRegion.t ...................... ok
t/GdkRgb.t ......................... skipped: Gtk2->init_check failed, probably unable to open DISPLAY
t/GdkScreen.t ...................... skipped: Gtk2->init_check failed, probably unable to open DISPLAY
t/GdkSelection.t ................... skipped: Gtk2->init_check failed, probably unable to open DISPLAY
t/GdkVisual.t ...................... skipped: Gtk2->init_check failed, probably unable to open DISPLAY
t/GdkWindow.t ...................... skipped: Gtk2->init_check failed, probably unable to open DISPLAY
t/GdkX11.t ......................... skipped: Gtk2->init_check failed, probably unable to open DISPLAY
t/GtkAboutDialog.t ................. skipped: Gtk2->init_check failed, probably unable to open DISPLAY
t/GtkAccelGroup.t .................. skipped: Gtk2->init_check failed, probably unable to open DISPLAY
t/GtkAccelLabel.t .................. skipped: Gtk2->init_check failed, probably unable to open DISPLAY
t/GtkAccelMap.t .................... skipped: Gtk2->init_check failed, probably unable to open DISPLAY
t/GtkAction.t ...................... skipped: Gtk2->init_check failed, probably unable to open DISPLAY
t/GtkActionGroup.t ................. skipped: Gtk2->init_check failed, probably unable to open DISPLAY
t/GtkActivatable.t ................. skipped: Gtk2->init_check failed, probably unable to open DISPLAY
t/GtkAdjustment.t .................. ok
t/GtkAlignment.t ................... ok
t/GtkArrow.t ....................... ok
t/GtkAspectFrame.t ................. ok
t/GtkAssistant.t ................... skipped: Gtk2->init_check failed, probably unable to open DISPLAY
t/GtkBin.t ......................... skipped: Gtk2->init_check failed, probably unable to open DISPLAY
t/GtkBindings.t .................... skipped: Gtk2->init_check failed, probably unable to open DISPLAY
t/GtkBox.t ......................... skipped: Gtk2->init_check failed, probably unable to open DISPLAY
t/GtkBuildable.t ................... skipped: Gtk2->init_check failed, probably unable to open DISPLAY
t/GtkBuildableIface.t .............. skipped: Gtk2->init_check failed, probably unable to open DISPLAY
t/GtkBuilder.t ..................... skipped: Gtk2->init_check failed, probably unable to open DISPLAY
t/GtkButton.t ...................... skipped: Gtk2->init_check failed, probably unable to open DISPLAY
t/GtkButtonBox.t ................... skipped: Gtk2->init_check failed, probably unable to open DISPLAY
t/GtkCalendar.t .................... skipped: Gtk2->init_check failed, probably unable to open DISPLAY
t/GtkCellEditable.t ................ skipped: Gtk2->init_check failed, probably unable to open DISPLAY
t/GtkCellLayout.t .................. skipped: Gtk2->init_check failed, probably unable to open DISPLAY
t/GtkCellLayoutIface.t ............. skipped: Gtk2->init_check failed, probably unable to open DISPLAY
t/GtkCellRenderer.t ................ skipped: Gtk2->init_check failed, probably unable to open DISPLAY
t/GtkCellRendererAccel.t ........... ok
t/GtkCellRendererCombo.t ........... ok
t/GtkCellRendererIface-Chaining.t .. skipped: Gtk2->init_check failed, probably unable to open DISPLAY
t/GtkCellRendererPixbuf.t .......... ok
t/GtkCellRendererProgress.t ........ ok
t/GtkCellRendererSpin.t ............ ok
t/GtkCellRendererSpinner.t ......... ok
t/GtkCellRendererText.t ............ ok
t/GtkCellRendererToggle.t .......... ok
t/GtkCellView.t .................... skipped: Gtk2->init_check failed, probably unable to open DISPLAY
t/GtkCheckButton.t ................. skipped: Gtk2->init_check failed, probably unable to open DISPLAY
t/GtkCheckMenuItem.t ............... skipped: Gtk2->init_check failed, probably unable to open DISPLAY
t/GtkClipboard.t ................... skipped: Gtk2->init_check failed, probably unable to open DISPLAY
t/GtkColorButton.t ................. skipped: Gtk2->init_check failed, probably unable to open DISPLAY
t/GtkColorSelection.t .............. skipped: Gtk2->init_check failed, probably unable to open DISPLAY
t/GtkColorSelectionDialog.t ........ skipped: Gtk2->init_check failed, probably unable to open DISPLAY
t/GtkCombo.t ....................... skipped: Gtk2->init_check failed, probably unable to open DISPLAY
t/GtkComboBox.t .................... skipped: Gtk2->init_check failed, probably unable to open DISPLAY
t/GtkComboBoxEntry.t ............... skipped: Gtk2->init_check failed, probably unable to open DISPLAY
t/GtkCurve.t ....................... skipped: Gtk2->init_check failed, probably unable to open DISPLAY
t/GtkDialog.t ...................... skipped: Gtk2->init_check failed, probably unable to open DISPLAY
t/GtkDrawingArea.t ................. ok
t/GtkEditable.t .................... skipped: Gtk2->init_check failed, probably unable to open DISPLAY
t/GtkEntry.t ....................... skipped: Gtk2->init_check failed, probably unable to open DISPLAY
t/GtkEntryBuffer.t ................. skipped: Gtk2->init_check failed, probably unable to open DISPLAY
t/GtkEntryCompletion.t ............. skipped: Gtk2->init_check failed, probably unable to open DISPLAY
t/GtkEventBox.t .................... ok
t/GtkExpander.t .................... skipped: Gtk2->init_check failed, probably unable to open DISPLAY
t/GtkFileChooser.t ................. skipped: this test is unreliable
t/GtkFileChooserButton.t ........... skipped: Gtk2->init_check failed, probably unable to open DISPLAY
t/GtkFileChooserDialog.t ........... skipped: Gtk2->init_check failed, probably unable to open DISPLAY
t/GtkFileChooserWidget.t ........... skipped: Gtk2->init_check failed, probably unable to open DISPLAY
t/GtkFileFilter.t .................. ok
t/GtkFileSelection.t ............... skipped: Gtk2->init_check failed, probably unable to open DISPLAY
t/GtkFixed.t ....................... ok
t/GtkFontButton.t .................. skipped: Gtk2->init_check failed, probably unable to open DISPLAY
t/GtkFontSelection.t ............... skipped: Gtk2->init_check failed, probably unable to open DISPLAY
t/GtkFrame.t ....................... ok
t/GtkGammaCurve.t .................. skipped: Gtk2->init_check failed, probably unable to open DISPLAY
t/GtkGC.t .......................... skipped: Gtk2->init_check failed, probably unable to open DISPLAY
t/GtkHandleBox.t ................... ok
t/GtkHBox.t ........................ ok
t/GtkHButtonBox.t .................. ok
t/GtkHPaned.t ...................... ok
t/GtkHRuler.t ...................... ok
t/GtkHScale.t ...................... skipped: Gtk2->init_check failed, probably unable to open DISPLAY
t/GtkHScrollbar.t .................. ok
t/GtkHSeparator.t .................. ok
t/GtkHSV.t ......................... ok
t/GtkIconFactory.t ................. skipped: Gtk2->init_check failed, probably unable to open DISPLAY
t/GtkIconTheme.t ................... skipped: Gtk2->init_check failed, probably unable to open DISPLAY
t/GtkIconView.t .................... skipped: Gtk2->init_check failed, probably unable to open DISPLAY
t/GtkImage.t ....................... skipped: Gtk2->init_check failed, probably unable to open DISPLAY
t/GtkImageMenuItem.t ............... skipped: Gtk2->init_check failed, probably unable to open DISPLAY
t/GtkIMContext.t ................... skipped: Gtk2->init_check failed, probably unable to open DISPLAY
t/GtkInfoBar.t ..................... skipped: Gtk2->init_check failed, probably unable to open DISPLAY
t/GtkInputDialog.t ................. skipped: Gtk2->init_check failed, probably unable to open DISPLAY
t/GtkInvisible.t ................... skipped: Gtk2->init_check failed, probably unable to open DISPLAY
t/GtkItemFactory.t ................. skipped: Gtk2->init_check failed, probably unable to open DISPLAY
t/GtkLabel.t ....................... skipped: Gtk2->init_check failed, probably unable to open DISPLAY
t/GtkLayout.t ...................... skipped: Gtk2->init_check failed, probably unable to open DISPLAY
t/GtkLinkButton.t .................. skipped: Gtk2->init_check failed, probably unable to open DISPLAY
t/GtkListStore.t ................... skipped: Gtk2->init_check failed, probably unable to open DISPLAY
t/GtkMenu.t ........................ skipped: Gtk2->init_check failed, probably unable to open DISPLAY
t/GtkMenuBar.t ..................... ok
t/GtkMenuItem.t .................... skipped: Gtk2->init_check failed, probably unable to open DISPLAY
t/GtkMenuShell.t ................... skipped: Gtk2->init_check failed, probably unable to open DISPLAY
t/GtkMenuToolButton.t .............. skipped: Gtk2->init_check failed, probably unable to open DISPLAY
t/GtkMessageDialog.t ............... skipped: Gtk2->init_check failed, probably unable to open DISPLAY
t/GtkMisc.t ........................ ok
t/GtkNotebook.t .................... skipped: Gtk2->init_check failed, probably unable to open DISPLAY
t/GtkObject.t ...................... ok
t/GtkOffscreenWindow.t ............. skipped: Gtk2->init_check failed, probably unable to open DISPLAY
t/GtkOptionMenu.t .................. skipped: Gtk2->init_check failed, probably unable to open DISPLAY
t/GtkOrientable.t .................. skipped: Gtk2->init_check failed, probably unable to open DISPLAY
t/GtkPageSetup.t ................... skipped: Gtk2->init_check failed, probably unable to open DISPLAY
t/GtkPaned.t ....................... skipped: Gtk2->init_check failed, probably unable to open DISPLAY
t/GtkPaperSize.t ................... skipped: Gtk2->init_check failed, probably unable to open DISPLAY
t/GtkPrintContext.t ................ skipped: Gtk2->init_check failed, probably unable to open DISPLAY
t/GtkPrintOperation.t .............. skipped: Gtk2->init_check failed, probably unable to open DISPLAY
t/GtkPrintOperationPreview.t ....... skipped: Gtk2->init_check failed, probably unable to open DISPLAY
t/GtkPrintSettings.t ............... skipped: Gtk2->init_check failed, probably unable to open DISPLAY
t/GtkProgressBar.t ................. ok
t/GtkRadioAction.t ................. ok
t/GtkRadioButton.t ................. skipped: Gtk2->init_check failed, probably unable to open DISPLAY
t/GtkRadioMenuItem.t ............... skipped: Gtk2->init_check failed, probably unable to open DISPLAY
t/GtkRadioToolButton.t ............. skipped: Gtk2->init_check failed, probably unable to open DISPLAY
t/GtkRange.t ....................... skipped: Gtk2->init_check failed, probably unable to open DISPLAY
t/GtkRc.t .......................... skipped: Gtk2->init_check failed, probably unable to open DISPLAY
t/GtkRecentAction.t ................ skipped: Gtk2->init_check failed, probably unable to open DISPLAY
t/GtkRecentChooser.t ............... skipped: Gtk2->init_check failed, probably unable to open DISPLAY
t/GtkRecentChooserDialog.t ......... skipped: Gtk2->init_check failed, probably unable to open DISPLAY
t/GtkRecentChooserMenu.t ........... skipped: Gtk2->init_check failed, probably unable to open DISPLAY
t/GtkRecentChooserWidget.t ......... skipped: Gtk2->init_check failed, probably unable to open DISPLAY
t/GtkRecentFilter.t ................ skipped: Gtk2->init_check failed, probably unable to open DISPLAY
t/GtkRecentManager.t ............... skipped: Gtk2->init_check failed, probably unable to open DISPLAY
t/GtkRuler.t ....................... ok
t/GtkScale.t ....................... skipped: Gtk2->init_check failed, probably unable to open DISPLAY
t/GtkScaleButton.t ................. skipped: Gtk2->init_check failed, probably unable to open DISPLAY
t/GtkScrolledWindow.t .............. skipped: Gtk2->init_check failed, probably unable to open DISPLAY
t/GtkSelection.t ................... skipped: Gtk2->init_check failed, probably unable to open DISPLAY
t/GtkSeparatorMenuItem.t ........... ok
t/GtkSeparatorToolItem.t ........... skipped: Gtk2->init_check failed, probably unable to open DISPLAY
t/GtkShow.t ........................ skipped: can only test interactively
t/GtkSimpleList.t .................. skipped: Gtk2->init_check failed, probably unable to open DISPLAY
t/GtkSimpleMenu.t .................. skipped: Gtk2->init_check failed, probably unable to open DISPLAY
t/GtkSizeGroup.t ................... ok
t/GtkSpinButton.t .................. skipped: Gtk2->init_check failed, probably unable to open DISPLAY
t/GtkSpinner.t ..................... ok
t/GtkStatusbar.t ................... ok
t/GtkStatusIcon.t .................. skipped: Gtk2->init_check failed, probably unable to open DISPLAY
t/GtkStock.t ....................... ok
t/GtkStyle.t ....................... skipped: Gtk2->init_check failed, probably unable to open DISPLAY
t/GtkTable.t ....................... skipped: Gtk2->init_check failed, probably unable to open DISPLAY
t/GtkTearoffMenuItem.t ............. ok
t/GtkTextBuffer.t .................. skipped: Gtk2->init_check failed, probably unable to open DISPLAY
t/GtkTextBufferRichText.t .......... skipped: Gtk2->init_check failed, probably unable to open DISPLAY
t/GtkTextChildAnchor.t ............. skipped: Gtk2->init_check failed, probably unable to open DISPLAY
t/GtkTextIter.t .................... ok
t/GtkTextMark.t .................... ok
t/GtkTextTag.t ..................... skipped: Gtk2->init_check failed, probably unable to open DISPLAY
t/GtkTextTagTable.t ................ ok
t/GtkTextView.t .................... skipped: Gtk2->init_check failed, probably unable to open DISPLAY
t/GtkToggleAction.t ................ skipped: Gtk2->init_check failed, probably unable to open DISPLAY
t/GtkToggleButton.t ................ skipped: Gtk2->init_check failed, probably unable to open DISPLAY
t/GtkToggleToolButton.t ............ skipped: Gtk2->init_check failed, probably unable to open DISPLAY
t/GtkToolbar.t ..................... skipped: Gtk2->init_check failed, probably unable to open DISPLAY
t/GtkToolButton.t .................. skipped: Gtk2->init_check failed, probably unable to open DISPLAY
t/GtkToolItem.t .................... skipped: Gtk2->init_check failed, probably unable to open DISPLAY
t/GtkToolItemGroup.t ............... skipped: Gtk2->init_check failed, probably unable to open DISPLAY
t/GtkToolPalette.t ................. skipped: Gtk2->init_check failed, probably unable to open DISPLAY
t/GtkToolShell.t ................... skipped: Gtk2->init_check failed, probably unable to open DISPLAY
t/GtkTooltip.t ..................... skipped: Gtk2->init_check failed, probably unable to open DISPLAY
t/GtkTooltips.t .................... skipped: Gtk2->init_check failed, probably unable to open DISPLAY
t/GtkTreeDnd.t ..................... ok
t/GtkTreeModel.t ................... ok
t/GtkTreeModelFilter.t ............. ok
t/GtkTreeModelIface.t .............. ok
t/GtkTreeModelSort.t ............... ok
t/GtkTreeSelection.t ............... skipped: Gtk2->init_check failed, probably unable to open DISPLAY
t/GtkTreeSortable.t ................ ok
t/GtkTreeStore.t ................... ok
t/GtkTreeView-Dnd.t ................ skipped: this test is interactive
t/GtkTreeView.t .................... skipped: Gtk2->init_check failed, probably unable to open DISPLAY
t/GtkUIManager.t ................... skipped: Gtk2->init_check failed, probably unable to open DISPLAY
t/GtkVBox.t ........................ ok
t/GtkVButtonBox.t .................. ok
t/GtkViewport.t .................... skipped: Gtk2->init_check failed, probably unable to open DISPLAY
t/GtkVolumeButton.t ................ skipped: Gtk2->init_check failed, probably unable to open DISPLAY
t/GtkVPaned.t ...................... ok
t/GtkVRuler.t ...................... ok
t/GtkVScale.t ...................... skipped: Gtk2->init_check failed, probably unable to open DISPLAY
t/GtkVScrollbar.t .................. ok
t/GtkVSeparator.t .................. ok
t/GtkWidget.t ...................... skipped: Gtk2->init_check failed, probably unable to open DISPLAY
t/options.t ........................ ok
t/pango-compat.t ................... skipped: Gtk2->init_check failed, probably unable to open DISPLAY
t/PangoAttributes.t ................ skipped: Gtk2->init_check failed, probably unable to open DISPLAY
t/PangoCairo.t ..................... ok
t/PangoContext.t ................... skipped: Gtk2->init_check failed, probably unable to open DISPLAY
t/PangoFont.t ...................... skipped: Gtk2->init_check failed, probably unable to open DISPLAY
t/PangoFontMap.t ................... skipped: Gtk2->init_check failed, probably unable to open DISPLAY
t/PangoFontset.t ................... skipped: Gtk2->init_check failed, probably unable to open DISPLAY
t/PangoGravity.t ................... ok
t/PangoLayout.t .................... skipped: Gtk2->init_check failed, probably unable to open DISPLAY
t/PangoMatrix.t .................... ok
t/PangoRenderer.t .................. skipped: Gtk2->init_check failed, probably unable to open DISPLAY
t/PangoScript.t .................... skipped: Gtk2->init_check failed, probably unable to open DISPLAY
t/PangoTabs.t ...................... ok
t/PangoTypes.t ..................... ok
t/set-scroll-adjustments-signal.t .. skipped: Gtk2->init_check failed, probably unable to open DISPLAY
t/signal-chaining.t ................ skipped: Gtk2->init_check failed, probably unable to open DISPLAY
t/tied-objects.t ................... skipped: Gtk2->init_check failed, probably unable to open DISPLAY
t/version-checks.t ................. ok
All tests successful.
Files=228, Tests=1094, 15 wallclock secs ( 0.35 usr  0.84 sys + 10.59 cusr  3.39 csys = 15.17 CPU)
Result: PASS
------------------------------
PREREQUISITES
------------------------------
Prerequisite modules loaded:
requires:
    Module              Need  Have   
    ------------------- ----- -------
    Cairo               1.000 1.106  
    ExtUtils::Depends   0.300 0.405  
    ExtUtils::PkgConfig 1.030 1.16   
    Glib                1.280 1.326  
    Pango               1.220 1.227  
build_requires:
    Module              Need  Have   
    ------------------- ----- -------
    ExtUtils::MakeMaker 0     7.10_02
configure_requires:
    Module              Need  Have   
    ------------------- ----- -------
    Cairo               1.000 1.106  
    ExtUtils::Depends   0.300 0.405  
    ExtUtils::PkgConfig 1.030 1.16   
    Glib                1.280 1.326  
    Pango               1.220 1.227  
------------------------------
ENVIRONMENT AND OTHER CONTEXT
------------------------------
Environment variables:
    LANG = C
    PATH = /usr/local/bin:/usr/bin:/bin:/usr/local/sbin:/usr/sbin:/sbin:/home/cpansand/bin/linux-gnu:/home/cpansand/bin/sh:/home/cpansand/bin:/usr/games:/home/cpansand/devel:/home/eserte/src/srezic-misc/scripts
    PERL5LIB = /home/cpansand/.cpan/build/2017101021/Pango-1.227-cdesHj/blib/arch:/home/cpansand/.cpan/build/2017101021/Pango-1.227-cdesHj/blib/lib:/home/cpansand/.cpan/build/2017101021/Struct-Dumb-0.09-LXLICI/blib/arch:/home/cpansand/.cpan/build/2017101021/Struct-Dumb-0.09-LXLICI/blib/lib:/home/cpansand/.cpan/build/2017101021/String-Tagged-0.15-BYRBmv/blib/arch:/home/cpansand/.cpan/build/2017101021/String-Tagged-0.15-BYRBmv/blib/lib:/home/cpansand/.cpan/build/2017101021/Test-Identity-0.01-AGyML3/blib/arch:/home/cpansand/.cpan/build/2017101021/Test-Identity-0.01-AGyML3/blib/lib:/home/cpansand/.cpan/build/2017101021/Glib-1.326-SrvBeW/blib/arch:/home/cpansand/.cpan/build/2017101021/Glib-1.326-SrvBeW/blib/lib
    PERL5OPT = 
    PERL5_CPANPLUS_IS_RUNNING = 19545
    PERL5_CPAN_IS_RUNNING = 19545
    PERL5_CPAN_IS_RUNNING_IN_RECURSION = 12584,19545
    PERLDOC = -MPod::Perldoc::ToTextOverstrike
    PERL_BATCH = yes
    PERL_CANARY_STABILITY_NOPROMPT = 1
    PERL_CPAN_REPORTER_CONFIG = /var/tmp/cpansmoker-1023/2017101021/cpanreporter_000_config.ini
    PERL_EXTUTILS_AUTOINSTALL = --defaultdeps
    SHELL = /usr/bin/zsh
    TERM = screen
    TMPDIR = /var/tmp/cpansmoker-1023/2017101021
Perl special variables (and OS-specific diagnostics, for MSWin32):
    $^X = /opt/perl-5.24.2t/bin/perl
    $UID/$EUID = 1023 / 1023
    $GID = 1023 1023
    $EGID = 1023 1023
Perl module toolchain versions installed:
    Module              Have      
    ------------------- ----------
    CPAN                2.11_01   
    CPAN::Meta          2.150005  
    Cwd                 3.63_01   
    ExtUtils::CBuilder  0.280225  
    ExtUtils::Command   7.10_02   
    ExtUtils::Install   2.04      
    ExtUtils::MakeMaker 7.10_02   
    ExtUtils::Manifest  1.70      
    ExtUtils::ParseXS   3.31      
    File::Spec          3.63_01   
    JSON                2.94      
    JSON::PP            2.27300_01
    Module::Build       0.4224    
    Module::Signature   n/a       
    Parse::CPAN::Meta   1.4417_001
    Test::Harness       3.36_01   
    Test::More          1.302086  
    YAML                1.23      
    YAML::Syck          1.30      
    version             0.9916    
--
Summary of my perl5 (revision 5 version 24 subversion 2) configuration:
   
  Platform:
    osname=linux, osvers=4.9.0-3-amd64, archname=x86_64-linux-thread-multi
    uname='linux debian9 4.9.0-3-amd64 #1 smp debian 4.9.30-2+deb9u3 (2017-08-06) x86_64 gnulinux '
    config_args='-ds -e -Dprefix=/opt/perl-5.24.2t -Dusethreads -Dcf_email=srezic@cpan.org'
    hint=recommended, useposix=true, d_sigaction=define
    useithreads=define, usemultiplicity=define
    use64bitint=define, use64bitall=define, uselongdouble=undef
    usemymalloc=n, bincompat5005=undef
  Compiler:
    cc='cc', ccflags ='-D_REENTRANT -D_GNU_SOURCE -fwrapv -fno-strict-aliasing -pipe -fstack-protector-strong -I/usr/local/include -D_LARGEFILE_SOURCE -D_FILE_OFFSET_BITS=64',
    optimize='-O2',
    cppflags='-D_REENTRANT -D_GNU_SOURCE -fwrapv -fno-strict-aliasing -pipe -fstack-protector-strong -I/usr/local/include'
    ccversion='', gccversion='6.3.0 20170516', gccosandvers=''
    intsize=4, longsize=8, ptrsize=8, doublesize=8, byteorder=12345678, doublekind=3
    d_longlong=define, longlongsize=8, d_longdbl=define, longdblsize=16, longdblkind=3
    ivtype='long', ivsize=8, nvtype='double', nvsize=8, Off_t='off_t', lseeksize=8
    alignbytes=8, prototype=define
  Linker and Libraries:
    ld='cc', ldflags =' -fstack-protector-strong -L/usr/local/lib'
    libpth=/usr/local/lib /usr/lib/gcc/x86_64-linux-gnu/6/include-fixed /usr/include/x86_64-linux-gnu /usr/lib /lib/x86_64-linux-gnu /lib/../lib /usr/lib/x86_64-linux-gnu /usr/lib/../lib /lib
    libs=-lpthread -lnsl -lgdbm -ldb -ldl -lm -lcrypt -lutil -lc -lgdbm_compat
    perllibs=-lpthread -lnsl -ldl -lm -lcrypt -lutil -lc
    libc=libc-2.24.so, so=so, useshrplib=false, libperl=libperl.a
    gnulibc_version='2.24'
  Dynamic Linking:
    dlsrc=dl_dlopen.xs, dlext=so, d_dlsymun=undef, ccdlflags='-Wl,-E'
    cccdlflags='-fPIC', lddlflags='-shared -O2 -L/usr/local/lib -fstack-protector-strong'
Characteristics of this binary (from libperl): 
  Compile-time options: HAS_TIMES MULTIPLICITY PERLIO_LAYERS
                        PERL_COPY_ON_WRITE PERL_DONT_CREATE_GVSV
                        PERL_HASH_FUNC_ONE_AT_A_TIME_HARD
                        PERL_IMPLICIT_CONTEXT PERL_MALLOC_WRAP
                        PERL_PRESERVE_IVUV USE_64_BIT_ALL USE_64_BIT_INT
                        USE_ITHREADS USE_LARGE_FILES USE_LOCALE
                        USE_LOCALE_COLLATE USE_LOCALE_CTYPE
                        USE_LOCALE_NUMERIC USE_LOCALE_TIME USE_PERLIO
                        USE_PERL_ATOF USE_REENTRANT_API
  Built under linux
  Compiled at Sep 10 2017 07:10:22
  %ENV:
    PERL5LIB="/home/cpansand/.cpan/build/2017101021/Pango-1.227-cdesHj/blib/arch:/home/cpansand/.cpan/build/2017101021/Pango-1.227-cdesHj/blib/lib:/home/cpansand/.cpan/build/2017101021/Struct-Dumb-0.09-LXLICI/blib/arch:/home/cpansand/.cpan/build/2017101021/Struct-Dumb-0.09-LXLICI/blib/lib:/home/cpansand/.cpan/build/2017101021/String-Tagged-0.15-BYRBmv/blib/arch:/home/cpansand/.cpan/build/2017101021/String-Tagged-0.15-BYRBmv/blib/lib:/home/cpansand/.cpan/build/2017101021/Test-Identity-0.01-AGyML3/blib/arch:/home/cpansand/.cpan/build/2017101021/Test-Identity-0.01-AGyML3/blib/lib:/home/cpansand/.cpan/build/2017101021/Glib-1.326-SrvBeW/blib/arch:/home/cpansand/.cpan/build/2017101021/Glib-1.326-SrvBeW/blib/lib"
    PERL5OPT=""
    PERL5_CPANPLUS_IS_RUNNING="19545"
    PERL5_CPAN_IS_RUNNING="19545"
    PERL5_CPAN_IS_RUNNING_IN_RECURSION="12584,19545"
    PERLDOC="-MPod::Perldoc::ToTextOverstrike"
    PERL_BATCH="yes"
    PERL_CANARY_STABILITY_NOPROMPT="1"
    PERL_CPAN_REPORTER_CONFIG="/var/tmp/cpansmoker-1023/2017101021/cpanreporter_000_config.ini"
    PERL_EXTUTILS_AUTOINSTALL="--defaultdeps"
  @INC:
    /home/cpansand/.cpan/build/2017101021/Pango-1.227-cdesHj/blib/arch
    /home/cpansand/.cpan/build/2017101021/Pango-1.227-cdesHj/blib/lib
    /home/cpansand/.cpan/build/2017101021/Struct-Dumb-0.09-LXLICI/blib/arch
    /home/cpansand/.cpan/build/2017101021/Struct-Dumb-0.09-LXLICI/blib/lib
    /home/cpansand/.cpan/build/2017101021/String-Tagged-0.15-BYRBmv/blib/arch
    /home/cpansand/.cpan/build/2017101021/String-Tagged-0.15-BYRBmv/blib/lib
    /home/cpansand/.cpan/build/2017101021/Test-Identity-0.01-AGyML3/blib/arch
    /home/cpansand/.cpan/build/2017101021/Test-Identity-0.01-AGyML3/blib/lib
    /home/cpansand/.cpan/build/2017101021/Glib-1.326-SrvBeW/blib/arch
    /home/cpansand/.cpan/build/2017101021/Glib-1.326-SrvBeW/blib/lib
    /opt/perl-5.24.2t/lib/site_perl/5.24.2/x86_64-linux-thread-multi
    /opt/perl-5.24.2t/lib/site_perl/5.24.2
    /opt/perl-5.24.2t/lib/5.24.2/x86_64-linux-thread-multi
    /opt/perl-5.24.2t/lib/5.24.2
    .