Report for Catalyst-Devel-1.33

Back
From: metabase:user:4bb19ea0-b064-11df-ac73-2d518c32fe74
Subject: PASS Catalyst-Devel-1.33 v5.12.2 OpenBSD
Date: 2011-03-31T22:52:16Z

This distribution has been tested as part of the CPAN Testers
project, supporting the Perl programming language.  See
http://wiki.cpantesters.org/ for more information or email
questions to cpan-testers-discuss@perl.org


--
Dear Florian Ragwitz,

This is a computer-generated report for Catalyst-Devel-1.33
on perl 5.12.2, created by CPAN-Reporter-1.1902.

Thank you for uploading your work to CPAN.  Congratulations!
All tests were successful.

Sections of this report:

    * Tester comments
    * Program output
    * Prerequisites
    * Environment and other context

------------------------------
TESTER COMMENTS
------------------------------

Additional comments from tester:

none provided

------------------------------
PROGRAM OUTPUT
------------------------------

Output from '/usr/bin/make test':

PERL_DL_NONLAZY=1 /usr/bin/perl "-MExtUtils::Command::MM" "-e" "test_harness(0, 'inc', 'blib/lib', 'blib/arch')" t/01use.t t/back_compat.t t/generated_app.t t/get_sharedir_file.t t/optional_http-server-restart.t t/render_file_contents.t t/render_share_dir_file.t
t/01use.t ......................... ok
t/back_compat.t ................... ok
# Generated app is in /tmp/69C1e4GKbz
# Installed app is in /tmp/4oAWGnZVj3
t/generated_app.t ................. ok
t/get_sharedir_file.t ............. ok
t/optional_http-server-restart.t .. skipped: set TEST_HTTP to enable this test
t/render_file_contents.t .......... ok
t/render_share_dir_file.t ......... ok
All tests successful.
Files=7, Tests=89, 10 wallclock secs ( 0.06 usr  0.11 sys +  7.34 cusr  1.86 csys =  9.37 CPU)
Result: PASS

------------------------------
PREREQUISITES
------------------------------

Prerequisite modules loaded:

requires:

    Module                                 Need    Have   
    -------------------------------------- ------- -------
    Catalyst                               5.80015 5.80032
    Catalyst::Action::RenderView           0.10    0.16   
    Catalyst::Plugin::ConfigLoader         0.30    0.30   
    Catalyst::Plugin::Static::Simple       0.28    0.29   
    Config::General                        2.42    2.50   
    ExtUtils::MakeMaker                    6.42    6.56   
    File::ChangeNotify                     0.07    0.19   
    File::Copy::Recursive                  0       0.38   
    File::ShareDir                         0       1.03   
    Module::Install                        0.91    1.00   
    Moose                                  0       1.24   
    MooseX::Emulate::Class::Accessor::Fast 0       0.00903
    namespace::autoclean                   0       0.12   
    namespace::clean                       0       0.20   
    Path::Class                            0.09    0.23   
    Template                               2.14    2.22   
    Test::Fatal                            0.003   0.003  
    Test::More                             0.94    0.98   

configure_requires:

    Module                                 Need    Have   
    -------------------------------------- ------- -------
    ExtUtils::MakeMaker                    6.42    6.56   


------------------------------
ENVIRONMENT AND OTHER CONTEXT
------------------------------

Environment variables:

    PATH = /home/stfn/perl5/bin:/home/stfn/bin:/bin:/sbin:/usr/bin:/usr/sbin:/usr/X11R6/bin:/usr/local/bin:/usr/local/sbin:/usr/games:.
    PERL5LIB = /home/stfn/perl5/lib/perl5/amd64-openbsd:/home/stfn/perl5/lib/perl5
    PERL5OPT = 
    PERL5_CPANPLUS_IS_RUNNING = 2586
    PERL5_CPAN_IS_RUNNING = 2586
    PERL_LOCAL_LIB_ROOT = /home/stfn/perl5
    PERL_MB_OPT = --install_base /home/stfn/perl5
    PERL_MM_OPT = INSTALL_BASE=/home/stfn/perl5
    SHELL = /usr/local/bin/bash
    TERM = xterm

Perl special variables (and OS-specific diagnostics, for MSWin32):

    $^X = /usr/bin/perl
    $UID/$EUID = 1000 / 1000
    $GID = 1000 1000 0
    $EGID = 1000 1000 0

Perl module toolchain versions installed:

    Module              Have    
    ------------------- --------
    CPAN                1.9600  
    Cwd                 3.33    
    ExtUtils::CBuilder  0.280202
    ExtUtils::Command   1.17    
    ExtUtils::Install   1.55    
    ExtUtils::MakeMaker 6.56    
    ExtUtils::Manifest  1.58    
    ExtUtils::ParseXS   2.2206  
    File::Spec          3.33    
    Module::Build       0.3800  
    Module::Signature   n/a     
    Test::Harness       3.23    
    Test::More          0.98    
    YAML                0.72    
    YAML::Syck          n/a     
    version             0.88    


--

Summary of my perl5 (revision 5 version 12 subversion 2) configuration:
   
  Platform:
    osname=openbsd, osvers=4.9, archname=amd64-openbsd
    uname='openbsd'
    config_args='-dsE -Dopenbsd_distribution=defined -Dmksymlinks'
    hint=recommended, useposix=true, d_sigaction=define
    useithreads=undef, usemultiplicity=undef
    useperlio=define, d_sfio=undef, uselargefiles=define, usesocks=undef
    use64bitint=define, use64bitall=define, uselongdouble=undef
    usemymalloc=n, bincompat5005=undef
  Compiler:
    cc='cc', ccflags ='-fno-strict-aliasing -fno-delete-null-pointer-checks -pipe -fstack-protector -I/usr/local/include',
    optimize='-O2',
    cppflags='-fno-strict-aliasing -fno-delete-null-pointer-checks -pipe -fstack-protector -I/usr/local/include'
    ccversion='', gccversion='4.2.1 20070719 ', gccosandvers='openbsd4.9'
    intsize=4, longsize=8, ptrsize=8, doublesize=8, byteorder=12345678
    d_longlong=define, longlongsize=8, d_longdbl=define, longdblsize=16
    ivtype='long', ivsize=8, nvtype='double', nvsize=8, Off_t='off_t', lseeksize=8
    alignbytes=8, prototype=define
  Linker and Libraries:
    ld='cc', ldflags ='-Wl,-E  -fstack-protector'
    libpth=/usr/lib
    libs=-lm -lutil -lc
    perllibs=-lm -lutil -lc
    libc=/usr/lib/libc.a, so=so, useshrplib=true, libperl=libperl.so.12.0
    gnulibc_version=''
  Dynamic Linking:
    dlsrc=dl_dlopen.xs, dlext=so, d_dlsymun=undef, ccdlflags='-Wl,-R/usr/libdata/perl5/amd64-openbsd/5.12.2/CORE'
    cccdlflags='-DPIC -fPIC ', lddlflags='-shared -fPIC  -fstack-protector'


Characteristics of this binary (from libperl): 
  Compile-time options: PERL_DONT_CREATE_GVSV PERL_MALLOC_WRAP USE_64_BIT_ALL
                        USE_64_BIT_INT USE_LARGE_FILES USE_PERLIO
                        USE_PERL_ATOF
  Locally applied patches:
	CVE-2010-0405
	Updated CGI to 3.51
	Updated Test::Simple to 0.96
	uncommitted-changes
  Built under openbsd
  %ENV:
    PERL5LIB="/home/stfn/perl5/lib/perl5/amd64-openbsd:/home/stfn/perl5/lib/perl5"
    PERL5OPT=""
    PERL5_CPANPLUS_IS_RUNNING="2586"
    PERL5_CPAN_IS_RUNNING="2586"
    PERL_LOCAL_LIB_ROOT="/home/stfn/perl5"
    PERL_MB_OPT="--install_base /home/stfn/perl5"
    PERL_MM_OPT="INSTALL_BASE=/home/stfn/perl5"
  @INC:
    /home/stfn/perl5/lib/perl5/amd64-openbsd
    /home/stfn/perl5/lib/perl5/amd64-openbsd
    /home/stfn/perl5/lib/perl5
    /usr/local/libdata/perl5/site_perl/amd64-openbsd
    /usr/libdata/perl5/site_perl/amd64-openbsd
    /usr/local/libdata/perl5/site_perl
    /usr/libdata/perl5/site_perl
    /usr/libdata/perl5/amd64-openbsd/5.12.2
    /usr/local/libdata/perl5/amd64-openbsd/5.12.2
    /usr/libdata/perl5
    /usr/local/libdata/perl5
    .