POE v1.367 Perl 5 v5.29.7 i86pc-solaris

Status
Pass
From
Nigel Horne
Dist
POE v1.367
Platform
Perl 5 v5.29.7 i86pc-solaris
Date
2019-03-27 20:33:05
ID
8654da4e-50cf-11e9-888a-0a046157a1ce
This distribution has been tested as part of the CPAN Testers
project, supporting the Perl programming language.  See
http://wiki.cpantesters.org/ for more information or email
questions to cpan-testers-discuss@perl.org


--
Dear Rocco Caputo,

This is a computer-generated report for POE-1.367
on perl 5.29.7, created by CPAN-Reporter-1.2018.

Thank you for uploading your work to CPAN.  Congratulations!
All tests were successful.

Sections of this report:

    * Tester comments
    * Program output
    * Prerequisites
    * Environment and other context

------------------------------
TESTER COMMENTS
------------------------------

Additional comments from tester:

this report is from an automated smoke testing program
and was not reviewed by a human for accuracy

------------------------------
PROGRAM OUTPUT
------------------------------

Output from '/usr/bin/make test':

"/export/home/njh/perl5/perlbrew/perls/perl-5.29.7/bin/perl5.29.7" mylib/gen-tests.perl lib/POE.pm
PERL_DL_NONLAZY=1 "/export/home/njh/perl5/perlbrew/perls/perl-5.29.7/bin/perl5.29.7" "-MExtUtils::Command::MM" "-MTest::Harness" "-e" "undef *Test::Harness::Switches; test_harness(0, 'blib/lib', 'blib/arch')" t/*.t t/*/*.t t/*/*/*.t
# Testing POE 1.367, POE::Test::Loops 1.360, Perl 5.029007, /export/home/njh/perl5/perlbrew/perls/perl-5.29.7/bin/perl5.29.7 on solaris
# pogomips: 15733210
t/00_info.t ........................................ ok
t/10_units/01_pod/01_pod.t ......................... skipped: enable by setting RELEASE_TESTING
t/10_units/01_pod/02_pod_coverage.t ................ skipped: enable by setting RELEASE_TESTING
t/10_units/01_pod/03_pod_no404s.t .................. skipped: enable by setting RELEASE_TESTING
t/10_units/01_pod/04_pod_linkcheck.t ............... skipped: enable by setting RELEASE_TESTING
t/10_units/02_pipes/01_base.t ...................... skipped: not implemented yet
t/10_units/02_pipes/02_oneway.t .................... ok
t/10_units/02_pipes/03_twoway.t .................... ok
t/10_units/03_base/01_poe.t ........................ ok
t/10_units/03_base/03_component.t .................. ok
t/10_units/03_base/04_driver.t ..................... ok
t/10_units/03_base/05_filter.t ..................... ok
t/10_units/03_base/06_loop.t ....................... ok
t/10_units/03_base/07_queue.t ...................... ok
t/10_units/03_base/08_resource.t ................... ok
t/10_units/03_base/09_resources.t .................. ok
t/10_units/03_base/10_wheel.t ...................... ok
t/10_units/03_base/11_assert_usage.t ............... ok
t/10_units/03_base/12_assert_retval.t .............. ok
t/10_units/03_base/13_assert_data.t ................ ok
t/10_units/03_base/14_kernel.t ..................... ok
t/10_units/03_base/15_kernel_internal.t ............ ok
t/10_units/03_base/16_nfa_usage.t .................. ok
t/10_units/03_base/17_detach_start.t ............... ok
t/10_units/04_drivers/01_sysrw.t ................... ok
t/10_units/05_filters/01_block.t ................... ok
t/10_units/05_filters/02_grep.t .................... ok
Downgrading wide characters in HTTP header. Consider installing Email::MIME::RFC2047::Encoder at /export/home/njh/.cpan/build/POE-1.367-0/blib/lib/POE/Filter/HTTPD.pm line 73.
	POE::Filter::HTTPD::__ANON__("En \x{e9}t\x{e9}") called at /export/home/njh/.cpan/build/POE-1.367-0/blib/lib/POE/Filter/HTTPD.pm line 449
	POE::Filter::HTTPD::headers_as_strings(POE::Filter::HTTPD=ARRAY(0x87046d8), HTTP::Headers=HASH(0x8704268), "\x{d}\x{a}") called at /export/home/njh/.cpan/build/POE-1.367-0/blib/lib/POE/Filter/HTTPD.pm line 411
	POE::Filter::HTTPD::put(POE::Filter::HTTPD=ARRAY(0x87046d8), ARRAY(0x86a76f8)) called at t/10_units/05_filters/03_http.t line 426
t/10_units/05_filters/03_http.t .................... ok
t/10_units/05_filters/04_line.t .................... ok
t/10_units/05_filters/05_map.t ..................... ok
t/10_units/05_filters/06_recordblock.t ............. ok
t/10_units/05_filters/07_reference.t ............... ok
t/10_units/05_filters/08_stream.t .................. ok
t/10_units/05_filters/50_stackable.t ............... ok
t/10_units/05_filters/51_reference_die.t ........... ok
t/10_units/05_filters/99_filterchange.t ............ ok
t/10_units/06_queues/01_array.t .................... ok
t/10_units/07_exceptions/01_normal.t ............... ok
t/10_units/07_exceptions/02_turn_off.t ............. ok
t/10_units/07_exceptions/03_not_handled.t .......... ok
t/10_units/08_loops/01_explicit_loop.t ............. ok
t/10_units/08_loops/02_explicit_loop_fail.t ........ ok
t/10_units/08_loops/03_explicit_loop_poll.t ........ ok
t/10_units/08_loops/04_explicit_loop_envvar.t ...... ok
t/10_units/08_loops/05_kernel_loop.t ............... ok
t/10_units/08_loops/06_kernel_loop_poll.t .......... ok
t/10_units/08_loops/07_kernel_loop_fail.t .......... ok
t/10_units/08_loops/08_kernel_loop_search_poll.t ... ok
t/10_units/08_loops/09_naive_loop_load.t ........... ok
t/10_units/08_loops/10_naive_loop_load_poll.t ...... ok
t/10_units/08_loops/11_double_loop.t ............... ok
t/20_resources/10_perl/aliases.t ................... ok
t/20_resources/10_perl/caller_state.t .............. ok
t/20_resources/10_perl/events.t .................... ok
t/20_resources/10_perl/extrefs.t ................... ok
t/20_resources/10_perl/extrefs_gc.t ................ ok
t/20_resources/10_perl/filehandles.t ............... ok
t/20_resources/10_perl/sessions.t .................. ok
t/20_resources/10_perl/sids.t ...................... ok
t/20_resources/10_perl/signals.t ................... ok
# Testing POE 1.367, POE::Test::Loops 1.360, Using Loop(POE::Loop::IO_Poll), Perl 5.029007, /export/home/njh/perl5/perlbrew/perls/perl-5.29.7/bin/perl5.29.7 on solaris
t/30_loops/io_poll/00_info.t ....................... ok
t/30_loops/io_poll/all_errors.t .................... skipped: most of these should move into other test files
t/30_loops/io_poll/comp_tcp.t ...................... ok
# You might see a 'disconnect' error during this test.
# It may be ignored.
t/30_loops/io_poll/comp_tcp_concurrent.t ........... ok
t/30_loops/io_poll/connect_errors.t ................ ok
t/30_loops/io_poll/k_alarms.t ...................... ok
t/30_loops/io_poll/k_aliases.t ..................... ok
t/30_loops/io_poll/k_detach.t ...................... ok
t/30_loops/io_poll/k_run_returns.t ................. ok
t/30_loops/io_poll/k_selects.t ..................... ok
t/30_loops/io_poll/k_sig_child.t ................... ok
t/30_loops/io_poll/k_signals.t ..................... ok
t/30_loops/io_poll/k_signals_rerun.t ............... ok
t/30_loops/io_poll/sbk_signal_init.t ............... ok
t/30_loops/io_poll/ses_nfa.t ....................... ok
# This test generates some STDERR during trace testing.
=== 22253 === 23 -> _start (from /export/home/njh/.cpan/build/POE-1.367-0/blib/lib/POE/Kernel.pm at 1497)
=== 22253 === 23 -> woot (from /export/home/njh/.cpan/build/POE-Test-Loops-1.360-0/blib/lib/POE/Test/Loops/ses_session.pm at 691)
=== 22253 === 23 -> narf (from /export/home/njh/.cpan/build/POE-Test-Loops-1.360-0/blib/lib/POE/Test/Loops/ses_session.pm at 692)
=== 22253 === 23 -> _stop (from /export/home/njh/.cpan/build/POE-1.367-0/blib/lib/POE/Resource/Sessions.pm at 571)
t/30_loops/io_poll/ses_session.t ................... ok
t/30_loops/io_poll/wheel_accept.t .................. ok
t/30_loops/io_poll/wheel_curses.t .................. skipped: Curses not available
t/30_loops/io_poll/wheel_readline.t ................ skipped: not running in a terminal
t/30_loops/io_poll/wheel_readwrite.t ............... ok
t/30_loops/io_poll/wheel_run.t ..................... ok
t/30_loops/io_poll/wheel_run_size.t ................ skipped: This test requires Term::Size
t/30_loops/io_poll/wheel_sf_ipv6.t ................. skipped: Socket::GetAddrInfo is needed for IPv6 tests
t/30_loops/io_poll/wheel_sf_tcp.t .................. ok
t/30_loops/io_poll/wheel_sf_udp.t .................. ok
t/30_loops/io_poll/wheel_sf_unix.t ................. ok
t/30_loops/io_poll/wheel_tail.t .................... ok
t/30_loops/io_poll/z_kogman_sig_order.t ............ ok
t/30_loops/io_poll/z_leolo_wheel_run.t ............. ok
# Using '/bin/true' as our thing to run under system()
t/30_loops/io_poll/z_merijn_sigchld_system.t ....... ok
t/30_loops/io_poll/z_rt39872_sigchld.t ............. ok
# Parent 22294 waiting 3sec for slow systems to settle.
# sending sigusr1
# sent sigusr1
t/30_loops/io_poll/z_rt39872_sigchld_stop.t ........ ok
t/30_loops/io_poll/z_rt53302_fh_watchers.t ......... ok
t/30_loops/io_poll/z_rt54319_bazerka_followtail.t .. ok
t/30_loops/io_poll/z_steinert_signal_integrity.t ... ok
# Testing POE 1.367, POE::Test::Loops 1.360, Using Loop(POE::Loop::Select), Perl 5.029007, /export/home/njh/perl5/perlbrew/perls/perl-5.29.7/bin/perl5.29.7 on solaris
t/30_loops/select/00_info.t ........................ ok
t/30_loops/select/all_errors.t ..................... skipped: most of these should move into other test files
t/30_loops/select/comp_tcp.t ....................... ok
# You might see a 'disconnect' error during this test.
# It may be ignored.
t/30_loops/select/comp_tcp_concurrent.t ............ ok
t/30_loops/select/connect_errors.t ................. ok
t/30_loops/select/k_alarms.t ....................... ok
t/30_loops/select/k_aliases.t ...................... ok
t/30_loops/select/k_detach.t ....................... ok
t/30_loops/select/k_run_returns.t .................. ok
t/30_loops/select/k_selects.t ...................... ok
t/30_loops/select/k_sig_child.t .................... ok
t/30_loops/select/k_signals.t ...................... ok
t/30_loops/select/k_signals_rerun.t ................ ok
t/30_loops/select/sbk_signal_init.t ................ ok
t/30_loops/select/ses_nfa.t ........................ ok
# This test generates some STDERR during trace testing.
=== 22344 === 23 -> _start (from /export/home/njh/.cpan/build/POE-1.367-0/blib/lib/POE/Kernel.pm at 1497)
=== 22344 === 23 -> woot (from /export/home/njh/.cpan/build/POE-Test-Loops-1.360-0/blib/lib/POE/Test/Loops/ses_session.pm at 691)
=== 22344 === 23 -> narf (from /export/home/njh/.cpan/build/POE-Test-Loops-1.360-0/blib/lib/POE/Test/Loops/ses_session.pm at 692)
=== 22344 === 23 -> _stop (from /export/home/njh/.cpan/build/POE-1.367-0/blib/lib/POE/Resource/Sessions.pm at 571)
t/30_loops/select/ses_session.t .................... ok
t/30_loops/select/wheel_accept.t ................... ok
t/30_loops/select/wheel_curses.t ................... skipped: Curses not available
t/30_loops/select/wheel_readline.t ................. skipped: not running in a terminal
t/30_loops/select/wheel_readwrite.t ................ ok
t/30_loops/select/wheel_run.t ...................... ok
t/30_loops/select/wheel_run_size.t ................. skipped: This test requires Term::Size
t/30_loops/select/wheel_sf_ipv6.t .................. skipped: Socket::GetAddrInfo is needed for IPv6 tests
t/30_loops/select/wheel_sf_tcp.t ................... ok
t/30_loops/select/wheel_sf_udp.t ................... ok
t/30_loops/select/wheel_sf_unix.t .................. ok
t/30_loops/select/wheel_tail.t ..................... ok
t/30_loops/select/z_kogman_sig_order.t ............. ok
t/30_loops/select/z_leolo_wheel_run.t .............. ok
# Using '/bin/true' as our thing to run under system()
t/30_loops/select/z_merijn_sigchld_system.t ........ ok
t/30_loops/select/z_rt39872_sigchld.t .............. ok
# Parent 22385 waiting 3sec for slow systems to settle.
# sending sigusr1
# sent sigusr1
t/30_loops/select/z_rt39872_sigchld_stop.t ......... ok
t/30_loops/select/z_rt53302_fh_watchers.t .......... ok
t/30_loops/select/z_rt54319_bazerka_followtail.t ... ok
t/30_loops/select/z_steinert_signal_integrity.t .... ok
t/90_regression/agaran-filter-httpd.t .............. ok
t/90_regression/averell-callback-ret.t ............. ok
t/90_regression/bingos-followtail.t ................ ok
t/90_regression/broeren-win32-nbio.t ............... skipped: This test examines ActiveState Perl behavior.
t/90_regression/cfedde-filter-httpd.t .............. ok
t/90_regression/ferrari-server-unix.t .............. ok
t/90_regression/grinnz-die-in-die.t ................ ok
Died at t/90_regression/hinrik-wheel-run-die.t line 21.
t/90_regression/hinrik-wheel-run-die.t ............. ok
# This test can take up to 10 seconds
t/90_regression/kjeldahl-stop-start-polling.t ...... ok
# This test can take up to 10 seconds
t/90_regression/kjeldahl-stop-start-sig-nopipe.t ... ok
# This test can take up to 10 seconds
t/90_regression/kjeldahl-stop-start-sig-pipe.t ..... ok
t/90_regression/leolo-sig-die.t .................... ok
t/90_regression/meh-startstop-return.t ............. ok
t/90_regression/neyuki_detach.t .................... ok
t/90_regression/pipe-followtail.t .................. ok
t/90_regression/prumike-win32-stat.t ............... skipped: This test examines Strawberry/ActiveState Perl behavior.
t/90_regression/rt14444-arg1.t ..................... ok
t/90_regression/rt1648-tied-stderr.t ............... ok
t/90_regression/rt19908-merlyn-stop.t .............. ok
t/90_regression/rt23181-sigchld-rc.t ............... ok
t/90_regression/rt47966-sigchld.t .................. skipped: enable by setting RELEASE_TESTING
t/90_regression/rt56417-wheel-run.t ................ ok
t/90_regression/rt65460-forking.t .................. ok
t/90_regression/socketfactory-timeout.t ............ ok
t/90_regression/somni-poco-server-tcp.t ............ ok
t/90_regression/steinert-passed-wheel.t ............ ok
t/90_regression/suzman_windows.t ................... ok
t/90_regression/ton-stop-corruption.t .............. ok
t/90_regression/tracing-sane-exit.t ................ ok
t/90_regression/whelan-dieprop.t ................... ok
t/90_regression/whjackson-followtail.t ............. ok
All tests successful.

Test Summary Report
-------------------
t/10_units/05_filters/03_http.t                  (Wstat: 0 Tests: 137 Failed: 0)
  TODO passed:   85
Files=161, Tests=4221, 149 wallclock secs ( 1.49 usr  0.66 sys + 45.39 cusr 21.86 csys = 69.40 CPU)
Result: PASS

------------------------------
PREREQUISITES
------------------------------

Prerequisite modules loaded:

requires:

    Module           Need  Have  
    ---------------- ----- ------
    Carp             0     1.50  
    Errno            1.09  1.30  
    Exporter         0     5.73  
    File::Spec       0.87  3.77  
    IO               1.24  1.39  
    IO::Handle       1.27  1.39  
    IO::Pipely       0.005 0.005 
    IO::Tty          1.08  1.12  
    POE::Test::Loops 1.360 1.360 
    POSIX            1.02  1.86  
    Socket           1.7   2.027 
    Storable         2.16  3.14  
    Test::Harness    2.26  3.42  
    Time::HiRes      1.59  1.9760

build_requires:

    Module           Need  Have  
    ---------------- ----- ------
    POE::Test::Loops 1.360 1.360 

configure_requires:

    Module           Need  Have  
    ---------------- ----- ------
    POE::Test::Loops 1.360 1.360 


------------------------------
ENVIRONMENT AND OTHER CONTEXT
------------------------------

Environment variables:

    AUTOMATED_TESTING = 1
    NONINTERACTIVE_TESTING = 1
    PATH = /export/home/njh/perl5/perlbrew/bin:/export/home/njh/perl5/perlbrew/perls/perl-5.29.7/bin:/export/home/njh/src/njh/smoker/bin:/usr/bin
    PERL5LIB = /export/home/njh/.cpan/build/IO-Tty-1.12-0/blib/arch:/export/home/njh/.cpan/build/IO-Tty-1.12-0/blib/lib:/export/home/njh/.cpan/build/IO-Pipely-0.005-0/blib/arch:/export/home/njh/.cpan/build/IO-Pipely-0.005-0/blib/lib:/export/home/njh/.cpan/build/POE-Test-Loops-1.360-0/blib/arch:/export/home/njh/.cpan/build/POE-Test-Loops-1.360-0/blib/lib:/export/home/njh/.cpan/build/IRC-Utils-0.12-0/blib/arch:/export/home/njh/.cpan/build/IRC-Utils-0.12-0/blib/lib:/export/home/njh/.cpan/build/AppConfig-1.71-0/blib/arch:/export/home/njh/.cpan/build/AppConfig-1.71-0/blib/lib:/export/home/njh/.cpan/build/Test-Pod-1.52-0/blib/arch:/export/home/njh/.cpan/build/Test-Pod-1.52-0/blib/lib:/export/home/njh/.cpan/build/Class-Tiny-ConstrainedAccessor-0.000007-0/blib/arch:/export/home/njh/.cpan/build/Class-Tiny-ConstrainedAccessor-0.000007-0/blib/lib:/export/home/njh/.cpan/build/lib-relative-1.000-0/blib/arch:/export/home/njh/.cpan/build/lib-relative-1.000-0/blib/lib:/export/home/njh/.cpan/build/Type-Tiny-1.004004-0/blib/arch:/export/home/njh/.cpan/build/Type-Tiny-1.004004-0/blib/lib:/export/home/njh/.cpan/build/Import-Into-1.002005-0/blib/arch:/export/home/njh/.cpan/build/Import-Into-1.002005-0/blib/lib:/export/home/njh/.cpan/build/Acme-CXW-vars-i-1.03-0/blib/arch:/export/home/njh/.cpan/build/Acme-CXW-vars-i-1.03-0/blib/lib:/export/home/njh/.cpan/build/OmniDisco-Prometheus-0.006-0/blib/arch:/export/home/njh/.cpan/build/OmniDisco-Prometheus-0.006-0/blib/lib:/export/home/njh/.cpan/build/Test-LWP-UserAgent-0.033-0/blib/arch:/export/home/njh/.cpan/build/Test-LWP-UserAgent-0.033-0/blib/lib:/export/home/njh/.cpan/build/Safe-Isa-1.000010-0/blib/arch:/export/home/njh/.cpan/build/Safe-Isa-1.000010-0/blib/lib:/export/home/njh/.cpan/build/Regexp-Common-2017060201-0/blib/arch:/export/home/njh/.cpan/build/Regexp-Common-2017060201-0/blib/lib:/export/home/njh/.cpan/build/Data-Printer-0.40-0/blib/arch:/export/home/njh/.cpan/build/Data-Printer-0.40-0/blib/lib:/export/home/njh/.cpan/build/Sort-Naturally-1.03-0/blib/arch:/export/home/njh/.cpan/build/Sort-Naturally-1.03-0/blib/lib:/export/home/njh/.cpan/build/Clone-PP-1.07-0/blib/arch:/export/home/njh/.cpan/build/Clone-PP-1.07-0/blib/lib
    PERL5OPT = 
    PERL5_CPANPLUS_IS_RUNNING = 19061
    PERL5_CPAN_IS_RUNNING = 19061
    PERLBREW_HOME = /export/home/njh/.perlbrew
    PERLBREW_MANPATH = /export/home/njh/perl5/perlbrew/perls/perl-5.29.7/man
    PERLBREW_PATH = /export/home/njh/perl5/perlbrew/bin:/export/home/njh/perl5/perlbrew/perls/perl-5.29.7/bin
    PERLBREW_PERL = perl-5.29.7
    PERLBREW_ROOT = /export/home/njh/perl5/perlbrew
    PERLBREW_SHELLRC_VERSION = 0.84
    PERLBREW_VERSION = 0.84
    PERL_MM_USE_DEFAULT = 1
    PERL_USE_UNSAFE_INC = 1
    SHELL = /usr/bin/sh
    TERM = dumb
    TMPDIR = /tmp/testwrapper.19048

Perl special variables (and OS-specific diagnostics, for MSWin32):

    $^X = /export/home/njh/perl5/perlbrew/perls/perl-5.29.7/bin/perl5.29.7
    $UID/$EUID = 101 / 101
    $GID = 10 10
    $EGID = 10 10

Perl module toolchain versions installed:

    Module              Have    
    ------------------- --------
    CPAN                2.22    
    CPAN::Meta          2.150010
    Cwd                 3.77    
    ExtUtils::CBuilder  0.280230
    ExtUtils::Command   7.34    
    ExtUtils::Install   2.14    
    ExtUtils::MakeMaker 7.34    
    ExtUtils::Manifest  1.71    
    ExtUtils::ParseXS   3.40    
    File::Spec          3.77    
    JSON                4.02    
    JSON::PP            2.97001 
    Module::Build       0.4224  
    Module::Signature   n/a     
    Parse::CPAN::Meta   2.150010
    Test::Harness       3.42    
    Test::More          1.302160
    YAML                1.27    
    YAML::Syck          1.31    
    version             0.9924  


--

Summary of my perl5 (revision 5 version 29 subversion 7) configuration:
   
  Platform:
    osname=solaris
    osvers=2.11
    archname=i86pc-solaris
    uname='sunos vultr1.bandsman.co.uk 5.11 illumos-7d1eae8c55 i86pc i386 i86pc '
    config_args='-de -Dprefix=/export/home/njh/perl5/perlbrew/perls/perl-5.29.7 -Dusedevel -Aeval:scriptdir=/export/home/njh/perl5/perlbrew/perls/perl-5.29.7/bin'
    hint=recommended
    useposix=true
    d_sigaction=define
    useithreads=undef
    usemultiplicity=undef
    use64bitint=undef
    use64bitall=undef
    uselongdouble=undef
    usemymalloc=n
    default_inc_excludes_dot=define
    bincompat5005=undef
  Compiler:
    cc='/opt/SUNWspro/bin/cc'
    ccflags ='-I/usr/gnu/include -D_LARGEFILE_SOURCE -D_FILE_OFFSET_BITS=64 -DPERL_USE_SAFE_PUTENV'
    optimize='-O'
    cppflags='-I/usr/gnu/include'
    ccversion='Sun C 5.10 SunOS_i386 2009/06/03'
    gccversion=''
    gccosandvers=''
    intsize=4
    longsize=4
    ptrsize=4
    doublesize=8
    byteorder=1234
    doublekind=3
    d_longlong=define
    longlongsize=8
    d_longdbl=define
    longdblsize=12
    longdblkind=3
    ivtype='long'
    ivsize=4
    nvtype='double'
    nvsize=8
    Off_t='off_t'
    lseeksize=8
    alignbytes=4
    prototype=define
  Linker and Libraries:
    ld='/opt/SUNWspro/bin/cc'
    ldflags =' -L/usr/lib -L/usr/ccs/lib -L/opt/sunstudio12.1/prod/lib -L/lib -L/usr/gnu/lib '
    libpth=/usr/lib /usr/ccs/lib /opt/sunstudio12.1/prod/lib /lib /usr/gnu/lib
    libs=-lpthread -lsocket -lnsl -lgdbm -ldb -ldl -lm -lc
    perllibs=-lpthread -lsocket -lnsl -ldl -lm -lc
    libc=/lib/libc.so
    so=so
    useshrplib=true
    libperl=libperl.so
    gnulibc_version=''
  Dynamic Linking:
    dlsrc=dl_dlopen.xs
    dlext=so
    d_dlsymun=undef
    ccdlflags='  -R /export/home/njh/perl5/perlbrew/perls/perl-5.29.7/lib/5.29.7/i86pc-solaris/CORE'
    cccdlflags='-KPIC'
    lddlflags='-G -L/usr/lib -L/usr/ccs/lib -L/opt/sunstudio12.1/prod/lib -L/lib -L/usr/gnu/lib'


Characteristics of this binary (from libperl): 
  Compile-time options:
    HAS_TIMES
    PERLIO_LAYERS
    PERL_COPY_ON_WRITE
    PERL_DONT_CREATE_GVSV
    PERL_MALLOC_WRAP
    PERL_OP_PARENT
    PERL_PRESERVE_IVUV
    PERL_USE_DEVEL
    PERL_USE_SAFE_PUTENV
    USE_LARGE_FILES
    USE_LOCALE
    USE_LOCALE_COLLATE
    USE_LOCALE_CTYPE
    USE_LOCALE_NUMERIC
    USE_LOCALE_TIME
    USE_PERLIO
    USE_PERL_ATOF
  Locally applied patches:
    Devel::PatchPerl 1.52
  Built under solaris
  Compiled at Feb 21 2019 14:53:14
  %ENV:
    PERL5LIB="/export/home/njh/.cpan/build/IO-Tty-1.12-0/blib/arch:/export/home/njh/.cpan/build/IO-Tty-1.12-0/blib/lib:/export/home/njh/.cpan/build/IO-Pipely-0.005-0/blib/arch:/export/home/njh/.cpan/build/IO-Pipely-0.005-0/blib/lib:/export/home/njh/.cpan/build/POE-Test-Loops-1.360-0/blib/arch:/export/home/njh/.cpan/build/POE-Test-Loops-1.360-0/blib/lib:/export/home/njh/.cpan/build/IRC-Utils-0.12-0/blib/arch:/export/home/njh/.cpan/build/IRC-Utils-0.12-0/blib/lib:/export/home/njh/.cpan/build/AppConfig-1.71-0/blib/arch:/export/home/njh/.cpan/build/AppConfig-1.71-0/blib/lib:/export/home/njh/.cpan/build/Test-Pod-1.52-0/blib/arch:/export/home/njh/.cpan/build/Test-Pod-1.52-0/blib/lib:/export/home/njh/.cpan/build/Class-Tiny-ConstrainedAccessor-0.000007-0/blib/arch:/export/home/njh/.cpan/build/Class-Tiny-ConstrainedAccessor-0.000007-0/blib/lib:/export/home/njh/.cpan/build/lib-relative-1.000-0/blib/arch:/export/home/njh/.cpan/build/lib-relative-1.000-0/blib/lib:/export/home/njh/.cpan/build/Type-Tiny-1.004004-0/blib/arch:/export/home/njh/.cpan/build/Type-Tiny-1.004004-0/blib/lib:/export/home/njh/.cpan/build/Import-Into-1.002005-0/blib/arch:/export/home/njh/.cpan/build/Import-Into-1.002005-0/blib/lib:/export/home/njh/.cpan/build/Acme-CXW-vars-i-1.03-0/blib/arch:/export/home/njh/.cpan/build/Acme-CXW-vars-i-1.03-0/blib/lib:/export/home/njh/.cpan/build/OmniDisco-Prometheus-0.006-0/blib/arch:/export/home/njh/.cpan/build/OmniDisco-Prometheus-0.006-0/blib/lib:/export/home/njh/.cpan/build/Test-LWP-UserAgent-0.033-0/blib/arch:/export/home/njh/.cpan/build/Test-LWP-UserAgent-0.033-0/blib/lib:/export/home/njh/.cpan/build/Safe-Isa-1.000010-0/blib/arch:/export/home/njh/.cpan/build/Safe-Isa-1.000010-0/blib/lib:/export/home/njh/.cpan/build/Regexp-Common-2017060201-0/blib/arch:/export/home/njh/.cpan/build/Regexp-Common-2017060201-0/blib/lib:/export/home/njh/.cpan/build/Data-Printer-0.40-0/blib/arch:/export/home/njh/.cpan/build/Data-Printer-0.40-0/blib/lib:/export/home/njh/.cpan/build/Sort-Naturally-1.03-0/blib/arch:/export/home/njh/.cpan/build/Sort-Naturally-1.03-0/blib/lib:/export/home/njh/.cpan/build/Clone-PP-1.07-0/blib/arch:/export/home/njh/.cpan/build/Clone-PP-1.07-0/blib/lib"
    PERL5OPT=""
    PERL5_CPANPLUS_IS_RUNNING="19061"
    PERL5_CPAN_IS_RUNNING="19061"
    PERLBREW_HOME="/export/home/njh/.perlbrew"
    PERLBREW_MANPATH="/export/home/njh/perl5/perlbrew/perls/perl-5.29.7/man"
    PERLBREW_PATH="/export/home/njh/perl5/perlbrew/bin:/export/home/njh/perl5/perlbrew/perls/perl-5.29.7/bin"
    PERLBREW_PERL="perl-5.29.7"
    PERLBREW_ROOT="/export/home/njh/perl5/perlbrew"
    PERLBREW_SHELLRC_VERSION="0.84"
    PERLBREW_VERSION="0.84"
    PERL_MM_USE_DEFAULT="1"
    PERL_USE_UNSAFE_INC="1"
  @INC:
    /export/home/njh/.cpan/build/IO-Tty-1.12-0/blib/arch
    /export/home/njh/.cpan/build/IO-Tty-1.12-0/blib/lib
    /export/home/njh/.cpan/build/IO-Pipely-0.005-0/blib/arch
    /export/home/njh/.cpan/build/IO-Pipely-0.005-0/blib/lib
    /export/home/njh/.cpan/build/POE-Test-Loops-1.360-0/blib/arch
    /export/home/njh/.cpan/build/POE-Test-Loops-1.360-0/blib/lib
    /export/home/njh/.cpan/build/IRC-Utils-0.12-0/blib/arch
    /export/home/njh/.cpan/build/IRC-Utils-0.12-0/blib/lib
    /export/home/njh/.cpan/build/AppConfig-1.71-0/blib/arch
    /export/home/njh/.cpan/build/AppConfig-1.71-0/blib/lib
    /export/home/njh/.cpan/build/Test-Pod-1.52-0/blib/arch
    /export/home/njh/.cpan/build/Test-Pod-1.52-0/blib/lib
    /export/home/njh/.cpan/build/Class-Tiny-ConstrainedAccessor-0.000007-0/blib/arch
    /export/home/njh/.cpan/build/Class-Tiny-ConstrainedAccessor-0.000007-0/blib/lib
    /export/home/njh/.cpan/build/lib-relative-1.000-0/blib/arch
    /export/home/njh/.cpan/build/lib-relative-1.000-0/blib/lib
    /export/home/njh/.cpan/build/Type-Tiny-1.004004-0/blib/arch
    /export/home/njh/.cpan/build/Type-Tiny-1.004004-0/blib/lib
    /export/home/njh/.cpan/build/Import-Into-1.002005-0/blib/arch
    /export/home/njh/.cpan/build/Import-Into-1.002005-0/blib/lib
    /export/home/njh/.cpan/build/Acme-CXW-vars-i-1.03-0/blib/arch
    /export/home/njh/.cpan/build/Acme-CXW-vars-i-1.03-0/blib/lib
    /export/home/njh/.cpan/build/OmniDisco-Prometheus-0.006-0/blib/arch
    /export/home/njh/.cpan/build/OmniDisco-Prometheus-0.006-0/blib/lib
    /export/home/njh/.cpan/build/Test-LWP-UserAgent-0.033-0/blib/arch
    /export/home/njh/.cpan/build/Test-LWP-UserAgent-0.033-0/blib/lib
    /export/home/njh/.cpan/build/Safe-Isa-1.000010-0/blib/arch
    /export/home/njh/.cpan/build/Safe-Isa-1.000010-0/blib/lib
    /export/home/njh/.cpan/build/Regexp-Common-2017060201-0/blib/arch
    /export/home/njh/.cpan/build/Regexp-Common-2017060201-0/blib/lib
    /export/home/njh/.cpan/build/Data-Printer-0.40-0/blib/arch
    /export/home/njh/.cpan/build/Data-Printer-0.40-0/blib/lib
    /export/home/njh/.cpan/build/Sort-Naturally-1.03-0/blib/arch
    /export/home/njh/.cpan/build/Sort-Naturally-1.03-0/blib/lib
    /export/home/njh/.cpan/build/Clone-PP-1.07-0/blib/arch
    /export/home/njh/.cpan/build/Clone-PP-1.07-0/blib/lib
    /export/home/njh/perl5/perlbrew/perls/perl-5.29.7/lib/site_perl/5.29.7/i86pc-solaris
    /export/home/njh/perl5/perlbrew/perls/perl-5.29.7/lib/site_perl/5.29.7
    /export/home/njh/perl5/perlbrew/perls/perl-5.29.7/lib/5.29.7/i86pc-solaris
    /export/home/njh/perl5/perlbrew/perls/perl-5.29.7/lib/5.29.7
    .