Report for Class-DBI-Sweet-0.11

Back
From: metabase:user:30977d10-2aae-11df-837a-5e0a49663a4f
Subject: PASS Class-DBI-Sweet-0.11 v5.15.5 GNU/Linux
Date: 2011-12-26T03:05:53Z

This distribution has been tested as part of the CPAN Testers
project, supporting the Perl programming language.  See
http://wiki.cpantesters.org/ for more information or email
questions to cpan-testers-discuss@perl.org


--
Dear Fred Moyer,

This is a computer-generated report for Class-DBI-Sweet-0.11
on perl 5.15.5, created by CPAN-Reporter-1.2003.

Thank you for uploading your work to CPAN.  Congratulations!
All tests were successful.

Sections of this report:

    * Tester comments
    * Program output
    * Prerequisites
    * Environment and other context

------------------------------
TESTER COMMENTS
------------------------------

Additional comments from tester:

this report is from an automated smoke testing program
and was not reviewed by a human for accuracy

------------------------------
PROGRAM OUTPUT
------------------------------

Output from '/usr/bin/make test':

/home/trushel/perl/perl5155/bin/perl Build --makefile_env_macros 1 test
t/01use.t ................................ ok
t/02pod.t ................................ skipped: set TEST_POD to enable this test
t/03podcoverage.t ........................ skipped: set TEST_POD to enable this test
t/04join.t ............................... ok
t/05count.t .............................. ok
prepare_cached(INSERT INTO cd (cdid, artist, title, year)
VALUES (?, ?, ?, ?)
) statement handle DBIx::ContextualFetch::st=HASH(0x2697d38) still Active at /home/trushel/perl/perl5155/lib/site_perl/5.15.5/Ima/DBI.pm line 398
t/06object_cache.t ....................... ok
Use of uninitialized value $got in numeric eq (==) at (eval in cmp_ok) t/07prefetch.t line 48.
t/07prefetch.t ........................... ok
t/08pager.t .............................. ok
t/09sequence.t ........................... ok
t/cdbi-t-ocache/01-columns.t ............. ok
t/cdbi-t-ocache/03-subclassing.t ......... ok
prepare_cached(INSERT INTO Movies (title, rating)
VALUES (?, ?)
) statement handle DBIx::ContextualFetch::st=HASH(0x28f0eb8) still Active at /home/trushel/perl/perl5155/lib/site_perl/5.15.5/Ima/DBI.pm line 398
prepare_cached(INSERT INTO Movies (title, rating)
VALUES (?, ?)
) statement handle DBIx::ContextualFetch::st=HASH(0x28f0eb8) still Active at /home/trushel/perl/perl5155/lib/site_perl/5.15.5/Ima/DBI.pm line 398
prepare_cached(INSERT INTO Actor (name, film, salary)
VALUES (?, ?, ?)
) statement handle DBIx::ContextualFetch::st=HASH(0x28eb798) still Active at /home/trushel/perl/perl5155/lib/site_perl/5.15.5/Ima/DBI.pm line 398
prepare_cached(INSERT INTO Actor (name, film, salary)
VALUES (?, ?, ?)
) statement handle DBIx::ContextualFetch::st=HASH(0x28eb798) still Active at /home/trushel/perl/perl5155/lib/site_perl/5.15.5/Ima/DBI.pm line 398
prepare_cached(INSERT INTO Actor (name, film, salary)
VALUES (?, ?, ?)
) statement handle DBIx::ContextualFetch::st=HASH(0x28eb798) still Active at /home/trushel/perl/perl5155/lib/site_perl/5.15.5/Ima/DBI.pm line 398
prepare_cached(INSERT INTO Actor (name, film, salary)
VALUES (?, ?, ?)
) statement handle DBIx::ContextualFetch::st=HASH(0x28eb798) still Active at /home/trushel/perl/perl5155/lib/site_perl/5.15.5/Ima/DBI.pm line 398
prepare_cached(INSERT INTO Actor (name, film, salary)
VALUES (?, ?, ?)
) statement handle DBIx::ContextualFetch::st=HASH(0x28eb798) still Active at /home/trushel/perl/perl5155/lib/site_perl/5.15.5/Ima/DBI.pm line 398
t/cdbi-t-ocache/05-Query.t ............... ok
t/cdbi-t-ocache/06-hasa.t ................ ok
t/cdbi-t-ocache/08-inheritcols.t ......... ok
prepare_cached(INSERT INTO Actor (name, film, salary)
VALUES (?, ?, ?)
) statement handle DBIx::ContextualFetch::st=HASH(0x2736700) still Active at /home/trushel/perl/perl5155/lib/site_perl/5.15.5/Ima/DBI.pm line 398
prepare_cached(INSERT INTO Actor (name, film, salary)
VALUES (?, ?, ?)
) statement handle DBIx::ContextualFetch::st=HASH(0x2736700) still Active at /home/trushel/perl/perl5155/lib/site_perl/5.15.5/Ima/DBI.pm line 398
prepare_cached(DELETE
FROM   Actor
WHERE  id=?
) statement handle DBIx::ContextualFetch::st=HASH(0x2725268) still Active at /home/trushel/perl/perl5155/lib/site_perl/5.15.5/Ima/DBI.pm line 398
prepare_cached(INSERT INTO Movies (title, director, rating)
VALUES (?, ?, ?)
) statement handle DBIx::ContextualFetch::st=HASH(0x271f930) still Active at /home/trushel/perl/perl5155/lib/site_perl/5.15.5/Ima/DBI.pm line 398
t/cdbi-t-ocache/09-has_many.t ............ ok
DBI connect('test','',...) failed: Can't connect to local MySQL server through socket '/var/run/mysqld/mysqld.sock' (2) at t/cdbi-t/testlib/MyBase.pm line 10
t/cdbi-t-ocache/10-mysql.t ............... skipped: Need MySQL for this test
t/cdbi-t-ocache/11-triggers.t ............ ok
prepare_cached(INSERT INTO Movies (title)
VALUES (?)
) statement handle DBIx::ContextualFetch::st=HASH(0x2391ab8) still Active at /home/trushel/perl/perl5155/lib/site_perl/5.15.5/Ima/DBI.pm line 398
prepare_cached(INSERT INTO Actor (name, film, salary)
VALUES (?, ?, ?)
) statement handle DBIx::ContextualFetch::st=HASH(0x2391140) still Active at /home/trushel/perl/perl5155/lib/site_perl/5.15.5/Ima/DBI.pm line 398
prepare_cached(INSERT INTO Actor (name, film, salary)
VALUES (?, ?, ?)
) statement handle DBIx::ContextualFetch::st=HASH(0x2391140) still Active at /home/trushel/perl/perl5155/lib/site_perl/5.15.5/Ima/DBI.pm line 398
prepare_cached(INSERT INTO Actor (name, film, salary)
VALUES (?, ?, ?)
) statement handle DBIx::ContextualFetch::st=HASH(0x2391140) still Active at /home/trushel/perl/perl5155/lib/site_perl/5.15.5/Ima/DBI.pm line 398
prepare_cached(DELETE
FROM   Actor
WHERE  id=?
) statement handle DBIx::ContextualFetch::st=HASH(0x2374e70) still Active at /home/trushel/perl/perl5155/lib/site_perl/5.15.5/Ima/DBI.pm line 398
prepare_cached(DELETE
FROM   Actor
WHERE  id=?
) statement handle DBIx::ContextualFetch::st=HASH(0x2374e70) still Active at /home/trushel/perl/perl5155/lib/site_perl/5.15.5/Ima/DBI.pm line 398
t/cdbi-t-ocache/12-filter.t .............. ok
prepare_cached(INSERT INTO Movies (rating)
VALUES (?)
) statement handle DBIx::ContextualFetch::st=HASH(0x1419c88) still Active at /home/trushel/perl/perl5155/lib/site_perl/5.15.5/Ima/DBI.pm line 398
prepare_cached(INSERT INTO Movies (title)
VALUES (?)
) statement handle DBIx::ContextualFetch::st=HASH(0x1414d98) still Active at /home/trushel/perl/perl5155/lib/site_perl/5.15.5/Ima/DBI.pm line 398
t/cdbi-t-ocache/13-constraint.t .......... ok
prepare_cached(UPDATE Movies
SET    rating = ?
WHERE  title=?
) statement handle DBIx::ContextualFetch::st=HASH(0x2317a80) still Active at /home/trushel/perl/perl5155/lib/site_perl/5.15.5/Ima/DBI.pm line 398
t/cdbi-t-ocache/14-might_have.t .......... ok
t/cdbi-t-ocache/16-reserved.t ............ ok
t/cdbi-t-ocache/17-data_type.t ........... skipped: needs DBD::Pg for testing
Name "Ima::DBI::st::execute" used only once: possible typo at t/cdbi-t-ocache/18-has_a.t line 44.
prepare_cached(INSERT INTO Directors (name, birthday, isinsane)
VALUES (?, ?, ?)
) statement handle DBIx::ContextualFetch::st=HASH(0x1f67ba8) still Active at /home/trushel/perl/perl5155/lib/site_perl/5.15.5/Ima/DBI.pm line 398
prepare_cached(UPDATE Movies
SET    director = ?
WHERE  title=?
) statement handle DBIx::ContextualFetch::st=HASH(0x1f77ff0) still Active at /home/trushel/perl/perl5155/lib/site_perl/5.15.5/Ima/DBI.pm line 398
t/cdbi-t-ocache/18-has_a.t ............... ok
prepare_cached(INSERT INTO Movies (title, director, rating)
VALUES (?, ?, ?)
) statement handle DBIx::ContextualFetch::st=HASH(0x10f7810) still Active at /home/trushel/perl/perl5155/lib/site_perl/5.15.5/Ima/DBI.pm line 398
prepare_cached(INSERT INTO Movies (title, director, rating)
VALUES (?, ?, ?)
) statement handle DBIx::ContextualFetch::st=HASH(0x10f7810) still Active at /home/trushel/perl/perl5155/lib/site_perl/5.15.5/Ima/DBI.pm line 398
prepare_cached(INSERT INTO Movies (title, director, rating)
VALUES (?, ?, ?)
) statement handle DBIx::ContextualFetch::st=HASH(0x10f7810) still Active at /home/trushel/perl/perl5155/lib/site_perl/5.15.5/Ima/DBI.pm line 398
prepare_cached(INSERT INTO Movies (title, director, rating)
VALUES (?, ?, ?)
) statement handle DBIx::ContextualFetch::st=HASH(0x10f7810) still Active at /home/trushel/perl/perl5155/lib/site_perl/5.15.5/Ima/DBI.pm line 398
prepare_cached(INSERT INTO Actor (name, film)
VALUES (?, ?)
) statement handle DBIx::ContextualFetch::st=HASH(0x10e5990) still Active at /home/trushel/perl/perl5155/lib/site_perl/5.15.5/Ima/DBI.pm line 398
prepare_cached(INSERT INTO Actor (name, film)
VALUES (?, ?)
) statement handle DBIx::ContextualFetch::st=HASH(0x10e5990) still Active at /home/trushel/perl/perl5155/lib/site_perl/5.15.5/Ima/DBI.pm line 398
t/cdbi-t-ocache/19-set_sql.t ............. ok
prepare_cached(INSERT INTO Movies (title)
VALUES (?)
) statement handle DBIx::ContextualFetch::st=HASH(0x2936450) still Active at /home/trushel/perl/perl5155/lib/site_perl/5.15.5/Ima/DBI.pm line 398
prepare_cached(INSERT INTO Movies (title)
VALUES (?)
) statement handle DBIx::ContextualFetch::st=HASH(0x2936450) still Active at /home/trushel/perl/perl5155/lib/site_perl/5.15.5/Ima/DBI.pm line 398
prepare_cached(INSERT INTO Movies (title)
VALUES (?)
) statement handle DBIx::ContextualFetch::st=HASH(0x2936450) still Active at /home/trushel/perl/perl5155/lib/site_perl/5.15.5/Ima/DBI.pm line 398
prepare_cached(INSERT INTO Movies (title)
VALUES (?)
) statement handle DBIx::ContextualFetch::st=HASH(0x2936450) still Active at /home/trushel/perl/perl5155/lib/site_perl/5.15.5/Ima/DBI.pm line 398
prepare_cached(INSERT INTO Movies (title)
VALUES (?)
) statement handle DBIx::ContextualFetch::st=HASH(0x2936450) still Active at /home/trushel/perl/perl5155/lib/site_perl/5.15.5/Ima/DBI.pm line 398
t/cdbi-t-ocache/21-iterator.t ............ ok
DBI connect('test','',...) failed: Can't connect to local MySQL server through socket '/var/run/mysqld/mysqld.sock' (2) at t/cdbi-t/testlib/MyBase.pm line 10
t/cdbi-t-ocache/22-deflate_order.t ....... skipped: Need MySQL for this test
prepare_cached(INSERT INTO Movies (title, director)
VALUES (?, ?)
) statement handle DBIx::ContextualFetch::st=HASH(0x1c271d8) still Active at /home/trushel/perl/perl5155/lib/site_perl/5.15.5/Ima/DBI.pm line 398
prepare_cached(DELETE
FROM   Movies
WHERE  title=?
) statement handle DBIx::ContextualFetch::st=HASH(0x1c21a90) still Active at /home/trushel/perl/perl5155/lib/site_perl/5.15.5/Ima/DBI.pm line 398
t/cdbi-t-ocache/23-cascade.t ............. ok
t/cdbi-t-ocache/24-meta_info.t ........... ok
DBI connect('test','',...) failed: Can't connect to local MySQL server through socket '/var/run/mysqld/mysqld.sock' (2) at t/cdbi-t/testlib/MyBase.pm line 10
t/cdbi-t-ocache/25-closures_in_meta.t .... skipped: Need MySQL for this test
t/cdbi-t-ocache/97-pod.t ................. ok
t/cdbi-t-ocache/98-failure.t ............. ok
Use of uninitialized value $name in lc at /home/trushel/perl/perl5155/lib/site_perl/5.15.5/Class/DBI/ColumnGrouper.pm line 91.
t/cdbi-t-ocache/99-misc.t ................ ok
t/cdbi-t-rescache/01-columns.t ........... ok
t/cdbi-t-rescache/03-subclassing.t ....... ok
prepare_cached(INSERT INTO Movies (title, rating)
VALUES (?, ?)
) statement handle DBIx::ContextualFetch::st=HASH(0x1214eb8) still Active at /home/trushel/perl/perl5155/lib/site_perl/5.15.5/Ima/DBI.pm line 398
prepare_cached(INSERT INTO Movies (title, rating)
VALUES (?, ?)
) statement handle DBIx::ContextualFetch::st=HASH(0x1214eb8) still Active at /home/trushel/perl/perl5155/lib/site_perl/5.15.5/Ima/DBI.pm line 398
prepare_cached(INSERT INTO Actor (name, film, salary)
VALUES (?, ?, ?)
) statement handle DBIx::ContextualFetch::st=HASH(0x120f798) still Active at /home/trushel/perl/perl5155/lib/site_perl/5.15.5/Ima/DBI.pm line 398
prepare_cached(INSERT INTO Actor (name, film, salary)
VALUES (?, ?, ?)
) statement handle DBIx::ContextualFetch::st=HASH(0x120f798) still Active at /home/trushel/perl/perl5155/lib/site_perl/5.15.5/Ima/DBI.pm line 398
prepare_cached(INSERT INTO Actor (name, film, salary)
VALUES (?, ?, ?)
) statement handle DBIx::ContextualFetch::st=HASH(0x120f798) still Active at /home/trushel/perl/perl5155/lib/site_perl/5.15.5/Ima/DBI.pm line 398
prepare_cached(INSERT INTO Actor (name, film, salary)
VALUES (?, ?, ?)
) statement handle DBIx::ContextualFetch::st=HASH(0x120f798) still Active at /home/trushel/perl/perl5155/lib/site_perl/5.15.5/Ima/DBI.pm line 398
prepare_cached(INSERT INTO Actor (name, film, salary)
VALUES (?, ?, ?)
) statement handle DBIx::ContextualFetch::st=HASH(0x120f798) still Active at /home/trushel/perl/perl5155/lib/site_perl/5.15.5/Ima/DBI.pm line 398
t/cdbi-t-rescache/05-Query.t ............. ok
t/cdbi-t-rescache/06-hasa.t .............. ok
t/cdbi-t-rescache/08-inheritcols.t ....... ok
prepare_cached(INSERT INTO Actor (name, film, salary)
VALUES (?, ?, ?)
) statement handle DBIx::ContextualFetch::st=HASH(0x1c90700) still Active at /home/trushel/perl/perl5155/lib/site_perl/5.15.5/Ima/DBI.pm line 398
prepare_cached(INSERT INTO Actor (name, film, salary)
VALUES (?, ?, ?)
) statement handle DBIx::ContextualFetch::st=HASH(0x1c90700) still Active at /home/trushel/perl/perl5155/lib/site_perl/5.15.5/Ima/DBI.pm line 398
prepare_cached(DELETE
FROM   Actor
WHERE  id=?
) statement handle DBIx::ContextualFetch::st=HASH(0x1c7f268) still Active at /home/trushel/perl/perl5155/lib/site_perl/5.15.5/Ima/DBI.pm line 398
prepare_cached(INSERT INTO Movies (title, director, rating)
VALUES (?, ?, ?)
) statement handle DBIx::ContextualFetch::st=HASH(0x1c79930) still Active at /home/trushel/perl/perl5155/lib/site_perl/5.15.5/Ima/DBI.pm line 398
t/cdbi-t-rescache/09-has_many.t .......... ok
DBI connect('test','',...) failed: Can't connect to local MySQL server through socket '/var/run/mysqld/mysqld.sock' (2) at t/cdbi-t/testlib/MyBase.pm line 10
t/cdbi-t-rescache/10-mysql.t ............. skipped: Need MySQL for this test
t/cdbi-t-rescache/11-triggers.t .......... ok
prepare_cached(INSERT INTO Movies (title)
VALUES (?)
) statement handle DBIx::ContextualFetch::st=HASH(0x1671ab8) still Active at /home/trushel/perl/perl5155/lib/site_perl/5.15.5/Ima/DBI.pm line 398
prepare_cached(INSERT INTO Actor (name, film, salary)
VALUES (?, ?, ?)
) statement handle DBIx::ContextualFetch::st=HASH(0x1671140) still Active at /home/trushel/perl/perl5155/lib/site_perl/5.15.5/Ima/DBI.pm line 398
prepare_cached(INSERT INTO Actor (name, film, salary)
VALUES (?, ?, ?)
) statement handle DBIx::ContextualFetch::st=HASH(0x1671140) still Active at /home/trushel/perl/perl5155/lib/site_perl/5.15.5/Ima/DBI.pm line 398
prepare_cached(INSERT INTO Actor (name, film, salary)
VALUES (?, ?, ?)
) statement handle DBIx::ContextualFetch::st=HASH(0x1671140) still Active at /home/trushel/perl/perl5155/lib/site_perl/5.15.5/Ima/DBI.pm line 398
prepare_cached(DELETE
FROM   Actor
WHERE  id=?
) statement handle DBIx::ContextualFetch::st=HASH(0x1654e70) still Active at /home/trushel/perl/perl5155/lib/site_perl/5.15.5/Ima/DBI.pm line 398
prepare_cached(DELETE
FROM   Actor
WHERE  id=?
) statement handle DBIx::ContextualFetch::st=HASH(0x1654e70) still Active at /home/trushel/perl/perl5155/lib/site_perl/5.15.5/Ima/DBI.pm line 398
t/cdbi-t-rescache/12-filter.t ............ ok
prepare_cached(INSERT INTO Movies (rating)
VALUES (?)
) statement handle DBIx::ContextualFetch::st=HASH(0x124ac88) still Active at /home/trushel/perl/perl5155/lib/site_perl/5.15.5/Ima/DBI.pm line 398
prepare_cached(INSERT INTO Movies (title)
VALUES (?)
) statement handle DBIx::ContextualFetch::st=HASH(0x1245d98) still Active at /home/trushel/perl/perl5155/lib/site_perl/5.15.5/Ima/DBI.pm line 398
t/cdbi-t-rescache/13-constraint.t ........ ok
prepare_cached(UPDATE Movies
SET    rating = ?
WHERE  title=?
) statement handle DBIx::ContextualFetch::st=HASH(0x2866a80) still Active at /home/trushel/perl/perl5155/lib/site_perl/5.15.5/Ima/DBI.pm line 398
t/cdbi-t-rescache/14-might_have.t ........ ok
t/cdbi-t-rescache/16-reserved.t .......... ok
t/cdbi-t-rescache/17-data_type.t ......... skipped: needs DBD::Pg for testing
Name "Ima::DBI::st::execute" used only once: possible typo at t/cdbi-t-rescache/18-has_a.t line 44.
prepare_cached(INSERT INTO Directors (name, birthday, isinsane)
VALUES (?, ?, ?)
) statement handle DBIx::ContextualFetch::st=HASH(0x2f29ba8) still Active at /home/trushel/perl/perl5155/lib/site_perl/5.15.5/Ima/DBI.pm line 398
prepare_cached(UPDATE Movies
SET    director = ?
WHERE  title=?
) statement handle DBIx::ContextualFetch::st=HASH(0x2f39ff0) still Active at /home/trushel/perl/perl5155/lib/site_perl/5.15.5/Ima/DBI.pm line 398
t/cdbi-t-rescache/18-has_a.t ............. ok
prepare_cached(INSERT INTO Movies (title, director, rating)
VALUES (?, ?, ?)
) statement handle DBIx::ContextualFetch::st=HASH(0x16e4810) still Active at /home/trushel/perl/perl5155/lib/site_perl/5.15.5/Ima/DBI.pm line 398
prepare_cached(INSERT INTO Movies (title, director, rating)
VALUES (?, ?, ?)
) statement handle DBIx::ContextualFetch::st=HASH(0x16e4810) still Active at /home/trushel/perl/perl5155/lib/site_perl/5.15.5/Ima/DBI.pm line 398
prepare_cached(INSERT INTO Movies (title, director, rating)
VALUES (?, ?, ?)
) statement handle DBIx::ContextualFetch::st=HASH(0x16e4810) still Active at /home/trushel/perl/perl5155/lib/site_perl/5.15.5/Ima/DBI.pm line 398
prepare_cached(INSERT INTO Movies (title, director, rating)
VALUES (?, ?, ?)
) statement handle DBIx::ContextualFetch::st=HASH(0x16e4810) still Active at /home/trushel/perl/perl5155/lib/site_perl/5.15.5/Ima/DBI.pm line 398
prepare_cached(INSERT INTO Actor (name, film)
VALUES (?, ?)
) statement handle DBIx::ContextualFetch::st=HASH(0x16d2990) still Active at /home/trushel/perl/perl5155/lib/site_perl/5.15.5/Ima/DBI.pm line 398
prepare_cached(INSERT INTO Actor (name, film)
VALUES (?, ?)
) statement handle DBIx::ContextualFetch::st=HASH(0x16d2990) still Active at /home/trushel/perl/perl5155/lib/site_perl/5.15.5/Ima/DBI.pm line 398
t/cdbi-t-rescache/19-set_sql.t ........... ok
prepare_cached(INSERT INTO Movies (title)
VALUES (?)
) statement handle DBIx::ContextualFetch::st=HASH(0x284e450) still Active at /home/trushel/perl/perl5155/lib/site_perl/5.15.5/Ima/DBI.pm line 398
prepare_cached(INSERT INTO Movies (title)
VALUES (?)
) statement handle DBIx::ContextualFetch::st=HASH(0x284e450) still Active at /home/trushel/perl/perl5155/lib/site_perl/5.15.5/Ima/DBI.pm line 398
prepare_cached(INSERT INTO Movies (title)
VALUES (?)
) statement handle DBIx::ContextualFetch::st=HASH(0x284e450) still Active at /home/trushel/perl/perl5155/lib/site_perl/5.15.5/Ima/DBI.pm line 398
prepare_cached(INSERT INTO Movies (title)
VALUES (?)
) statement handle DBIx::ContextualFetch::st=HASH(0x284e450) still Active at /home/trushel/perl/perl5155/lib/site_perl/5.15.5/Ima/DBI.pm line 398
prepare_cached(INSERT INTO Movies (title)
VALUES (?)
) statement handle DBIx::ContextualFetch::st=HASH(0x284e450) still Active at /home/trushel/perl/perl5155/lib/site_perl/5.15.5/Ima/DBI.pm line 398
t/cdbi-t-rescache/21-iterator.t .......... ok
DBI connect('test','',...) failed: Can't connect to local MySQL server through socket '/var/run/mysqld/mysqld.sock' (2) at t/cdbi-t/testlib/MyBase.pm line 10
t/cdbi-t-rescache/22-deflate_order.t ..... skipped: Need MySQL for this test
prepare_cached(INSERT INTO Movies (title, director)
VALUES (?, ?)
) statement handle DBIx::ContextualFetch::st=HASH(0x11d81d8) still Active at /home/trushel/perl/perl5155/lib/site_perl/5.15.5/Ima/DBI.pm line 398
prepare_cached(DELETE
FROM   Movies
WHERE  title=?
) statement handle DBIx::ContextualFetch::st=HASH(0x11d2a90) still Active at /home/trushel/perl/perl5155/lib/site_perl/5.15.5/Ima/DBI.pm line 398
t/cdbi-t-rescache/23-cascade.t ........... ok
t/cdbi-t-rescache/24-meta_info.t ......... ok
DBI connect('test','',...) failed: Can't connect to local MySQL server through socket '/var/run/mysqld/mysqld.sock' (2) at t/cdbi-t/testlib/MyBase.pm line 10
t/cdbi-t-rescache/25-closures_in_meta.t .. skipped: Need MySQL for this test
t/cdbi-t-rescache/97-pod.t ............... ok
t/cdbi-t-rescache/98-failure.t ........... ok
Use of uninitialized value $name in lc at /home/trushel/perl/perl5155/lib/site_perl/5.15.5/Class/DBI/ColumnGrouper.pm line 91.
t/cdbi-t-rescache/99-misc.t .............. ok
t/cdbi-t/01-columns.t .................... ok
prepare_cached(INSERT INTO Movies (title, director, rating, numexplodingsheep)
VALUES (?, ?, ?, ?)
) statement handle DBIx::ContextualFetch::st=HASH(0x2c81b00) still Active at /home/trushel/perl/perl5155/lib/site_perl/5.15.5/Ima/DBI.pm line 398
prepare_cached(INSERT INTO Movies (title, director)
VALUES (?, ?)
) statement handle DBIx::ContextualFetch::st=HASH(0x2c6b0b8) still Active at /home/trushel/perl/perl5155/lib/site_perl/5.15.5/Ima/DBI.pm line 398
prepare_cached(INSERT INTO Movies (title, director)
VALUES (?, ?)
) statement handle DBIx::ContextualFetch::st=HASH(0x2c6b0b8) still Active at /home/trushel/perl/perl5155/lib/site_perl/5.15.5/Ima/DBI.pm line 398
DBIx::ContextualFetch::db=HASH(0x2caa948)->disconnect invalidates 7 active statement handles (either destroy statement handles or call finish on them before disconnecting) at t/cdbi-t/02-Film.t line 204.
closing dbh with active statement handles at t/cdbi-t/02-Film.t line 204.
prepare_cached(UPDATE Movies
SET    numexplodingsheep = ?
WHERE  title=?
) statement handle DBIx::ContextualFetch::st=HASH(0x2caaee8) still Active at /home/trushel/perl/perl5155/lib/site_perl/5.15.5/Ima/DBI.pm line 398
prepare_cached(UPDATE Movies
SET    rating = ?
WHERE  title=?
) statement handle DBIx::ContextualFetch::st=HASH(0x2c76f60) still Active at /home/trushel/perl/perl5155/lib/site_perl/5.15.5/Ima/DBI.pm line 398
prepare_cached(INSERT INTO Movies (title, rating)
VALUES (?, ?)
) statement handle DBIx::ContextualFetch::st=HASH(0x2c71708) still Active at /home/trushel/perl/perl5155/lib/site_perl/5.15.5/Ima/DBI.pm line 398
t/cdbi-t/02-Film.t ....................... ok
t/cdbi-t/03-subclassing.t ................ ok
t/cdbi-t/04-lazy.t ....................... ok
prepare_cached(INSERT INTO Movies (title, rating)
VALUES (?, ?)
) statement handle DBIx::ContextualFetch::st=HASH(0x169e560) still Active at /home/trushel/perl/perl5155/lib/site_perl/5.15.5/Ima/DBI.pm line 398
prepare_cached(INSERT INTO Movies (title, rating)
VALUES (?, ?)
) statement handle DBIx::ContextualFetch::st=HASH(0x169e560) still Active at /home/trushel/perl/perl5155/lib/site_perl/5.15.5/Ima/DBI.pm line 398
prepare_cached(INSERT INTO Actor (name, film, salary)
VALUES (?, ?, ?)
) statement handle DBIx::ContextualFetch::st=HASH(0x1698e40) still Active at /home/trushel/perl/perl5155/lib/site_perl/5.15.5/Ima/DBI.pm line 398
prepare_cached(INSERT INTO Actor (name, film, salary)
VALUES (?, ?, ?)
) statement handle DBIx::ContextualFetch::st=HASH(0x1698e40) still Active at /home/trushel/perl/perl5155/lib/site_perl/5.15.5/Ima/DBI.pm line 398
prepare_cached(INSERT INTO Actor (name, film, salary)
VALUES (?, ?, ?)
) statement handle DBIx::ContextualFetch::st=HASH(0x1698e40) still Active at /home/trushel/perl/perl5155/lib/site_perl/5.15.5/Ima/DBI.pm line 398
prepare_cached(INSERT INTO Actor (name, film, salary)
VALUES (?, ?, ?)
) statement handle DBIx::ContextualFetch::st=HASH(0x1698e40) still Active at /home/trushel/perl/perl5155/lib/site_perl/5.15.5/Ima/DBI.pm line 398
prepare_cached(INSERT INTO Actor (name, film, salary)
VALUES (?, ?, ?)
) statement handle DBIx::ContextualFetch::st=HASH(0x1698e40) still Active at /home/trushel/perl/perl5155/lib/site_perl/5.15.5/Ima/DBI.pm line 398
t/cdbi-t/05-Query.t ...................... ok
t/cdbi-t/06-hasa.t ....................... ok
t/cdbi-t/08-inheritcols.t ................ ok
prepare_cached(INSERT INTO Actor (name, film, salary)
VALUES (?, ?, ?)
) statement handle DBIx::ContextualFetch::st=HASH(0x2cdefb8) still Active at /home/trushel/perl/perl5155/lib/site_perl/5.15.5/Ima/DBI.pm line 398
prepare_cached(INSERT INTO Actor (name, film, salary)
VALUES (?, ?, ?)
) statement handle DBIx::ContextualFetch::st=HASH(0x2cdefb8) still Active at /home/trushel/perl/perl5155/lib/site_perl/5.15.5/Ima/DBI.pm line 398
prepare_cached(DELETE
FROM   Actor
WHERE  id=?
) statement handle DBIx::ContextualFetch::st=HASH(0x2cc7790) still Active at /home/trushel/perl/perl5155/lib/site_perl/5.15.5/Ima/DBI.pm line 398
prepare_cached(INSERT INTO Movies (title, director, rating)
VALUES (?, ?, ?)
) statement handle DBIx::ContextualFetch::st=HASH(0x2cc1d88) still Active at /home/trushel/perl/perl5155/lib/site_perl/5.15.5/Ima/DBI.pm line 398
t/cdbi-t/09-has_many.t ................... ok
DBI connect('test','',...) failed: Can't connect to local MySQL server through socket '/var/run/mysqld/mysqld.sock' (2) at t/cdbi-t/testlib/MyBase.pm line 10
t/cdbi-t/10-mysql.t ...................... skipped: Need MySQL for this test
t/cdbi-t/11-triggers.t ................... ok
prepare_cached(INSERT INTO Movies (title)
VALUES (?)
) statement handle DBIx::ContextualFetch::st=HASH(0x230e958) still Active at /home/trushel/perl/perl5155/lib/site_perl/5.15.5/Ima/DBI.pm line 398
prepare_cached(INSERT INTO Actor (name, film, salary)
VALUES (?, ?, ?)
) statement handle DBIx::ContextualFetch::st=HASH(0x230dfe0) still Active at /home/trushel/perl/perl5155/lib/site_perl/5.15.5/Ima/DBI.pm line 398
prepare_cached(INSERT INTO Actor (name, film, salary)
VALUES (?, ?, ?)
) statement handle DBIx::ContextualFetch::st=HASH(0x230dfe0) still Active at /home/trushel/perl/perl5155/lib/site_perl/5.15.5/Ima/DBI.pm line 398
prepare_cached(INSERT INTO Actor (name, film, salary)
VALUES (?, ?, ?)
) statement handle DBIx::ContextualFetch::st=HASH(0x230dfe0) still Active at /home/trushel/perl/perl5155/lib/site_perl/5.15.5/Ima/DBI.pm line 398
prepare_cached(DELETE
FROM   Actor
WHERE  id=?
) statement handle DBIx::ContextualFetch::st=HASH(0x22f1018) still Active at /home/trushel/perl/perl5155/lib/site_perl/5.15.5/Ima/DBI.pm line 398
prepare_cached(DELETE
FROM   Actor
WHERE  id=?
) statement handle DBIx::ContextualFetch::st=HASH(0x22f1018) still Active at /home/trushel/perl/perl5155/lib/site_perl/5.15.5/Ima/DBI.pm line 398
t/cdbi-t/12-filter.t ..................... ok
prepare_cached(INSERT INTO Movies (rating)
VALUES (?)
) statement handle DBIx::ContextualFetch::st=HASH(0xf86298) still Active at /home/trushel/perl/perl5155/lib/site_perl/5.15.5/Ima/DBI.pm line 398
prepare_cached(INSERT INTO Movies (title)
VALUES (?)
) statement handle DBIx::ContextualFetch::st=HASH(0xf81468) still Active at /home/trushel/perl/perl5155/lib/site_perl/5.15.5/Ima/DBI.pm line 398
t/cdbi-t/13-constraint.t ................. ok
prepare_cached(UPDATE Movies
SET    rating = ?
WHERE  title=?
) statement handle DBIx::ContextualFetch::st=HASH(0x29c3128) still Active at /home/trushel/perl/perl5155/lib/site_perl/5.15.5/Ima/DBI.pm line 398
t/cdbi-t/14-might_have.t ................. ok
t/cdbi-t/17-data_type.t .................. skipped: needs DBD::Pg for testing
Name "Ima::DBI::st::execute" used only once: possible typo at t/cdbi-t/18-has_a.t line 38.
prepare_cached(INSERT INTO Directors (name, birthday, isinsane)
VALUES (?, ?, ?)
) statement handle DBIx::ContextualFetch::st=HASH(0x2473250) still Active at /home/trushel/perl/perl5155/lib/site_perl/5.15.5/Ima/DBI.pm line 398
prepare_cached(UPDATE Movies
SET    director = ?
WHERE  title=?
) statement handle DBIx::ContextualFetch::st=HASH(0x2483658) still Active at /home/trushel/perl/perl5155/lib/site_perl/5.15.5/Ima/DBI.pm line 398
t/cdbi-t/18-has_a.t ...................... ok
prepare_cached(INSERT INTO Movies (title, director, rating)
VALUES (?, ?, ?)
) statement handle DBIx::ContextualFetch::st=HASH(0x1f9b0f8) still Active at /home/trushel/perl/perl5155/lib/site_perl/5.15.5/Ima/DBI.pm line 398
prepare_cached(INSERT INTO Movies (title, director, rating)
VALUES (?, ?, ?)
) statement handle DBIx::ContextualFetch::st=HASH(0x1f9b0f8) still Active at /home/trushel/perl/perl5155/lib/site_perl/5.15.5/Ima/DBI.pm line 398
prepare_cached(INSERT INTO Movies (title, director, rating)
VALUES (?, ?, ?)
) statement handle DBIx::ContextualFetch::st=HASH(0x1f9b0f8) still Active at /home/trushel/perl/perl5155/lib/site_perl/5.15.5/Ima/DBI.pm line 398
prepare_cached(INSERT INTO Movies (title, director, rating)
VALUES (?, ?, ?)
) statement handle DBIx::ContextualFetch::st=HASH(0x1f9b0f8) still Active at /home/trushel/perl/perl5155/lib/site_perl/5.15.5/Ima/DBI.pm line 398
prepare_cached(INSERT INTO Actor (name, film)
VALUES (?, ?)
) statement handle DBIx::ContextualFetch::st=HASH(0x1f8a058) still Active at /home/trushel/perl/perl5155/lib/site_perl/5.15.5/Ima/DBI.pm line 398
prepare_cached(INSERT INTO Actor (name, film)
VALUES (?, ?)
) statement handle DBIx::ContextualFetch::st=HASH(0x1f8a058) still Active at /home/trushel/perl/perl5155/lib/site_perl/5.15.5/Ima/DBI.pm line 398
t/cdbi-t/19-set_sql.t .................... ok
prepare_cached(INSERT INTO Movies (title)
VALUES (?)
) statement handle DBIx::ContextualFetch::st=HASH(0x2370620) still Active at /home/trushel/perl/perl5155/lib/site_perl/5.15.5/Ima/DBI.pm line 398
prepare_cached(INSERT INTO Movies (title)
VALUES (?)
) statement handle DBIx::ContextualFetch::st=HASH(0x2370620) still Active at /home/trushel/perl/perl5155/lib/site_perl/5.15.5/Ima/DBI.pm line 398
prepare_cached(INSERT INTO Movies (title)
VALUES (?)
) statement handle DBIx::ContextualFetch::st=HASH(0x2370620) still Active at /home/trushel/perl/perl5155/lib/site_perl/5.15.5/Ima/DBI.pm line 398
prepare_cached(INSERT INTO Movies (title)
VALUES (?)
) statement handle DBIx::ContextualFetch::st=HASH(0x2370620) still Active at /home/trushel/perl/perl5155/lib/site_perl/5.15.5/Ima/DBI.pm line 398
prepare_cached(INSERT INTO Movies (title)
VALUES (?)
) statement handle DBIx::ContextualFetch::st=HASH(0x2370620) still Active at /home/trushel/perl/perl5155/lib/site_perl/5.15.5/Ima/DBI.pm line 398
t/cdbi-t/21-iterator.t ................... ok
DBI connect('test','',...) failed: Can't connect to local MySQL server through socket '/var/run/mysqld/mysqld.sock' (2) at t/cdbi-t/testlib/MyBase.pm line 10
t/cdbi-t/22-deflate_order.t .............. skipped: Need MySQL for this test
prepare_cached(INSERT INTO Movies (title, director)
VALUES (?, ?)
) statement handle DBIx::ContextualFetch::st=HASH(0x2bbf7f0) still Active at /home/trushel/perl/perl5155/lib/site_perl/5.15.5/Ima/DBI.pm line 398
prepare_cached(DELETE
FROM   Movies
WHERE  title=?
) statement handle DBIx::ContextualFetch::st=HASH(0x2baf1f0) still Active at /home/trushel/perl/perl5155/lib/site_perl/5.15.5/Ima/DBI.pm line 398
t/cdbi-t/23-cascade.t .................... ok
t/cdbi-t/24-meta_info.t .................. ok
DBI connect('test','',...) failed: Can't connect to local MySQL server through socket '/var/run/mysqld/mysqld.sock' (2) at t/cdbi-t/testlib/MyBase.pm line 10
t/cdbi-t/25-closures_in_meta.t ........... skipped: Need MySQL for this test
t/cdbi-t/97-pod.t ........................ ok
t/cdbi-t/98-failure.t .................... ok
Use of uninitialized value $name in lc at /home/trushel/perl/perl5155/lib/site_perl/5.15.5/Class/DBI/ColumnGrouper.pm line 91.
t/cdbi-t/99-misc.t ....................... ok
All tests successful.
Files=79, Tests=1280, 161 wallclock secs ( 0.40 usr  0.04 sys +  8.50 cusr  1.59 csys = 10.53 CPU)
Result: PASS

------------------------------
PREREQUISITES
------------------------------

Prerequisite modules loaded:

requires:

    Module        Need    Have   
    ------------- ------- -------
    Class::DBI    v3.0.12 3.0.17 
    Data::Page    0       2.02   
    DBD::SQLite   1.08    1.14001
    DBI           0       1.616  
    List::Util    0       1.23_03
    SQL::Abstract 1.55    1.72   

configure_requires:

    Module        Need    Have   
    ------------- ------- -------
    Module::Build 0.38    0.39_01


------------------------------
ENVIRONMENT AND OTHER CONTEXT
------------------------------

Environment variables:

    AUTOMATED_TESTING = 1
    LANG = en_US.UTF-8
    PATH = /usr/local/sbin:/usr/local/bin:/usr/sbin:/usr/bin:/sbin:/bin
    PERL5LIB = 
    PERL5OPT = 
    PERL5_CPANPLUS_IS_RUNNING = 10422
    PERL5_CPAN_IS_RUNNING = 10422
    PERL5_CPAN_IS_RUNNING_IN_RECURSION = 29692,10422
    PERL_CR_SMOKER_CURRENT = Class-DBI-Sweet-0.11
    PERL_EXTUTILS_AUTOINSTALL = --defaultdeps
    PERL_MM_USE_DEFAULT = 1
    SHELL = /bin/bash
    TERM = xterm

Perl special variables (and OS-specific diagnostics, for MSWin32):

    $^X = /home/trushel/perl/perl5155/bin/perl
    $UID/$EUID = 138375 / 138375
    $GID = 5762 4 20 21 24 25 26 30 44 46 104 105 119 122 431 5762
    $EGID = 5762 4 20 21 24 25 26 30 44 46 104 105 119 122 431 5762

Perl module toolchain versions installed:

    Module              Have    
    ------------------- --------
    CPAN                1.9800  
    CPAN::Meta          2.112621
    Cwd                 3.33    
    ExtUtils::CBuilder  0.280202
    ExtUtils::Command   1.17    
    ExtUtils::Install   1.54    
    ExtUtils::MakeMaker 6.63_02 
    ExtUtils::Manifest  1.60    
    ExtUtils::ParseXS   3.05    
    File::Spec          3.33    
    JSON                2.53    
    JSON::PP            2.27200 
    Module::Build       0.39_01 
    Module::Signature   n/a     
    Parse::CPAN::Meta   1.4401  
    Test::Harness       3.23    
    Test::More          0.98    
    YAML                0.77    
    YAML::Syck          1.19    
    version             0.93    


--

Summary of my perl5 (revision 5 version 15 subversion 5) configuration:
   
  Platform:
    osname=linux, osvers=2.6.32-35-generic, archname=x86_64-linux
    uname='linux trushel-glaptop 2.6.32-35-generic #78-ubuntu smp tue oct 11 16:11:24 utc 2011 x86_64 gnulinux '
    config_args=''
    hint=recommended, useposix=true, d_sigaction=define
    useithreads=undef, usemultiplicity=undef
    useperlio=define, d_sfio=undef, uselargefiles=define, usesocks=undef
    use64bitint=define, use64bitall=define, uselongdouble=undef
    usemymalloc=n, bincompat5005=undef
  Compiler:
    cc='cc', ccflags ='-fno-strict-aliasing -pipe -fstack-protector -I/usr/local/include -D_LARGEFILE_SOURCE -D_FILE_OFFSET_BITS=64',
    optimize='-O2',
    cppflags='-fno-strict-aliasing -pipe -fstack-protector -I/usr/local/include'
    ccversion='', gccversion='4.4.3', gccosandvers=''
    intsize=4, longsize=8, ptrsize=8, doublesize=8, byteorder=12345678
    d_longlong=define, longlongsize=8, d_longdbl=define, longdblsize=16
    ivtype='long', ivsize=8, nvtype='double', nvsize=8, Off_t='off_t', lseeksize=8
    alignbytes=8, prototype=define
  Linker and Libraries:
    ld='cc', ldflags =' -fstack-protector -L/usr/local/lib'
    libpth=/usr/local/lib /lib/../lib /usr/lib/../lib /lib /usr/lib /usr/lib/x86_64-linux-gnu /lib64 /usr/lib64
    libs=-lnsl -ldb -ldl -lm -lcrypt -lutil -lc
    perllibs=-lnsl -ldl -lm -lcrypt -lutil -lc
    libc=/lib/libc-2.11.1.so, so=so, useshrplib=false, libperl=libperl.a
    gnulibc_version='2.11.1'
  Dynamic Linking:
    dlsrc=dl_dlopen.xs, dlext=so, d_dlsymun=undef, ccdlflags='-Wl,-E'
    cccdlflags='-fPIC', lddlflags='-shared -O2 -L/usr/local/lib -fstack-protector'


Characteristics of this binary (from libperl): 
  Compile-time options: HAS_TIMES PERLIO_LAYERS PERL_DONT_CREATE_GVSV
                        PERL_MALLOC_WRAP PERL_PRESERVE_IVUV USE_64_BIT_ALL
                        USE_64_BIT_INT USE_LARGE_FILES USE_LOCALE
                        USE_LOCALE_COLLATE USE_LOCALE_CTYPE
                        USE_LOCALE_NUMERIC USE_PERLIO USE_PERL_ATOF
  Built under linux
  Compiled at Dec 12 2011 22:29:38
  %ENV:
    PERL5LIB=""
    PERL5OPT=""
    PERL5_CPANPLUS_IS_RUNNING="10422"
    PERL5_CPAN_IS_RUNNING="10422"
    PERL5_CPAN_IS_RUNNING_IN_RECURSION="29692,10422"
    PERL_CR_SMOKER_CURRENT="Class-DBI-Sweet-0.11"
    PERL_EXTUTILS_AUTOINSTALL="--defaultdeps"
    PERL_MM_USE_DEFAULT="1"
  @INC:
    /home/trushel/perl/perl5155/lib/site_perl/5.15.5/x86_64-linux
    /home/trushel/perl/perl5155/lib/site_perl/5.15.5
    /home/trushel/perl/perl5155/lib/5.15.5/x86_64-linux
    /home/trushel/perl/perl5155/lib/5.15.5
    .