Report for Catalyst-Helper-DBIC-DeploymentHandler-0.001

Back
From: metabase:user:9820532a-708b-1014-9a05-b18a96298da1
Subject: PASS Catalyst-Helper-DBIC-DeploymentHandler-0.001 v5.15.8 GNU/Linux
Date: 2012-02-24T16:20:53Z

This distribution has been tested as part of the CPAN Testers
project, supporting the Perl programming language.  See
http://wiki.cpantesters.org/ for more information or email
questions to cpan-testers-discuss@perl.org


--
Dear Chris Weyl,

This is a computer-generated report for Catalyst-Helper-DBIC-DeploymentHandler-0.001
on perl 5.15.8, created by CPAN-Reporter-1.2004.

Thank you for uploading your work to CPAN.  Congratulations!
All tests were successful.

Sections of this report:

    * Tester comments
    * Program output
    * Prerequisites
    * Environment and other context

------------------------------
TESTER COMMENTS
------------------------------

Additional comments from tester:

this report is from an automated smoke testing program
and was not reviewed by a human for accuracy

------------------------------
PROGRAM OUTPUT
------------------------------

Output from '/usr/bin/make test':

PERL_DL_NONLAZY=1 /home/test/perl5/perlbrew/perls/5.15.8-ld/bin/perl5.15.8 "-MExtUtils::Command::MM" "-e" "test_harness(0, 'blib/lib', 'blib/arch')" t/*.t
t/00-compile.t .................. ok
Use of uninitialized value $^WARNING_BITS in bitwise xor (^) at /home/test/perl5/perlbrew/perls/5.15.8-ld/lib/site_perl/5.15.8/common/sense.pm line 237.
# Testing Catalyst-Helper-DBIC-DeploymentHandler 0.001, Perl 5.015008, /home/test/perl5/perlbrew/perls/5.15.8-ld/bin/perl5.15.8
t/00-load.t ..................... ok
# Testing with Perl 5.015008, /home/test/perl5/perlbrew/perls/5.15.8-ld/bin/perl5.15.8
#     Carp version is 1.25
#     ExtUtils::MakeMaker version is 6.62
#     File::Find version is 1.20
#     File::Spec version is 3.39_01
#     File::Temp version is 0.22
#     Scalar::Util version is 1.23
#     Test::More version is 1.005000002
#     common::sense version is 3.4
#     namespace::autoclean version is 0.13
#     strict version is 1.06
#     warnings version is 1.13
t/000-report-versions.t ......... ok
t/release-consistent-version.t .. skipped: these tests are for release candidate testing
t/release-eol.t ................. skipped: these tests are for release candidate testing
t/release-has-version.t ......... skipped: these tests are for release candidate testing
t/release-no-smart-comments.t ... skipped: these tests are for release candidate testing
t/release-no-tabs.t ............. skipped: these tests are for release candidate testing
t/release-pod-coverage.t ........ skipped: these tests are for release candidate testing
t/release-pod-syntax.t .......... skipped: these tests are for release candidate testing
t/release-portability.t ......... skipped: these tests are for release candidate testing
All tests successful.
Files=11, Tests=13,  3 wallclock secs ( 0.07 usr  0.02 sys +  2.22 cusr  0.24 csys =  2.55 CPU)
Result: PASS

------------------------------
PREREQUISITES
------------------------------

Prerequisite modules loaded:

requires:

    Module               Need  Have        
    -------------------- ----- ------------
    common::sense        0     3.4         
    File::Spec           0     3.39_01     
    namespace::autoclean 0     0.13        

build_requires:

    Module               Need  Have        
    -------------------- ----- ------------
    Carp                 0     1.25        
    File::Find           0     1.20        
    File::Temp           0     0.22        
    perl                 5.004 5.015008    
    Scalar::Util         0     1.23        
    strict               0     1.06        
    Test::More           0.94  1.005000_002
    warnings             0     1.13        

configure_requires:

    Module               Need  Have        
    -------------------- ----- ------------
    ExtUtils::MakeMaker  6.30  6.62        


------------------------------
ENVIRONMENT AND OTHER CONTEXT
------------------------------

Environment variables:

    AUTOMATED_TESTING = 1
    LANG = C
    LC_ALL = C
    MANPATH_WITHOUT_PERLBREW = 
    PATH = /home/test/perl5/perlbrew/bin:/home/test/perl5/perlbrew/perls/5.15.8-ld/bin:~/bin:/usr/bin:/bin
    PATH_WITHOUT_PERLBREW = ~/bin:/usr/bin:/bin
    PERL5LIB = 
    PERL5OPT = 
    PERL5_CPANPLUS_IS_RUNNING = 25042
    PERL5_CPAN_IS_RUNNING = 25042
    PERL5_CPAN_IS_RUNNING_IN_RECURSION = 29532,25042
    PERLBREW_BASHRC_VERSION = 0.41
    PERLBREW_HOME = /home/test/.perlbrew
    PERLBREW_MANPATH = /home/test/perl5/perlbrew/perls/5.15.8-ld/man
    PERLBREW_PATH = /home/test/perl5/perlbrew/bin:/home/test/perl5/perlbrew/perls/5.15.8-ld/bin
    PERLBREW_PERL = 5.15.8-ld
    PERLBREW_ROOT = /home/test/perl5/perlbrew
    PERLBREW_VERSION = 0.41
    PERL_CPANM_OPT = --prompt --mirror file:///mirrors/cpan/
    PERL_CR_SMOKER_CURRENT = Catalyst-Helper-DBIC-DeploymentHandler-0.001
    PERL_EXTUTILS_AUTOINSTALL = --defaultdeps
    PERL_MM_USE_DEFAULT = 1
    SHELL = /bin/bash
    TERM = linux

Perl special variables (and OS-specific diagnostics, for MSWin32):

    $^X = /home/test/perl5/perlbrew/perls/5.15.8-ld/bin/perl5.15.8
    $UID/$EUID = 1001 / 1001
    $GID = 1001 1001
    $EGID = 1001 1001

Perl module toolchain versions installed:

    Module              Have        
    ------------------- ------------
    CPAN                1.9800      
    CPAN::Meta          2.120351    
    Cwd                 3.39_01     
    ExtUtils::CBuilder  0.280205    
    ExtUtils::Command   1.17        
    ExtUtils::Install   1.58        
    ExtUtils::MakeMaker 6.62        
    ExtUtils::Manifest  1.61        
    ExtUtils::ParseXS   3.15        
    File::Spec          3.39_01     
    JSON                2.53        
    JSON::PP            2.27200     
    Module::Build       0.39_02     
    Module::Signature   n/a         
    Parse::CPAN::Meta   1.4402      
    Test::Harness       3.23        
    Test::More          1.005000_002
    YAML                0.80        
    YAML::Syck          1.20        
    version             0.96        


--

Summary of my perl5 (revision 5 version 15 subversion 8) configuration:
   
  Platform:
    osname=linux, osvers=2.6.35-28-generic, archname=x86_64-linux-ld
    uname='linux zippy 2.6.35-28-generic #50-ubuntu smp fri mar 18 18:42:20 utc 2011 x86_64 gnulinux '
    config_args='-de -Dprefix=/home/test/perl5/perlbrew/perls/5.15.8-ld -Duselongdouble -Dusedevel'
    hint=recommended, useposix=true, d_sigaction=define
    useithreads=undef, usemultiplicity=undef
    useperlio=define, d_sfio=undef, uselargefiles=define, usesocks=undef
    use64bitint=define, use64bitall=define, uselongdouble=define
    usemymalloc=n, bincompat5005=undef
  Compiler:
    cc='cc', ccflags ='-fno-strict-aliasing -pipe -fstack-protector -I/usr/local/include -D_LARGEFILE_SOURCE -D_FILE_OFFSET_BITS=64',
    optimize='-O2',
    cppflags='-fno-strict-aliasing -pipe -fstack-protector -I/usr/local/include'
    ccversion='', gccversion='4.4.5', gccosandvers=''
    intsize=4, longsize=8, ptrsize=8, doublesize=8, byteorder=12345678
    d_longlong=define, longlongsize=8, d_longdbl=define, longdblsize=16
    ivtype='long', ivsize=8, nvtype='long double', nvsize=16, Off_t='off_t', lseeksize=8
    alignbytes=16, prototype=define
  Linker and Libraries:
    ld='cc', ldflags =' -fstack-protector -L/usr/local/lib'
    libpth=/usr/local/lib /lib/../lib /usr/lib/../lib /lib /usr/lib /usr/lib/x86_64-linux-gnu /lib64 /usr/lib64
    libs=-lnsl -ldl -lm -lcrypt -lutil -lc
    perllibs=-lnsl -ldl -lm -lcrypt -lutil -lc
    libc=/lib/libc-2.12.1.so, so=so, useshrplib=false, libperl=libperl.a
    gnulibc_version='2.12.1'
  Dynamic Linking:
    dlsrc=dl_dlopen.xs, dlext=so, d_dlsymun=undef, ccdlflags='-Wl,-E'
    cccdlflags='-fPIC', lddlflags='-shared -O2 -L/usr/local/lib -fstack-protector'


Characteristics of this binary (from libperl): 
  Compile-time options: HAS_TIMES PERLIO_LAYERS PERL_DONT_CREATE_GVSV
                        PERL_MALLOC_WRAP PERL_PRESERVE_IVUV PERL_USE_DEVEL
                        USE_64_BIT_ALL USE_64_BIT_INT USE_LARGE_FILES
                        USE_LOCALE USE_LOCALE_COLLATE USE_LOCALE_CTYPE
                        USE_LOCALE_NUMERIC USE_LONG_DOUBLE USE_PERLIO
                        USE_PERL_ATOF
  Built under linux
  Compiled at Feb 23 2012 02:01:15
  %ENV:
    PERL5LIB=""
    PERL5OPT=""
    PERL5_CPANPLUS_IS_RUNNING="25042"
    PERL5_CPAN_IS_RUNNING="25042"
    PERL5_CPAN_IS_RUNNING_IN_RECURSION="29532,25042"
    PERLBREW_BASHRC_VERSION="0.41"
    PERLBREW_HOME="/home/test/.perlbrew"
    PERLBREW_MANPATH="/home/test/perl5/perlbrew/perls/5.15.8-ld/man"
    PERLBREW_PATH="/home/test/perl5/perlbrew/bin:/home/test/perl5/perlbrew/perls/5.15.8-ld/bin"
    PERLBREW_PERL="5.15.8-ld"
    PERLBREW_ROOT="/home/test/perl5/perlbrew"
    PERLBREW_VERSION="0.41"
    PERL_CPANM_OPT="--prompt --mirror file:///mirrors/cpan/"
    PERL_CR_SMOKER_CURRENT="Catalyst-Helper-DBIC-DeploymentHandler-0.001"
    PERL_EXTUTILS_AUTOINSTALL="--defaultdeps"
    PERL_MM_USE_DEFAULT="1"
  @INC:
    /home/test/perl5/perlbrew/perls/5.15.8-ld/lib/site_perl/5.15.8/x86_64-linux-ld
    /home/test/perl5/perlbrew/perls/5.15.8-ld/lib/site_perl/5.15.8
    /home/test/perl5/perlbrew/perls/5.15.8-ld/lib/5.15.8/x86_64-linux-ld
    /home/test/perl5/perlbrew/perls/5.15.8-ld/lib/5.15.8
    .