API-Instagram v0.013 Perl 5 v5.28.3 arm64-freebsd

Status
Pass
From
Slaven Rezić
Dist
API-Instagram v0.013
Platform
Perl 5 v5.28.3 arm64-freebsd
Date
2024-09-30 04:21:53
ID
85ab817c-7ee3-11ef-ad15-e8266e8775ea
This distribution has been tested as part of the CPAN Testers
project, supporting the Perl programming language.  See
http://wiki.cpantesters.org/ for more information or email
questions to cpan-testers-discuss@perl.org


--
Dear Gabriel Vieira,

This is a computer-generated report for API-Instagram-0.013
on perl 5.28.3, created by CPAN-Reporter-1.2019.

Thank you for uploading your work to CPAN.  Congratulations!
All tests were successful.

Sections of this report:

    * Tester comments
    * Program output
    * Prerequisites
    * Environment and other context

------------------------------
TESTER COMMENTS
------------------------------

Additional comments from tester:

none provided

------------------------------
PROGRAM OUTPUT
------------------------------

Output from '/usr/bin/make test':

PERL_DL_NONLAZY=1 "/usr/perl5.28.3/bin/perl" "-MExtUtils::Command::MM" "-MTest::Harness" "-e" "undef *Test::Harness::Switches; test_harness(0, 'blib/lib', 'blib/arch')" t/*.t
t/00-comment.t ............ ok
t/00-compile.t ............ ok
ERROR: code required for generating access token. at t/00-instagram.t line 33.
User already authorized with code: 789 at t/00-instagram.t line 37.
A valid access_token is required at /home/cpansand/.cpan/build/2024093004/API-Instagram-0.013-0/blib/lib/API/Instagram/User.pm line 131.
A valid access_token is required at /home/cpansand/.cpan/build/2024093004/API-Instagram-0.013-0/blib/lib/API/Instagram/User.pm line 82.
t/00-instagram.t .......... ok
t/00-load.t ............... ok
t/00-location.t ........... ok
&Digest::MD5::md5_hex function called with reference argument at /home/cpansand/.cpan/build/2024093004/API-Instagram-0.013-0/blib/lib/API/Instagram.pm line 117, <DATA> line 85.
t/00-media.t .............. ok
t/00-search.t ............. ok
t/00-tag.t ................ ok
The feed is only available for the authenticated user at t/00-user.t line 47.
The liked-media is only available for the authenticated user at t/00-user.t line 48.
The requested-by is only available for the authenticated user at t/00-user.t line 49.
t/00-user.t ............... ok
&Digest::MD5::md5_hex function called with reference argument at /home/cpansand/.cpan/build/2024093004/API-Instagram-0.013-0/blib/lib/API/Instagram.pm line 117, <DATA> line 6.
Not available for location with no ID. at /home/cpansand/.cpan/build/2024093004/API-Instagram-0.013-0/blib/lib/API/Instagram/Location.pm line 24.
Not available for location with no ID. at t/01-location.t line 29.
t/01-location.t ........... ok
t/01-media.t .............. ok
t/01-search.t ............. ok
t/01-user.t ............... ok
The feed is only available for the authenticated user at t/02-user.t line 30.
The liked-media is only available for the authenticated user at t/02-user.t line 31.
The requested-by is only available for the authenticated user at t/02-user.t line 32.
t/02-user.t ............... ok
t/03-user.t ............... ok
Invalid action at t/04-user.t line 31.
t/04-user.t ............... ok
t/release-pod-coverage.t .. skipped: these tests are for release candidate testing
t/release-pod-syntax.t .... skipped: these tests are for release candidate testing
All tests successful.
Files=18, Tests=140,  2 wallclock secs ( 0.07 usr  0.05 sys +  1.70 cusr  0.30 csys =  2.13 CPU)
Result: PASS

------------------------------
PREREQUISITES
------------------------------

Prerequisite modules loaded:

requires:

    Module                    Need Have      
    ------------------------- ---- ----------
    Carp                      0    1.50      
    Data::Dumper              0    2.183     
    Digest::MD5               0    2.59      
    experimental              0    0.032     
    Furl                      0    3.14      
    JSON                      0    4.10      
    Moo                       0    2.005005  
    strict                    0    1.11      
    Time::Moment              0    0.44      
    URI                       0    5.28      
    warnings                  0    1.42      

build_requires:

    Module                    Need Have      
    ------------------------- ---- ----------
    ExtUtils::MakeMaker       0    7.70      
    File::Spec                0    3.75      
    Furl::Response            0    0         
    Inline::Files             0    0.71      
    IO::Handle                0    1.55      
    IPC::Open3                0    1.20      
    Test::MockObject::Extends 0    1.20200122
    Test::More                0    1.302202  

configure_requires:

    Module                    Need Have      
    ------------------------- ---- ----------
    ExtUtils::MakeMaker       0    7.70      


------------------------------
ENVIRONMENT AND OTHER CONTEXT
------------------------------

Environment variables:

    LANG = C.UTF-8
    PATH = /usr/local/bin:/usr/bin:/bin:/usr/local/sbin:/usr/sbin:/sbin:/home/cpansand/bin/freebsd14.0:/home/cpansand/bin/sh:/home/cpansand/bin:/usr/games:/home/cpansand/devel:/home/eserte/src/srezic-misc/scripts
    PERL5LIB = /home/cpansand/.cpan/build/2024093004/Inline-Files-0.71-0/blib/arch:/home/cpansand/.cpan/build/2024093004/Inline-Files-0.71-0/blib/lib:/home/cpansand/.cpan/build/2024093004/Operator-Util-0.05-0/blib/arch:/home/cpansand/.cpan/build/2024093004/Operator-Util-0.05-0/blib/lib
    PERL5OPT = 
    PERL5_CPANPLUS_IS_RUNNING = 49511
    PERL5_CPAN_IS_RUNNING = 49511
    PERL5_CPAN_IS_RUNNING_IN_RECURSION = 77632,49511
    PERLDOC = -MPod::Perldoc::ToTextOverstrike
    PERL_BATCH = yes
    PERL_CANARY_STABILITY_NOPROMPT = 1
    PERL_CPAN_REPORTER_CONFIG = /var/tmp/cpansmoker-1023/2024092920/cpanreporter_000_config.ini
    PERL_EXTUTILS_AUTOINSTALL = --defaultdeps
    PERL_USE_UNSAFE_INC = 1
    SHELL = /usr/local/bin/zsh
    TERM = screen
    TMPDIR = /var/tmp/cpansmoker-1023/2024092920

Perl special variables (and OS-specific diagnostics, for MSWin32):

    $^X = /usr/perl5.28.3/bin/perl
    $UID/$EUID = 1023 / 1023
    $GID = 1023 1023
    $EGID = 1023 1023

Perl module toolchain versions installed:

    Module              Have    
    ------------------- --------
    CPAN                2.20    
    CPAN::Meta          2.150010
    Cwd                 3.75    
    ExtUtils::CBuilder  0.280236
    ExtUtils::Command   7.70    
    ExtUtils::Install   2.22    
    ExtUtils::MakeMaker 7.70    
    ExtUtils::Manifest  1.75    
    ExtUtils::ParseXS   3.51    
    File::Spec          3.75    
    JSON                4.10    
    JSON::PP            4.16    
    Module::Build       0.4234  
    Module::Signature   n/a     
    Parse::CPAN::Meta   2.150010
    Test2               1.302202
    Test::Harness       3.42    
    Test::More          1.302202
    YAML                1.31    
    YAML::Syck          1.34    
    version             0.9923  


--

Summary of my perl5 (revision 5 version 28 subversion 3) configuration:
   
  Platform:
    osname=freebsd
    osvers=14.1-stable
    archname=arm64-freebsd
    uname='freebsd cloud9.bbbike.org 14.1-stable freebsd 14.1-stable stable14-n268041-bb7b7b0eb7cf generic arm64 '
    config_args='-ds -e -Dprefix=/usr/perl5.28.3 -Dcf_email=srezic@cpan.org -Doptimize=-O2 -pipe'
    hint=recommended
    useposix=true
    d_sigaction=define
    useithreads=undef
    usemultiplicity=undef
    use64bitint=define
    use64bitall=define
    uselongdouble=undef
    usemymalloc=n
    default_inc_excludes_dot=define
    bincompat5005=undef
  Compiler:
    cc='cc'
    ccflags ='-DHAS_FPSETMASK -DHAS_FLOATINGPOINT_H -fno-strict-aliasing -pipe -fstack-protector-strong -I/usr/local/include'
    optimize='-O2 -pipe'
    cppflags='-DHAS_FPSETMASK -DHAS_FLOATINGPOINT_H -fno-strict-aliasing -pipe -fstack-protector-strong -I/usr/local/include'
    ccversion=''
    gccversion='FreeBSD Clang 18.1.6 (https://github.com/llvm/llvm-project.git llvmorg-18.1.6-0-g1118c2e05e67)'
    gccosandvers=''
    intsize=4
    longsize=8
    ptrsize=8
    doublesize=8
    byteorder=12345678
    doublekind=3
    d_longlong=define
    longlongsize=8
    d_longdbl=define
    longdblsize=16
    longdblkind=1
    ivtype='long'
    ivsize=8
    nvtype='double'
    nvsize=8
    Off_t='off_t'
    lseeksize=8
    alignbytes=8
    prototype=define
  Linker and Libraries:
    ld='cc'
    ldflags ='-Wl,-E  -fstack-protector-strong -L/usr/local/lib'
    libpth=/usr/lib /usr/local/lib /usr/lib/clang/18/lib /usr/lib
    libs=-lpthread -lgdbm -ldl -lm -lcrypt -lutil -lc
    perllibs=-lpthread -ldl -lm -lcrypt -lutil -lc
    libc=
    so=so
    useshrplib=false
    libperl=libperl.a
    gnulibc_version=''
  Dynamic Linking:
    dlsrc=dl_dlopen.xs
    dlext=so
    d_dlsymun=undef
    ccdlflags=' '
    cccdlflags='-DPIC -fPIC'
    lddlflags='-shared  -L/usr/local/lib -fstack-protector-strong'


Characteristics of this binary (from libperl): 
  Compile-time options:
    HAS_TIMES
    PERLIO_LAYERS
    PERL_COPY_ON_WRITE
    PERL_DONT_CREATE_GVSV
    PERL_MALLOC_WRAP
    PERL_OP_PARENT
    PERL_PRESERVE_IVUV
    USE_64_BIT_ALL
    USE_64_BIT_INT
    USE_LARGE_FILES
    USE_LOCALE
    USE_LOCALE_COLLATE
    USE_LOCALE_CTYPE
    USE_LOCALE_NUMERIC
    USE_LOCALE_TIME
    USE_PERLIO
    USE_PERL_ATOF
  Locally applied patches:
    Devel::PatchPerl 2.08
  Built under freebsd
  Compiled at Jun 30 2024 07:39:37
  %ENV:
    PERL5LIB="/home/cpansand/.cpan/build/2024093004/Inline-Files-0.71-0/blib/arch:/home/cpansand/.cpan/build/2024093004/Inline-Files-0.71-0/blib/lib:/home/cpansand/.cpan/build/2024093004/Operator-Util-0.05-0/blib/arch:/home/cpansand/.cpan/build/2024093004/Operator-Util-0.05-0/blib/lib"
    PERL5OPT=""
    PERL5_CPANPLUS_IS_RUNNING="49511"
    PERL5_CPAN_IS_RUNNING="49511"
    PERL5_CPAN_IS_RUNNING_IN_RECURSION="77632,49511"
    PERLDOC="-MPod::Perldoc::ToTextOverstrike"
    PERL_BATCH="yes"
    PERL_CANARY_STABILITY_NOPROMPT="1"
    PERL_CPAN_REPORTER_CONFIG="/var/tmp/cpansmoker-1023/2024092920/cpanreporter_000_config.ini"
    PERL_EXTUTILS_AUTOINSTALL="--defaultdeps"
    PERL_USE_UNSAFE_INC="1"
  @INC:
    /home/cpansand/.cpan/build/2024093004/Inline-Files-0.71-0/blib/arch
    /home/cpansand/.cpan/build/2024093004/Inline-Files-0.71-0/blib/lib
    /home/cpansand/.cpan/build/2024093004/Operator-Util-0.05-0/blib/arch
    /home/cpansand/.cpan/build/2024093004/Operator-Util-0.05-0/blib/lib
    /usr/perl5.28.3/lib/site_perl/5.28.3/arm64-freebsd
    /usr/perl5.28.3/lib/site_perl/5.28.3
    /usr/perl5.28.3/lib/5.28.3/arm64-freebsd
    /usr/perl5.28.3/lib/5.28.3
    .