HTML-Template v2.97 Perl 5 v5.24.1 x86_64-linux
- Status
- Pass
- From
- Andreas J. König (ANDK)
- Dist
-
HTML-Template v2.97
- Platform
- Perl 5 v5.24.1 x86_64-linux
- Date
- 2018-11-24 14:30:42
- ID
- 857c0984-eff5-11e8-a543-88dfb233af3f
This distribution has been tested as part of the CPAN Testers
project, supporting the Perl programming language. See
http://wiki.cpantesters.org/ for more information or email
questions to cpan-testers-discuss@perl.org
--
Dear Sam Tregar,
This is a computer-generated report for HTML-Template-2.97
on perl 5.24.1, created by CPAN-Reporter-1.2018.
Thank you for uploading your work to CPAN. Congratulations!
All tests were successful.
Sections of this report:
* Tester comments
* Program output
* Prerequisites
* Environment and other context
------------------------------
TESTER COMMENTS
------------------------------
Additional comments from tester:
this report is from an automated smoke testing program
and was not reviewed by a human for accuracy
------------------------------
PROGRAM OUTPUT
------------------------------
Output from '/usr/bin/make test':
PERL_DL_NONLAZY=1 "/home/sand/src/perl/repoperls/installed-perls/host/k93msid/v5.24.1/da1c/bin/perl" "-MExtUtils::Command::MM" "-MTest::Harness" "-e" "undef *Test::Harness::Switches; test_harness(0, 'blib/lib', 'blib/arch')" t/*.t
t/01-bad-args.t ............. ok
t/01-coderefs.t ............. ok
t/02-parse.t ................ ok
t/02-random.t ............... ok
t/03-associate.t ............ ok
t/03-else_else_bug.t ........ ok
t/04-default-escape.t ....... ok
t/04-default_with_escape.t .. ok
t/04-escape.t ............... ok
t/04-no_taintmode.t ......... ok
t/04-type-source.t .......... ok
t/05-blind-cache.t .......... ok
t/05-force_untaint.t ........ ok
t/05-nested_global.t ........ ok
t/06-file-cache-dir.t ....... ok
t/07-double-file-cache.t .... ok
t/08-cache-debug.t .......... ok
t/09-caching-precluded.t .... ok
t/10-param.t ................ ok
t/11-non-file-templates.t ... ok
t/12-open_mode.t ............ ok
t/12-query.t ................ ok
t/12-utf8.t ................. ok
t/13-loop-boolean.t ......... ok
t/13-loop-context.t ......... ok
t/13-loop-repeated.t ........ ok
t/14-includes.t ............. ok
t/15-comment.t .............. skipped: not implemented yet
t/16-config.t ............... ok
t/99-old-test-pl.t .......... ok
t/author-pod-syntax.t ....... skipped: these tests are for testing by the author
All tests successful.
Files=31, Tests=608, 8 wallclock secs ( 0.08 usr 0.14 sys + 2.05 cusr 0.60 csys = 2.87 CPU)
Result: PASS
------------------------------
PREREQUISITES
------------------------------
Prerequisite modules loaded:
requires:
Module Need Have
------------------- ---- --------
Carp 0 1.40
CGI 0 4.40
Digest::MD5 0 2.54
File::Spec 0.82 3.75
Scalar::Util 0 1.50
build_requires:
Module Need Have
------------------- ---- --------
ExtUtils::MakeMaker 0 7.34
File::Temp 0 0.2308
Test::More 0 1.302140
Test::Pod 0 1.52
configure_requires:
Module Need Have
------------------- ---- --------
ExtUtils::MakeMaker 0 7.34
------------------------------
ENVIRONMENT AND OTHER CONTEXT
------------------------------
Environment variables:
AUTOMATED_TESTING = 1
LANG = en_US.UTF-8
PATH = /home/sand/bin:/usr/local/bin:/usr/bin:/bin:/usr/games:/usr/local/perl/bin:/usr/X11/bin:/sbin:/usr/sbin
PERL5LIB = /tmp/loop_over_bdir-11920-KmHGnV/App-Cache-0.37-0/blib/arch:/tmp/loop_over_bdir-11920-KmHGnV/App-Cache-0.37-0/blib/lib
PERL5OPT =
PERL5_CPANPLUS_IS_RUNNING = 11922
PERL5_CPAN_IS_RUNNING = 11922
PERL5_CPAN_IS_RUNNING_IN_RECURSION = 2358,11922
PERL_CANARY_STABILITY_NOPROMPT = 1
PERL_MM_USE_DEFAULT = 1
PERL_USE_UNSAFE_INC = 1
SHELL = /usr/bin/zsh
TERM = screen
Perl special variables (and OS-specific diagnostics, for MSWin32):
$^X = /home/sand/src/perl/repoperls/installed-perls/host/k93msid/v5.24.1/da1c/bin/perl
$UID/$EUID = 1005 / 1005
$GID = 1005 1005
$EGID = 1005 1005
Perl module toolchain versions installed:
Module Have
------------------- --------
CPAN 2.21
CPAN::Meta 2.150010
Cwd 3.75
ExtUtils::CBuilder 0.280230
ExtUtils::Command 7.34
ExtUtils::Install 2.06
ExtUtils::MakeMaker 7.34
ExtUtils::Manifest 1.70
ExtUtils::ParseXS 3.31
File::Spec 3.75
JSON 2.97001
JSON::PP 2.97001
Module::Build 0.4224
Module::Signature 0.83
Parse::CPAN::Meta 2.150010
Test::Harness 3.42
Test::More 1.302140
YAML 1.26
YAML::Syck 1.31
version 0.9916
--
Summary of my perl5 (revision 5 version 24 subversion 1) configuration:
Derived from: 443bd156a6baaf7a8fe6b6b05fcf6c4178140ed2
Platform:
osname=linux, osvers=4.18.0-2-amd64, archname=x86_64-linux
uname='linux k93msid 4.18.0-2-amd64 #1 smp debian 4.18.10-2 (2018-10-07) x86_64 gnulinux '
config_args='-Dprefix=/home/sand/src/perl/repoperls/installed-perls/host/k93msid/v5.24.1/da1c -Dmyhostname=k93msid -Dinstallusrbinperl=n -Uversiononly -Dusedevel -des -Ui_db -Dlibswanted=cl pthread socket inet nsl gdbm dbm malloc dl ld sun m crypt sec util c cposix posix ucb BSD gdbm_compat -Uuseithreads -Uuselongdouble -DEBUGGING=-g'
hint=recommended, useposix=true, d_sigaction=define
useithreads=undef, usemultiplicity=undef
use64bitint=define, use64bitall=define, uselongdouble=undef
usemymalloc=n, bincompat5005=undef
Compiler:
cc='cc', ccflags ='-fwrapv -fno-strict-aliasing -pipe -fstack-protector-strong -I/usr/local/include -D_LARGEFILE_SOURCE -D_FILE_OFFSET_BITS=64',
optimize='-O2 -g',
cppflags='-fwrapv -fno-strict-aliasing -pipe -fstack-protector-strong -I/usr/local/include'
ccversion='', gccversion='8.2.0', gccosandvers=''
intsize=4, longsize=8, ptrsize=8, doublesize=8, byteorder=12345678, doublekind=3
d_longlong=define, longlongsize=8, d_longdbl=define, longdblsize=16, longdblkind=3
ivtype='long', ivsize=8, nvtype='double', nvsize=8, Off_t='off_t', lseeksize=8
alignbytes=8, prototype=define
Linker and Libraries:
ld='cc', ldflags =' -fstack-protector-strong -L/usr/local/lib'
libpth=/usr/local/lib /usr/lib/gcc/x86_64-linux-gnu/8/include-fixed /usr/include/x86_64-linux-gnu /usr/lib /lib/x86_64-linux-gnu /lib/../lib /usr/lib/x86_64-linux-gnu /usr/lib/../lib /lib
libs=-lpthread -lnsl -ldl -lm -lcrypt -lutil -lc
perllibs=-lpthread -lnsl -ldl -lm -lcrypt -lutil -lc
libc=libc-2.27.so, so=so, useshrplib=false, libperl=libperl.a
gnulibc_version='2.27'
Dynamic Linking:
dlsrc=dl_dlopen.xs, dlext=so, d_dlsymun=undef, ccdlflags='-Wl,-E'
cccdlflags='-fPIC', lddlflags='-shared -O2 -g -L/usr/local/lib -fstack-protector-strong'
Characteristics of this binary (from libperl):
Compile-time options: HAS_TIMES PERLIO_LAYERS PERL_COPY_ON_WRITE
PERL_DONT_CREATE_GVSV
PERL_HASH_FUNC_ONE_AT_A_TIME_HARD PERL_MALLOC_WRAP
PERL_PRESERVE_IVUV PERL_USE_DEVEL USE_64_BIT_ALL
USE_64_BIT_INT USE_LARGE_FILES USE_LOCALE
USE_LOCALE_COLLATE USE_LOCALE_CTYPE
USE_LOCALE_NUMERIC USE_LOCALE_TIME USE_PERLIO
USE_PERL_ATOF
Locally applied patches:
uncommitted-changes
Built under linux
Compiled at Oct 28 2018 21:46:56
%ENV:
PERL5LIB="/tmp/loop_over_bdir-11920-KmHGnV/App-Cache-0.37-0/blib/arch:/tmp/loop_over_bdir-11920-KmHGnV/App-Cache-0.37-0/blib/lib"
PERL5OPT=""
PERL5_CPANPLUS_IS_RUNNING="11922"
PERL5_CPAN_IS_RUNNING="11922"
PERL5_CPAN_IS_RUNNING_IN_RECURSION="2358,11922"
PERL_CANARY_STABILITY_NOPROMPT="1"
PERL_MM_USE_DEFAULT="1"
PERL_USE_UNSAFE_INC="1"
@INC:
/tmp/loop_over_bdir-11920-KmHGnV/App-Cache-0.37-0/blib/arch
/tmp/loop_over_bdir-11920-KmHGnV/App-Cache-0.37-0/blib/lib
/home/sand/src/perl/repoperls/installed-perls/host/k93msid/v5.24.1/da1c/lib/site_perl/5.24.1/x86_64-linux
/home/sand/src/perl/repoperls/installed-perls/host/k93msid/v5.24.1/da1c/lib/site_perl/5.24.1
/home/sand/src/perl/repoperls/installed-perls/host/k93msid/v5.24.1/da1c/lib/5.24.1/x86_64-linux
/home/sand/src/perl/repoperls/installed-perls/host/k93msid/v5.24.1/da1c/lib/5.24.1
.