Bio-Chado-Schema v0.20000 Perl 5 v5.22.4 x86_64-linux-thread-multi

Status
Pass
From
Andreas J. König (ANDK)
Dist
Bio-Chado-Schema v0.20000
Platform
Perl 5 v5.22.4 x86_64-linux-thread-multi
Date
2017-09-29 06:00:40
ID
8558f0c2-a4db-11e7-9de0-b48f5c51535f
This distribution has been tested as part of the CPAN Testers
project, supporting the Perl programming language.  See
http://wiki.cpantesters.org/ for more information or email
questions to cpan-testers-discuss@perl.org


--
Dear Robert Buels,

This is a computer-generated report for Bio-Chado-Schema-0.20000
on perl 5.22.4, created by CPAN-Reporter-1.2018.

Thank you for uploading your work to CPAN.  Congratulations!
All tests were successful.

Sections of this report:

    * Tester comments
    * Program output
    * Prerequisites
    * Environment and other context

------------------------------
TESTER COMMENTS
------------------------------

Additional comments from tester:

this report is from an automated smoke testing program
and was not reviewed by a human for accuracy

------------------------------
PROGRAM OUTPUT
------------------------------

Output from '/usr/bin/make test':

PERL_DL_NONLAZY=1 "/home/sand/src/perl/repoperls/installed-perls/host/k93msid/v5.22.4/276a/bin/perl" "-MExtUtils::Command::MM" "-MTest::Harness" "-e" "undef *Test::Harness::Switches; test_harness(0, 'blib/lib', 'blib/arch')" t/*.t t/Cv/*.t t/Phylogeny/*.t t/Sequence/*.t t/Stock/*.t
t/001_basics.t ............ ok
t/010_organism.t .......... ok
t/Cv/010_cvterm.t ......... ok
t/get_cvterm.t ............ ok
t/Phylogeny/phylonode.t ... ok
t/plugins.t ............... ok
t/release-eol.t ........... skipped: these tests are for release candidate testing
t/release-no-tabs.t ....... skipped: these tests are for release candidate testing
t/release-pod-coverage.t .. skipped: these tests are for release candidate testing
t/release-pod-syntax.t .... skipped: these tests are for release candidate testing
t/Sequence/010_feature.t .. ok
t/Sequence/synonym.t ...... ok
t/Stock/010_stock.t ....... ok
All tests successful.
Files=13, Tests=111, 19 wallclock secs ( 0.07 usr  0.06 sys + 11.86 cusr  0.97 csys = 12.96 CPU)
Result: PASS

------------------------------
PREREQUISITES
------------------------------

Prerequisite modules loaded:

requires:

    Module                       Need     Have    
    ---------------------------- -------- --------
    base                         0        2.22_01 
    Bio::PrimarySeq              0        0       
    Bio::Range                   0        1.007001
    Bio::Root::Version           1.005002 1.007001
    Carp                         0        1.38    
    Carp::Clan                   0        6.06    
    DBIx::Class                  0        0.082840
    DBIx::Class::Core            0        0       
    DBIx::Class::ResultSet       0        0       
    DBIx::Class::Schema          0        0       
    DBIx::Class::Tree::NestedSet 0.07     0.10    
    strict                       0        1.09    
    warnings                     0        1.34    

build_requires:

    Module                       Need     Have    
    ---------------------------- -------- --------
    DBD::SQLite                  1.14     1.54    
    FindBin                      0        1.51    
    SQL::Translator              0.11005  0.11021 
    Test::Exception              0.27     0.43    
    Test::More                   0.87     1.302096
    Test::Warn                   0        0.32    

configure_requires:

    Module                       Need     Have    
    ---------------------------- -------- --------
    ExtUtils::MakeMaker          6.30     7.30    


------------------------------
ENVIRONMENT AND OTHER CONTEXT
------------------------------

Environment variables:

    AUTOMATED_TESTING = 1
    LANG = en_US.UTF-8
    PATH = /home/sand/bin:/usr/local/bin:/usr/bin:/bin:/usr/games:/usr/local/perl/bin:/usr/X11/bin:/sbin:/usr/sbin
    PERL5LIB = /tmp/loop_over_bdir-10082-W2Rb8g/DBIx-Class-Tree-NestedSet-0.10-0/blib/arch:/tmp/loop_over_bdir-10082-W2Rb8g/DBIx-Class-Tree-NestedSet-0.10-0/blib/lib:/tmp/loop_over_bdir-10082-W2Rb8g/Bio-BLAST-0.4-0/blib/arch:/tmp/loop_over_bdir-10082-W2Rb8g/Bio-BLAST-0.4-0/blib/lib
    PERL5OPT = 
    PERL5_CPANPLUS_IS_RUNNING = 10085
    PERL5_CPAN_IS_RUNNING = 10085
    PERL5_CPAN_IS_RUNNING_IN_RECURSION = 5668,10085
    PERL_CANARY_STABILITY_NOPROMPT = 1
    PERL_MM_USE_DEFAULT = 1
    PERL_USE_UNSAFE_INC = 1
    SHELL = /usr/bin/zsh
    TERM = screen

Perl special variables (and OS-specific diagnostics, for MSWin32):

    $^X = /home/sand/src/perl/repoperls/installed-perls/host/k93msid/v5.22.4/276a/bin/perl
    $UID/$EUID = 1005 / 1005
    $GID = 1005 1005
    $EGID = 1005 1005

Perl module toolchain versions installed:

    Module              Have      
    ------------------- ----------
    CPAN                2.18      
    CPAN::Meta          2.150010  
    Cwd                 3.62      
    ExtUtils::CBuilder  0.280226  
    ExtUtils::Command   7.30      
    ExtUtils::Install   2.06      
    ExtUtils::MakeMaker 7.30      
    ExtUtils::Manifest  1.70      
    ExtUtils::ParseXS   3.35      
    File::Spec          3.62      
    JSON                2.94      
    JSON::PP            2.27300_01
    Module::Build       0.4224    
    Module::Signature   0.81      
    Parse::CPAN::Meta   2.150010  
    Test::Harness       3.39      
    Test::More          1.302096  
    YAML                1.23      
    YAML::Syck          1.30      
    version             0.9918    


--

Summary of my perl5 (revision 5 version 22 subversion 4) configuration:
  Derived from: a26666a1317770d8a2228ac3657ba58020c3511f
  Platform:
    osname=linux, osvers=4.9.0-2-amd64, archname=x86_64-linux-thread-multi
    uname='linux k93msid 4.9.0-2-amd64 #1 smp debian 4.9.18-1 (2017-03-30) x86_64 gnulinux '
    config_args='-Dprefix=/home/sand/src/perl/repoperls/installed-perls/host/k93msid/v5.22.4/276a -Dmyhostname=k93msid -Dinstallusrbinperl=n -Uversiononly -Dusedevel -des -Ui_db -Dlibswanted=cl pthread socket inet nsl gdbm dbm malloc dl ld sun m crypt sec util c cposix posix ucb BSD gdbm_compat -Duseithreads -Uuselongdouble -DDEBUGGING=both'
    hint=recommended, useposix=true, d_sigaction=define
    useithreads=define, usemultiplicity=define
    use64bitint=define, use64bitall=define, uselongdouble=undef
    usemymalloc=n, bincompat5005=undef
  Compiler:
    cc='cc', ccflags ='-D_REENTRANT -D_GNU_SOURCE -fwrapv -DDEBUGGING -fno-strict-aliasing -pipe -fstack-protector-strong -I/usr/local/include -D_LARGEFILE_SOURCE -D_FILE_OFFSET_BITS=64',
    optimize='-O2 -g',
    cppflags='-D_REENTRANT -D_GNU_SOURCE -fwrapv -DDEBUGGING -fno-strict-aliasing -pipe -fstack-protector-strong -I/usr/local/include'
    ccversion='', gccversion='6.3.0 20170406', gccosandvers=''
    intsize=4, longsize=8, ptrsize=8, doublesize=8, byteorder=12345678, doublekind=3
    d_longlong=define, longlongsize=8, d_longdbl=define, longdblsize=16, longdblkind=3
    ivtype='long', ivsize=8, nvtype='double', nvsize=8, Off_t='off_t', lseeksize=8
    alignbytes=8, prototype=define
  Linker and Libraries:
    ld='cc', ldflags =' -fstack-protector-strong -L/usr/local/lib'
    libpth=/usr/local/lib /usr/lib/gcc/x86_64-linux-gnu/6/include-fixed /usr/include/x86_64-linux-gnu /usr/lib /lib/x86_64-linux-gnu /lib/../lib /usr/lib/x86_64-linux-gnu /usr/lib/../lib /lib
    libs=-lpthread -lnsl -ldl -lm -lcrypt -lutil -lc
    perllibs=-lpthread -lnsl -ldl -lm -lcrypt -lutil -lc
    libc=libc-2.24.so, so=so, useshrplib=false, libperl=libperl.a
    gnulibc_version='2.24'
  Dynamic Linking:
    dlsrc=dl_dlopen.xs, dlext=so, d_dlsymun=undef, ccdlflags='-Wl,-E'
    cccdlflags='-fPIC', lddlflags='-shared -O2 -g -L/usr/local/lib -fstack-protector-strong'


Characteristics of this binary (from libperl): 
  Compile-time options: DEBUGGING HAS_TIMES MULTIPLICITY PERLIO_LAYERS
                        PERL_DONT_CREATE_GVSV
                        PERL_HASH_FUNC_ONE_AT_A_TIME_HARD
                        PERL_IMPLICIT_CONTEXT PERL_MALLOC_WRAP
                        PERL_NEW_COPY_ON_WRITE PERL_PRESERVE_IVUV
                        PERL_TRACK_MEMPOOL PERL_USE_DEVEL USE_64_BIT_ALL
                        USE_64_BIT_INT USE_ITHREADS USE_LARGE_FILES
                        USE_LOCALE USE_LOCALE_COLLATE USE_LOCALE_CTYPE
                        USE_LOCALE_NUMERIC USE_LOCALE_TIME USE_PERLIO
                        USE_PERL_ATOF USE_REENTRANT_API
  Locally applied patches:
	uncommitted-changes
  Built under linux
  Compiled at Aug 25 2017 19:14:19
  %ENV:
    PERL5LIB="/tmp/loop_over_bdir-10082-W2Rb8g/DBIx-Class-Tree-NestedSet-0.10-0/blib/arch:/tmp/loop_over_bdir-10082-W2Rb8g/DBIx-Class-Tree-NestedSet-0.10-0/blib/lib:/tmp/loop_over_bdir-10082-W2Rb8g/Bio-BLAST-0.4-0/blib/arch:/tmp/loop_over_bdir-10082-W2Rb8g/Bio-BLAST-0.4-0/blib/lib"
    PERL5OPT=""
    PERL5_CPANPLUS_IS_RUNNING="10085"
    PERL5_CPAN_IS_RUNNING="10085"
    PERL5_CPAN_IS_RUNNING_IN_RECURSION="5668,10085"
    PERL_CANARY_STABILITY_NOPROMPT="1"
    PERL_MM_USE_DEFAULT="1"
    PERL_USE_UNSAFE_INC="1"
  @INC:
    /tmp/loop_over_bdir-10082-W2Rb8g/DBIx-Class-Tree-NestedSet-0.10-0/blib/arch
    /tmp/loop_over_bdir-10082-W2Rb8g/DBIx-Class-Tree-NestedSet-0.10-0/blib/lib
    /tmp/loop_over_bdir-10082-W2Rb8g/Bio-BLAST-0.4-0/blib/arch
    /tmp/loop_over_bdir-10082-W2Rb8g/Bio-BLAST-0.4-0/blib/lib
    /home/sand/src/perl/repoperls/installed-perls/host/k93msid/v5.22.4/276a/lib/site_perl/5.22.4/x86_64-linux-thread-multi
    /home/sand/src/perl/repoperls/installed-perls/host/k93msid/v5.22.4/276a/lib/site_perl/5.22.4
    /home/sand/src/perl/repoperls/installed-perls/host/k93msid/v5.22.4/276a/lib/5.22.4/x86_64-linux-thread-multi
    /home/sand/src/perl/repoperls/installed-perls/host/k93msid/v5.22.4/276a/lib/5.22.4
    .