Report for Module-Install-GithubMeta-0.28

Back
From: metabase:user:21840c8c-36ff-11e4-a17f-ea7acc9291b0
Subject: PASS Module-Install-GithubMeta-0.28 v5.8.9 Mac OS X
Date: 2014-09-08T03:23:36Z

This distribution has been tested as part of the CPAN Testers
project, supporting the Perl programming language.  See
http://wiki.cpantesters.org/ for more information or email
questions to cpan-testers-discuss@perl.org


--
Dear Chris Williams,

This is a computer-generated report for Module-Install-GithubMeta-0.28
on perl 5.8.9, created by CPAN-Reporter-1.2011.

Thank you for uploading your work to CPAN.  Congratulations!
All tests were successful.

Sections of this report:

    * Tester comments
    * Program output
    * Prerequisites
    * Environment and other context

------------------------------
TESTER COMMENTS
------------------------------

Additional comments from tester:

none provided

------------------------------
PROGRAM OUTPUT
------------------------------

Output from '/usr/bin/make test':

PERL_DL_NONLAZY=1 /opt/local/bin/perl "-MExtUtils::Command::MM" "-MTest::Harness" "-e" "undef *Test::Harness::Switches; test_harness(0, 'inc', 'blib/lib', 'blib/arch')" t/*.t
# Testing Module::Install::GithubMeta 0.26, Perl 5.008009, /opt/local/bin/perl
t/00_compile.t ....... ok
# include /Users/dhorner/.cpan/build/Module-Install-GithubMeta-0.28-GqsFsB/dist/inc/Module/Install.pm
# include inc/Module/Install/Metadata.pm
# include inc/Module/Install/Base.pm
# include inc/Module/Install/GithubMeta.pm
# include inc/Module/Install/WriteAll.pm
# include inc/Module/Install/Makefile.pm
# include inc/Module/Install/Win32.pm
# include inc/Module/Install/Can.pm
# include inc/Module/Install/Fetch.pm
# Generating a Unix-style Makefile
# Writing Makefile for Foo::Bar
# Writing MYMETA.yml and MYMETA.json
# Writing META.yml
t/01_dist.t .......... ok
t/99_pod.t ........... skipped: Test::Pod 1.00 required for testing POD
t/99_pod_coverage.t .. skipped: Test::Pod::Coverage 1.00 required for testing POD coverage
All tests successful.
Files=4, Tests=2,  1 wallclock secs ( 0.04 usr  0.02 sys +  0.58 cusr  0.37 csys =  1.01 CPU)
Result: PASS

------------------------------
PREREQUISITES
------------------------------

Prerequisite modules loaded:

requires:

    Module              Need  Have    
    ------------------- ----- --------
    Module::Install     0.85  1.12    
    perl                5.006 5.008009

build_requires:

    Module              Need  Have    
    ------------------- ----- --------
    Capture::Tiny       0.05  0.25    
    ExtUtils::MakeMaker 6.59  6.98    
    Test::More          0.47  1.001006

configure_requires:

    Module              Need  Have    
    ------------------- ----- --------
    ExtUtils::MakeMaker 6.59  6.98    


------------------------------
ENVIRONMENT AND OTHER CONTEXT
------------------------------

Environment variables:

    LANG = en_US.UTF-8
    PATH = /opt/local/bin:/opt/local/sbin:/sw/bin:/sw/sbin:/bin:/sbin:/usr/bin:/usr/sbin:/usr/local/bin:/usr/X11R6/bin:/usr/local/mysql-5.1.30-osx10.5-x86/bin/
    PERL5LIB = 
    PERL5OPT = 
    PERL5_CPANPLUS_IS_RUNNING = 20388
    PERL5_CPAN_IS_RUNNING = 20388
    SHELL = /bin/bash
    TERM = xterm-color

Perl special variables (and OS-specific diagnostics, for MSWin32):

    $^X = /opt/local/bin/perl
    $UID/$EUID = 0 / 0
    $GID = 0 0 401 204 100 98 80 61 29 20 12 9 8 5 4 3 2
    $EGID = 0 0 401 204 100 98 80 61 29 20 12 9 8 5 4 3 2

Perl module toolchain versions installed:

    Module              Have    
    ------------------- --------
    CPAN                2.05    
    CPAN::Meta          2.142060
    Cwd                 3.31    
    ExtUtils::CBuilder  0.280219
    ExtUtils::Command   1.16    
    ExtUtils::Install   1.54    
    ExtUtils::MakeMaker 6.98    
    ExtUtils::Manifest  1.60    
    ExtUtils::ParseXS   2.19    
    File::Spec          3.31    
    JSON                2.90    
    JSON::PP            2.27203 
    Module::Build       0.4210  
    Module::Signature   0.55    
    Parse::CPAN::Meta   1.4414  
    Test::Harness       3.33    
    Test::More          1.001006
    YAML                0.68    
    YAML::Syck          n/a     
    version             0.9909  


--

Summary of my perl5 (revision 5 version 8 subversion 9) configuration:
  Platform:
    osname=darwin, osvers=9.6.0, archname=darwin-2level
    uname='darwin precious.thehorners.com 9.6.0 darwin kernel version 9.6.0: mon nov 24 17:37:00 pst 2008; root:xnu-1228.9.59~1release_i386 i386 '
    config_args='-des -D prefix=/opt/local -D scriptdir=/opt/local/bin -D cppflags=-I/opt/local/include -D ldflags=-L/opt/local/lib -D vendorprefix=/opt/local -D man1ext=1pm -D man3ext=3pm -D cc=/usr/bin/gcc-4.0 -D ld=/usr/bin/gcc-4.0 -D man1dir=/opt/local/share/man/man1p -D man3dir=/opt/local/share/man/man3p -D siteman1dir=/opt/local/share/man/man1 -D siteman3dir=/opt/local/share/man/man3 -D vendorman1dir=/opt/local/share/man/man1 -D vendorman3dir=/opt/local/share/man/man3 -D inc_version_list=5.8.8 5.8.8/darwin-2level -U i_bind -U i_gdbm -U i_db'
    hint=recommended, useposix=true, d_sigaction=define
    usethreads=undef use5005threads=undef useithreads=undef usemultiplicity=undef
    useperlio=define d_sfio=undef uselargefiles=define usesocks=undef
    use64bitint=undef use64bitall=undef uselongdouble=undef
    usemymalloc=n, bincompat5005=undef
  Compiler:
    cc='/usr/bin/gcc-4.0', ccflags ='-fno-common -DPERL_DARWIN -I/opt/local/include -no-cpp-precomp -fno-strict-aliasing -pipe -I/usr/local/include -I/opt/local/include',
    optimize='-O3',
    cppflags='-I/opt/local/include -no-cpp-precomp -fno-common -DPERL_DARWIN -I/opt/local/include -no-cpp-precomp -fno-strict-aliasing -pipe -I/usr/local/include -I/opt/local/include'
    ccversion='', gccversion='4.0.1 (Apple Inc. build 5490)', gccosandvers=''
    intsize=4, longsize=4, ptrsize=4, doublesize=8, byteorder=1234
    d_longlong=define, longlongsize=8, d_longdbl=define, longdblsize=16
    ivtype='long', ivsize=4, nvtype='double', nvsize=8, Off_t='off_t', lseeksize=8
    alignbytes=8, prototype=define
  Linker and Libraries:
    ld='env MACOSX_DEPLOYMENT_TARGET=10.3 /usr/bin/gcc-4.0', ldflags ='-L/opt/local/lib -L/usr/local/lib'
    libpth=/usr/local/lib /opt/local/lib /usr/lib
    libs=-ldbm -ldl -lm -lutil -lc
    perllibs=-ldl -lm -lutil -lc
    libc=/usr/lib/libc.dylib, so=dylib, useshrplib=false, libperl=libperl.a
    gnulibc_version=''
  Dynamic Linking:
    dlsrc=dl_dlopen.xs, dlext=bundle, d_dlsymun=undef, ccdlflags=' '
    cccdlflags=' ', lddlflags='-L/opt/local/lib -bundle -undefined dynamic_lookup -L/usr/local/lib'


Characteristics of this binary (from libperl): 
  Compile-time options: PERL_MALLOC_WRAP USE_FAST_STDIO USE_LARGE_FILES
                        USE_PERLIO
  Built under darwin
  Compiled at Apr 10 2009 13:26:08
  %ENV:
    PERL5LIB=""
    PERL5OPT=""
    PERL5_CPANPLUS_IS_RUNNING="20388"
    PERL5_CPAN_IS_RUNNING="20388"
  @INC:
    /opt/local/lib/perl5/site_perl/5.8.9/darwin-2level
    /opt/local/lib/perl5/site_perl/5.8.9
    /opt/local/lib/perl5/site_perl
    /opt/local/lib/perl5/vendor_perl/5.8.9/darwin-2level
    /opt/local/lib/perl5/vendor_perl/5.8.9
    /opt/local/lib/perl5/vendor_perl
    /opt/local/lib/perl5/5.8.9/darwin-2level
    /opt/local/lib/perl5/5.8.9
    .