Back
From: metabase:user:320bfe00-2aae-11df-837a-5e0a49663a4f
Subject: PASS HTML-Acid-v0.0.3 v5.13.10 GNU/Linux
Date: 2011-03-23T14:33:28Z
This distribution has been tested as part of the CPAN Testers
project, supporting the Perl programming language. See
http://wiki.cpantesters.org/ for more information or email
questions to cpan-testers-discuss@perl.org
--
Dear Nicholas Bamber,
This is a computer-generated report for HTML-Acid-v0.0.3
on perl 5.13.10, created by CPAN-Reporter-1.1902.
Thank you for uploading your work to CPAN. Congratulations!
All tests were successful.
Sections of this report:
* Tester comments
* Program output
* Prerequisites
* Environment and other context
------------------------------
TESTER COMMENTS
------------------------------
Additional comments from tester:
this report is from an automated smoke testing program
and was not reviewed by a human for accuracy
------------------------------
PROGRAM OUTPUT
------------------------------
Output from './Build test':
# Testing HTML::Acid 0.0.3
t/00.load.t ......... ok
t/01.progression.t .. ok
t/02.buffer.t ....... ok
t/03_variant.t ...... ok
t/04.dfv.t .......... ok
t/05.dfv-variant.t .. ok
t/06.lists.t ........ ok
t/07.dfv-lists.t .... ok
t/08.div.t .......... ok
t/manifest.t ........ skipped: Author test. Set $ENV{TEST_AUTHOR} to a true value to run.
t/perlcritic.t ...... skipped: Author test. Set $ENV{TEST_AUTHOR} to a true value to run.
t/pod-coverage.t .... skipped: Author test. Set $ENV{TEST_AUTHOR} to a true value to run.
t/pod.t ............. skipped: Author test. Set $ENV{TEST_AUTHOR} to a true value to run.
t/podspell.t ........ skipped: Author test. Set $ENV{TEST_AUTHOR} to a true value to run.
t/prereq.t .......... skipped: Author test. Set $ENV{TEST_PREREQ} to a true value to run.
t/version.t ......... skipped: Author test. Set $ENV{TEST_AUTHOR} to a true value to run.
All tests successful.
Files=16, Tests=287, 2 wallclock secs ( 0.14 usr 0.01 sys + 1.39 cusr 0.18 csys = 1.72 CPU)
Result: PASS
------------------------------
PREREQUISITES
------------------------------
Prerequisite modules loaded:
requires:
Module Need Have
----------------- ---- ------
HTML::Parser 3 3.68
Readonly 0 1.03
String::Dirify 0 1.02
version 0 0.88
build_requires:
Module Need Have
----------------- ---- ------
Benchmark 0 1.12
Perl6::Slurp 0 0.03
Test::Differences 0 0.500
Test::More 0.94 0.98
Test::NoWarnings 0 1.02
configure_requires:
Module Need Have
----------------- ---- ------
Module::Build 0.38 0.3800
------------------------------
ENVIRONMENT AND OTHER CONTEXT
------------------------------
Environment variables:
AUTOMATED_TESTING = 1
LANG = en_US.UTF-8
LC_TIME = de_DE.utf8
PATH = /home/sand/bin:/usr/local/bin:/usr/bin:/bin:/usr/bin/X11:/usr/games:/usr/local/perl/bin:/usr/X11/bin:/sbin:/usr/sbin
PERL5LIB =
PERL5OPT =
PERL5_CPANPLUS_IS_RUNNING = 5465
PERL5_CPAN_IS_RUNNING = 5465
PERL_MM_USE_DEFAULT = 1
SHELL = /usr/bin/zsh
TERM = screen
Perl special variables (and OS-specific diagnostics, for MSWin32):
$^X = /home/src/perl/repoperls/installed-perls/perl/v5.13.10-483-g41ef34d/bin/perl
$UID/$EUID = 1001 / 1001
$GID = 1001 1001
$EGID = 1001 1001
Perl module toolchain versions installed:
Module Have
------------------- --------
CPAN 1.9600
Cwd 3.36
ExtUtils::CBuilder 0.280202
ExtUtils::Command 1.17
ExtUtils::Install 1.56
ExtUtils::MakeMaker 6.57_05
ExtUtils::Manifest 1.58
ExtUtils::ParseXS 2.2209
File::Spec 3.33
Module::Build 0.3800
Module::Signature 0.66
Test::Harness 3.23
Test::More 0.98
YAML 0.72
YAML::Syck 1.17
version 0.88
--
Summary of my perl5 (revision 5 version 13 subversion 10) configuration:
Commit id: 41ef34de832ea2283fbc3b35c6da583d89497204
Platform:
osname=linux, osvers=2.6.32-5-xen-amd64, archname=x86_64-linux-thread-multi
uname='linux k81 2.6.32-5-xen-amd64 #1 smp wed jan 12 05:46:49 utc 2011 x86_64 gnulinux '
config_args='-Dprefix=/home/src/perl/repoperls/installed-perls/perl/v5.13.10-483-g41ef34d -Dinstallusrbinperl=n -Uversiononly -Dusedevel -des -Ui_db -Duseithreads -Uuselongdouble -DDEBUGGING=-g'
hint=recommended, useposix=true, d_sigaction=define
useithreads=define, usemultiplicity=define
useperlio=define, d_sfio=undef, uselargefiles=define, usesocks=undef
use64bitint=define, use64bitall=define, uselongdouble=undef
usemymalloc=n, bincompat5005=undef
Compiler:
cc='cc', ccflags ='-D_REENTRANT -D_GNU_SOURCE -fno-strict-aliasing -pipe -fstack-protector -I/usr/local/include -D_LARGEFILE_SOURCE -D_FILE_OFFSET_BITS=64',
optimize='-O2 -g',
cppflags='-D_REENTRANT -D_GNU_SOURCE -fno-strict-aliasing -pipe -fstack-protector -I/usr/local/include'
ccversion='', gccversion='4.5.2', gccosandvers=''
intsize=4, longsize=8, ptrsize=8, doublesize=8, byteorder=12345678
d_longlong=define, longlongsize=8, d_longdbl=define, longdblsize=16
ivtype='long', ivsize=8, nvtype='double', nvsize=8, Off_t='off_t', lseeksize=8
alignbytes=8, prototype=define
Linker and Libraries:
ld='cc', ldflags =' -fstack-protector -L/usr/local/lib'
libpth=/usr/local/lib /lib /usr/lib /lib64 /usr/lib64
libs=-lnsl -lgdbm -ldb -ldl -lm -lcrypt -lutil -lpthread -lc -lgdbm_compat
perllibs=-lnsl -ldl -lm -lcrypt -lutil -lpthread -lc
libc=/lib/libc-2.11.2.so, so=so, useshrplib=false, libperl=libperl.a
gnulibc_version='2.11.2'
Dynamic Linking:
dlsrc=dl_dlopen.xs, dlext=so, d_dlsymun=undef, ccdlflags='-Wl,-E'
cccdlflags='-fPIC', lddlflags='-shared -O2 -g -L/usr/local/lib -fstack-protector'
Characteristics of this binary (from libperl):
Compile-time options: MULTIPLICITY PERL_DONT_CREATE_GVSV
PERL_IMPLICIT_CONTEXT PERL_MALLOC_WRAP
PERL_PRESERVE_IVUV PERL_USE_DEVEL USE_64_BIT_ALL
USE_64_BIT_INT USE_ITHREADS USE_LARGE_FILES
USE_PERLIO USE_PERL_ATOF USE_REENTRANT_API
Built under linux
Compiled at Mar 19 2011 17:12:27
%ENV:
PERL5LIB=""
PERL5OPT=""
PERL5_CPANPLUS_IS_RUNNING="5465"
PERL5_CPAN_IS_RUNNING="5465"
PERL_MM_USE_DEFAULT="1"
@INC:
/home/src/perl/repoperls/installed-perls/perl/v5.13.10-483-g41ef34d/lib/site_perl/5.13.10/x86_64-linux-thread-multi
/home/src/perl/repoperls/installed-perls/perl/v5.13.10-483-g41ef34d/lib/site_perl/5.13.10
/home/src/perl/repoperls/installed-perls/perl/v5.13.10-483-g41ef34d/lib/5.13.10/x86_64-linux-thread-multi
/home/src/perl/repoperls/installed-perls/perl/v5.13.10-483-g41ef34d/lib/5.13.10
.