File-DataClass v0.73.1 Perl 5 v5.16.1 x86_64-linux-thread-multi-ld
- Status
- Pass
- From
- Andreas J. König (ANDK)
- Dist
-
File-DataClass v0.73.1
- Platform
- Perl 5 v5.16.1 x86_64-linux-thread-multi-ld
- Date
- 2024-12-08 08:50:47
- ID
- 84a62c20-b541-11ef-b74d-28d9ce6fd8f9
This distribution has been tested as part of the CPAN Testers
project, supporting the Perl programming language. See
http://wiki.cpantesters.org/ for more information or email
questions to cpan-testers-discuss@perl.org
--
Dear Peter Flanigan,
This is a computer-generated report for File-DataClass-0.73.1
on perl 5.16.1, created by CPAN-Reporter-1.2019.
Thank you for uploading your work to CPAN. Congratulations!
All tests were successful.
Sections of this report:
* Tester comments
* Program output
* Prerequisites
* Environment and other context
------------------------------
TESTER COMMENTS
------------------------------
Additional comments from tester:
this report is from an automated smoke testing program
and was not reviewed by a human for accuracy
------------------------------
PROGRAM OUTPUT
------------------------------
Output from './Build test':
OS: linux, Host: k93msid
=== Environment variables ===
$AUTHOR_TESTING undef
$AUTOMATED_TESTING 1
$EXTENDED_TESTING undef
$NONINTERACTIVE_TESTING undef
$PERL_CPAN_REPORTER_CONFIG undef
$PERL_CR_SMOKER_CURRENT undef
$PERL5_CPAN_IS_RUNNING 1034475
$PERL5_CPANPLUS_IS_VERSION undef
$TEST_CRITIC undef
$TEST_SPELLING undef
Versions for all modules listed in MYMETA.json (including optional ones):
=== Configure Requires ===
Module Want Have
------------- ------ ------
Module::Build 0.4004 0.4234
version 0.88 0.9930
=== Build Requires ===
Module Want Have
------------- ------ ------
Module::Build 0.4004 0.4234
version 0.88 0.9930
=== Test Requires ===
Module Want Have
---------------- ------ --------
Capture::Tiny 0.30 0.48
File::Spec any 3.75
File::pushd 1.00 1.016
Module::Build 0.4004 0.4234
Module::Metadata any 1.000038
Path::Tiny 0.013 0.146
Sys::Hostname any 1.16
Test::Deep 0.117 1.204
Test::Requires 0.06 0.11
Text::Diff 1.37 1.45
version 0.88 0.9930
=== Test Recommends ===
Module Want Have
---------- -------- --------
CPAN::Meta 2.120900 2.150010
=== Runtime Requires ===
Module Want Have
-------------------- -------- --------
Cache::FastMmap 1.40 1.57
Class::Null 2.110730 2.110730
File::Path 2.09 2.18
File::ReadBackwards 1.05 1.06
Hash::Merge 0.200 0.302
JSON::MaybeXS 1.003 1.004008
Module::Pluggable 5.1 5.2
Module::Runtime 0.014 0.016
Moo 2.000001 2.005005
Sub::Install 0.928 0.929
Subclass::Of 0.003 0.009
Try::Tiny 0.22 0.31
Type::Tiny 1.000002 2.006000
Unexpected v0.39.0 1.0.1
boolean 0.45 0.46
namespace::autoclean 0.26 0.29
namespace::clean 0.25 0.27
t/00report-metadata.t .. ok
t/02pod.t .............. skipped: POD test only for developers
t/03podcoverage.t ...... skipped: POD coverage test only for developers
t/05kwalitee.t ......... skipped: Kwalitee test only for developers
t/06yaml.t ............. skipped: YAML test only for developers
t/07podspelling.t ...... skipped: POD spelling test only for developers
t/10exception.t ........ ok
t/12types.t ............ ok
t/13functions.t ........ ok
t/15io.t ............... ok
t/17constraints.t ...... ok
t/20data-class.t ....... ok
t/21hash-merge.t ....... ok
t/50json.t ............. ok
All tests successful.
Files=14, Tests=198, 6 wallclock secs ( 0.11 usr 0.02 sys + 3.80 cusr 0.88 csys = 4.81 CPU)
Result: PASS
------------------------------
PREREQUISITES
------------------------------
Prerequisite modules loaded:
requires:
Module Need Have
-------------------- -------- --------
boolean 0.45 0.46
Cache::FastMmap 1.40 1.57
Class::Null 2.110730 2.110730
File::Path 2.09 2.18
File::ReadBackwards 1.05 1.06
Hash::Merge 0.200 0.302
JSON::MaybeXS 1.003 1.004008
Module::Pluggable 5.1 5.2
Module::Runtime 0.014 0.016
Moo 2.000001 2.005005
namespace::autoclean 0.26 0.29
namespace::clean 0.25 0.27
perl 5.010001 5.016001
Sub::Install 0.928 0.929
Subclass::Of 0.003 0.009
Try::Tiny 0.22 0.31
Type::Tiny 1.000002 2.006000
Unexpected v0.39.0 1.0.1
build_requires:
Module Need Have
-------------------- -------- --------
Capture::Tiny 0.30 0.48
File::pushd 1.00 1.016
File::Spec 0 3.75
Module::Build 0.4004 0.4234
Module::Metadata 0 1.000038
Path::Tiny 0.013 0.146
Sys::Hostname 0 1.16
Test::Deep 0.117 1.204
Test::Requires 0.06 0.11
Text::Diff 1.37 1.45
version 0.88 0.9930
configure_requires:
Module Need Have
-------------------- -------- --------
Module::Build 0.4004 0.4234
version 0.88 0.9930
------------------------------
ENVIRONMENT AND OTHER CONTEXT
------------------------------
Environment variables:
AUTOMATED_TESTING = 1
LANG = en_US.UTF-8
LANGUAGE = en_US:en
PATH = /home/sand/bin:/usr/local/bin:/usr/bin:/bin:/usr/games:/usr/local/perl/bin:/usr/X11/bin:/sbin:/usr/sbin
PERL5LIB =
PERL5OPT =
PERL5_CPANPLUS_IS_RUNNING = 1034475
PERL5_CPAN_IS_RUNNING = 1034475
PERL_CANARY_STABILITY_NOPROMPT = 1
PERL_MM_USE_DEFAULT = 1
PERL_USE_UNSAFE_INC = 1
SHELL = /usr/bin/zsh
TERM = screen
Perl special variables (and OS-specific diagnostics, for MSWin32):
$^X = /home/sand/src/perl/repoperls/installed-perls/host/k93msid/v5.16.1/ac75/bin/perl
$UID/$EUID = 1005 / 1005
$GID = 1005 1005
$EGID = 1005 1005
Perl module toolchain versions installed:
Module Have
------------------- --------
CPAN 2.38
CPAN::Meta 2.150010
Cwd 3.75
ExtUtils::CBuilder 0.280236
ExtUtils::Command 7.70
ExtUtils::Install 2.22
ExtUtils::MakeMaker 7.70
ExtUtils::Manifest 1.70
ExtUtils::ParseXS 3.51
File::Spec 3.75
JSON 4.10
JSON::PP 4.16
Module::Build 0.4234
Module::Signature 0.88
Parse::CPAN::Meta 2.150010
Test2 1.302204
Test::Harness 3.49_02
Test::More 1.302204
YAML 1.30
YAML::Syck 1.34
version 0.9930
--
Summary of my perl5 (revision 5 version 16 subversion 1) configuration:
Derived from: 06d742c02d396d6515581002f376b55ab1972c1b
Platform:
osname=linux, osvers=6.1.0-7-amd64, archname=x86_64-linux-thread-multi-ld
uname='linux k93msid 6.1.0-7-amd64 #1 smp preempt_dynamic debian 6.1.20-1 (2023-03-19) x86_64 gnulinux '
config_args='-Dprefix=/home/sand/src/perl/repoperls/installed-perls/host/k93msid/v5.16.1/ac75 -Dmyhostname=k93msid -Dinstallusrbinperl=n -Uversiononly -Dusedevel -des -Ui_db -Dlibswanted=cl pthread socket inet nsl gdbm dbm malloc dl ld sun m crypt sec util c cposix posix ucb BSD gdbm_compat -Duseithreads -Duselongdouble -DEBUGGING=both'
hint=recommended, useposix=true, d_sigaction=define
useithreads=define, usemultiplicity=define
useperlio=define, d_sfio=undef, uselargefiles=define, usesocks=undef
use64bitint=define, use64bitall=define, uselongdouble=define
usemymalloc=n, bincompat5005=undef
Compiler:
cc='cc', ccflags ='-D_REENTRANT -D_GNU_SOURCE -fwrapv -DDEBUGGING -fno-strict-aliasing -pipe -fstack-protector -I/usr/local/include -D_LARGEFILE_SOURCE -D_FILE_OFFSET_BITS=64',
optimize='-O2 -g',
cppflags='-D_REENTRANT -D_GNU_SOURCE -fwrapv -DDEBUGGING -fno-strict-aliasing -pipe -fstack-protector -I/usr/local/include'
ccversion='', gccversion='12.2.0', gccosandvers=''
intsize=4, longsize=8, ptrsize=8, doublesize=8, byteorder=12345678
d_longlong=define, longlongsize=8, d_longdbl=define, longdblsize=16
ivtype='long', ivsize=8, nvtype='long double', nvsize=16, Off_t='off_t', lseeksize=8
alignbytes=16, prototype=define
Linker and Libraries:
ld='cc', ldflags =' -fstack-protector -L/usr/local/lib'
libpth=/usr/local/lib /lib/x86_64-linux-gnu /lib/../lib /usr/lib/x86_64-linux-gnu /usr/lib/../lib /lib /usr/lib /lib64 /usr/lib64
libs=-lpthread -lnsl -ldl -lm -lcrypt -lutil -lc
perllibs=-lpthread -lnsl -ldl -lm -lcrypt -lutil -lc
libc=/lib/x86_64-linux-gnu/libc.so.6, so=so, useshrplib=false, libperl=libperl.a
gnulibc_version='2.36'
Dynamic Linking:
dlsrc=dl_dlopen.xs, dlext=so, d_dlsymun=undef, ccdlflags='-Wl,-E'
cccdlflags='-fPIC', lddlflags='-shared -O2 -g -L/usr/local/lib -fstack-protector'
Characteristics of this binary (from libperl):
Compile-time options: DEBUGGING HAS_TIMES MULTIPLICITY PERLIO_LAYERS
PERL_DONT_CREATE_GVSV PERL_IMPLICIT_CONTEXT
PERL_MALLOC_WRAP PERL_PRESERVE_IVUV
PERL_TRACK_MEMPOOL PERL_USE_DEVEL USE_64_BIT_ALL
USE_64_BIT_INT USE_ITHREADS USE_LARGE_FILES
USE_LOCALE USE_LOCALE_COLLATE USE_LOCALE_CTYPE
USE_LOCALE_NUMERIC USE_LONG_DOUBLE USE_PERLIO
USE_PERL_ATOF USE_REENTRANT_API
Locally applied patches:
uncommitted-changes
Built under linux
Compiled at Nov 3 2023 11:35:52
%ENV:
PERL5LIB=""
PERL5OPT=""
PERL5_CPANPLUS_IS_RUNNING="1034475"
PERL5_CPAN_IS_RUNNING="1034475"
PERL_CANARY_STABILITY_NOPROMPT="1"
PERL_MM_USE_DEFAULT="1"
PERL_USE_UNSAFE_INC="1"
@INC:
/home/sand/src/perl/repoperls/installed-perls/host/k93msid/v5.16.1/ac75/lib/site_perl/5.16.1/x86_64-linux-thread-multi-ld
/home/sand/src/perl/repoperls/installed-perls/host/k93msid/v5.16.1/ac75/lib/site_perl/5.16.1
/home/sand/src/perl/repoperls/installed-perls/host/k93msid/v5.16.1/ac75/lib/5.16.1/x86_64-linux-thread-multi-ld
/home/sand/src/perl/repoperls/installed-perls/host/k93msid/v5.16.1/ac75/lib/5.16.1
.