Report for Hash-AutoHash-Args-1.18

Back
From: metabase:user:314402c4-2aae-11df-837a-5e0a49663a4f
Subject: PASS Hash-AutoHash-Args-1.18 v5.20.3 GNU/Linux
Date: 2016-12-29T11:39:54Z

This distribution has been tested as part of the CPAN Testers
project, supporting the Perl programming language.  See
http://wiki.cpantesters.org/ for more information or email
questions to cpan-testers-discuss@perl.org


--
Dear Nathan Goodman,

This is a computer-generated report for Hash-AutoHash-Args-1.18
on perl 5.20.3, created by CPAN-Reporter-1.2018.

Thank you for uploading your work to CPAN.  Congratulations!
All tests were successful.

Sections of this report:

    * Tester comments
    * Program output
    * Prerequisites
    * Environment and other context

------------------------------
TESTER COMMENTS
------------------------------

Additional comments from tester:

none provided

------------------------------
PROGRAM OUTPUT
------------------------------

Output from './Build test':

# Testing Hash::AutoHash::Args 1.18, Perl 5.020003, /bbbike/perl-5.20.3/bin/perl
t/autoargs.000.code_exists.t .... ok
t/autoargs.001.boilerplate.t .... ok
t/autoargs.002.pod.t ............ ok
t/autoargs.010.basics.t ......... ok
t/autoargs.020.class_methods.t .. ok
t/autoargs.020.special_keys.t ... ok
t/autoargs.020.universal.t ...... ok
t/autoargs.030.functions.t ...... ok
t/autoargs.030.v0_methods.t ..... ok
t/autoargs.031.alias.t .......... ok
t/autoargs.098.docs.t ........... ok
t/autoargs.099.v0_docs.t ........ ok
t/autoargs.100.grow_slot.t ...... ok
All tests successful.
Files=13, Tests=329,  2 wallclock secs ( 0.06 usr  0.10 sys +  0.91 cusr  0.22 csys =  1.29 CPU)
Result: PASS

------------------------------
PREREQUISITES
------------------------------

Prerequisite modules loaded:

requires:

    Module             Need   Have    
    ------------------ ------ --------
    Carp               1.2    1.38    
    Cwd                3.4    3.48_01 
    Exporter           5.68   5.71    
    Hash::AutoHash     1.17   1.17    
    List::MoreUtils    0.33   0.416   
    List::Util         1.32   1.46    
    Tie::Hash          1.04   1.05    
    Tie::ToObject      0.03   0.03    
    XSLoader           0.16   0.24    

build_requires:

    Module             Need   Have    
    ------------------ ------ --------
    Carp               1.2    1.38    
    Exporter           5.68   5.71    
    File::Basename     2.82   2.85    
    File::Spec         3.4    3.48_01 
    Hash::AutoHash     1.17   1.17    
    List::MoreUtils    0.33   0.416   
    Module::Build      0.4007 0.4220  
    Test::Deep         0.11   1.124   
    Test::More         0.98   1.302073
    Test::Pod          1.48   1.51    
    Test::Pod::Content v0.0.6 0.0.6   

configure_requires:

    Module             Need   Have    
    ------------------ ------ --------
    Module::Build      0.4007 0.4220  


------------------------------
ENVIRONMENT AND OTHER CONTEXT
------------------------------

Environment variables:

    LANG = C
    PATH = /usr/local/bin:/usr/bin:/bin:/usr/local/sbin:/usr/sbin:/sbin:/home/cpansand/bin/linux-gnu:/home/cpansand/bin/sh:/home/cpansand/bin:/usr/games:/home/cpansand/devel:/home/eserte/src/srezic-misc/scripts
    PERL5LIB = /home/cpansand/.cpan/build/2016122909/Hash-AutoHash-1.17-3/blib/arch:/home/cpansand/.cpan/build/2016122909/Hash-AutoHash-1.17-3/blib/lib:/home/cpansand/.cpan/build/2016122909/Tie-Hash-MultiValue-1.02-3/blib/arch:/home/cpansand/.cpan/build/2016122909/Tie-Hash-MultiValue-1.02-3/blib/lib
    PERL5OPT = 
    PERL5_CPANPLUS_IS_RUNNING = 2852
    PERL5_CPAN_IS_RUNNING = 2852
    PERL5_CPAN_IS_RUNNING_IN_RECURSION = 24107,2852
    PERLDOC = -MPod::Perldoc::ToTextOverstrike
    PERL_BATCH = yes
    PERL_CANARY_STABILITY_NOPROMPT = 1
    PERL_CPAN_REPORTER_CONFIG = /run/user/1023/cpansmoker/2016122906/cpanreporter_001_config.ini
    PERL_EXTUTILS_AUTOINSTALL = --defaultdeps
    PERL_USE_UNSAFE_INC = 1
    SHELL = /bin/zsh
    TERM = screen
    TMPDIR = /run/user/1023/cpansmoker/2016122906

Perl special variables (and OS-specific diagnostics, for MSWin32):

    $^X = /bbbike/perl-5.20.3/bin/perl
    $UID/$EUID = 1023 / 1023
    $GID = 1023 1023
    $EGID = 1023 1023

Perl module toolchain versions installed:

    Module              Have    
    ------------------- --------
    CPAN                2.14    
    CPAN::Meta          2.150010
    Cwd                 3.48_01 
    ExtUtils::CBuilder  0.280224
    ExtUtils::Command   7.24    
    ExtUtils::Install   1.67    
    ExtUtils::MakeMaker 7.24    
    ExtUtils::Manifest  1.70    
    ExtUtils::ParseXS   3.24    
    File::Spec          3.48_01 
    JSON                2.90    
    JSON::PP            2.27400 
    Module::Build       0.4220  
    Module::Signature   0.79    
    Parse::CPAN::Meta   2.150010
    Test::Harness       3.36    
    Test::More          1.302073
    YAML                1.20    
    YAML::Syck          1.29    
    version             0.9917  


--

Summary of my perl5 (revision 5 version 20 subversion 3) configuration:
   
  Platform:
    osname=linux, osvers=3.16.0-4-amd64, archname=x86_64-linux
    uname='linux eserte 3.16.0-4-amd64 #1 smp debian 3.16.7-ckt25-2 (2016-04-08) x86_64 gnulinux '
    config_args='-ds -e -Dprefix=/opt/perl-5.20.3 -Dcf_email=srezic@cpan.org'
    hint=recommended, useposix=true, d_sigaction=define
    useithreads=undef, usemultiplicity=undef
    use64bitint=define, use64bitall=define, uselongdouble=undef
    usemymalloc=n, bincompat5005=undef
  Compiler:
    cc='cc', ccflags ='-fwrapv -fno-strict-aliasing -pipe -fstack-protector -I/usr/local/include -D_LARGEFILE_SOURCE -D_FILE_OFFSET_BITS=64',
    optimize='-O2',
    cppflags='-fwrapv -fno-strict-aliasing -pipe -fstack-protector -I/usr/local/include'
    ccversion='', gccversion='4.9.2', gccosandvers=''
    intsize=4, longsize=8, ptrsize=8, doublesize=8, byteorder=12345678
    d_longlong=define, longlongsize=8, d_longdbl=define, longdblsize=16
    ivtype='long', ivsize=8, nvtype='double', nvsize=8, Off_t='off_t', lseeksize=8
    alignbytes=8, prototype=define
  Linker and Libraries:
    ld='cc', ldflags =' -fstack-protector -L/usr/local/lib'
    libpth=/usr/local/lib /usr/lib/gcc/x86_64-linux-gnu/4.9/include-fixed /usr/include/x86_64-linux-gnu /usr/lib /lib/x86_64-linux-gnu /lib/../lib /usr/lib/x86_64-linux-gnu /usr/lib/../lib /lib
    libs=-lpthread -lnsl -lgdbm -ldb -ldl -lm -lcrypt -lutil -lc -lgdbm_compat
    perllibs=-lpthread -lnsl -ldl -lm -lcrypt -lutil -lc
    libc=libc-2.19.so, so=so, useshrplib=false, libperl=libperl.a
    gnulibc_version='2.19'
  Dynamic Linking:
    dlsrc=dl_dlopen.xs, dlext=so, d_dlsymun=undef, ccdlflags='-Wl,-E'
    cccdlflags='-fPIC', lddlflags='-shared -O2 -L/usr/local/lib -fstack-protector'


Characteristics of this binary (from libperl): 
  Compile-time options: HAS_TIMES PERLIO_LAYERS PERL_DONT_CREATE_GVSV
                        PERL_HASH_FUNC_ONE_AT_A_TIME_HARD PERL_MALLOC_WRAP
                        PERL_NEW_COPY_ON_WRITE PERL_PRESERVE_IVUV
                        USE_64_BIT_ALL USE_64_BIT_INT USE_LARGE_FILES
                        USE_LOCALE USE_LOCALE_COLLATE USE_LOCALE_CTYPE
                        USE_LOCALE_NUMERIC USE_PERLIO USE_PERL_ATOF
  Locally applied patches:
	Devel::PatchPerl 1.42
  Built under linux
  Compiled at May  7 2016 12:07:58
  %ENV:
    PERL5LIB="/home/cpansand/.cpan/build/2016122909/Hash-AutoHash-1.17-3/blib/arch:/home/cpansand/.cpan/build/2016122909/Hash-AutoHash-1.17-3/blib/lib:/home/cpansand/.cpan/build/2016122909/Tie-Hash-MultiValue-1.02-3/blib/arch:/home/cpansand/.cpan/build/2016122909/Tie-Hash-MultiValue-1.02-3/blib/lib"
    PERL5OPT=""
    PERL5_CPANPLUS_IS_RUNNING="2852"
    PERL5_CPAN_IS_RUNNING="2852"
    PERL5_CPAN_IS_RUNNING_IN_RECURSION="24107,2852"
    PERLDOC="-MPod::Perldoc::ToTextOverstrike"
    PERL_BATCH="yes"
    PERL_CANARY_STABILITY_NOPROMPT="1"
    PERL_CPAN_REPORTER_CONFIG="/run/user/1023/cpansmoker/2016122906/cpanreporter_001_config.ini"
    PERL_EXTUTILS_AUTOINSTALL="--defaultdeps"
    PERL_USE_UNSAFE_INC="1"
  @INC:
    /home/cpansand/.cpan/build/2016122909/Hash-AutoHash-1.17-3/blib/arch
    /home/cpansand/.cpan/build/2016122909/Hash-AutoHash-1.17-3/blib/lib
    /home/cpansand/.cpan/build/2016122909/Tie-Hash-MultiValue-1.02-3/blib/arch
    /home/cpansand/.cpan/build/2016122909/Tie-Hash-MultiValue-1.02-3/blib/lib
    /opt/perl-5.20.3/lib/site_perl/5.20.3/x86_64-linux
    /opt/perl-5.20.3/lib/site_perl/5.20.3
    /opt/perl-5.20.3/lib/5.20.3/x86_64-linux
    /opt/perl-5.20.3/lib/5.20.3
    .