Net-SugarCRM v3.320000 Perl 5 v5.20.2 armv6l-linux-thread-multi

Status
Pass
From
Nigel Horne
Dist
Net-SugarCRM v3.320000
Platform
Perl 5 v5.20.2 armv6l-linux-thread-multi
Date
2018-08-04 13:08:45
ID
84a15750-97e7-11e8-8fb1-ef5133556b3f
This distribution has been tested as part of the CPAN Testers
project, supporting the Perl programming language.  See
http://wiki.cpantesters.org/ for more information or email
questions to cpan-testers-discuss@perl.org


--
Dear Nito Martinez,

This is a computer-generated report for Net-SugarCRM-3.320000
on perl 5.20.2, created by CPAN-Reporter-1.2018.

Thank you for uploading your work to CPAN.  Congratulations!
All tests were successful.

Sections of this report:

    * Tester comments
    * Program output
    * Prerequisites
    * Environment and other context

------------------------------
TESTER COMMENTS
------------------------------

Additional comments from tester:

this report is from an automated smoke testing program
and was not reviewed by a human for accuracy

------------------------------
PROGRAM OUTPUT
------------------------------

Output from './Build test':

t/10-login.t ............... skipped: Author test.  Set $ENV{TEST_AUTHOR_SUGAR} to a true value to run. Define it as DEBUG to see the debug messages
t/30-lead.t ................ skipped: Author test.  Set $ENV{TEST_AUTHOR_SUGAR} to a true value to run. Define it as DEBUG to see the debug messages
t/20-modules.t ............. skipped: Author test.  Set $ENV{TEST_AUTHOR_SUGAR} to a true value to run. Define it as DEBUG to see the debug messages
t/40-contact.t ............. skipped: Author test.  Set $ENV{TEST_AUTHOR_SUGAR} to a true value to run. Define it as DEBUG to see the debug messages
t/50-account.t ............. skipped: Author test.  Set $ENV{TEST_AUTHOR_SUGAR} to a true value to run. Define it as DEBUG to see the debug messages
# Testing Net::SugarCRM 3.320000, Perl 5.020002, /mnt/nas/home/pi2/njh/perl5/perlbrew/perls/perl-5.20.2/bin/perl5.20.2
t/00-load.t ................ ok
t/60-opportunity.t ......... skipped: Author test.  Set $ENV{TEST_AUTHOR_SUGAR} to a true value to run. Define it as DEBUG to see the debug messages
t/70-getmailentry.t ........ skipped: Author test.  Set $ENV{TEST_AUTHOR_SUGAR} to a true value to run. Define it as DEBUG to see the debug messages
t/75-add-note.t ............ skipped: Author test.  Set $ENV{TEST_AUTHOR_SUGAR} to a true value to run. Define it as DEBUG to see the debug messages
t/77-currency.t ............ skipped: Author test.  Set $ENV{TEST_AUTHOR_SUGAR} to a true value to run. Define it as DEBUG to see the debug messages
t/80-mailinglist.t ......... skipped: Author test.  Set $ENV{TEST_AUTHOR_SUGAR} to a true value to run. Define it as DEBUG to see the debug messages
t/manifest.t ............... skipped: Author tests not required for installation
t/perlcritic.t ............. skipped: Author test.  Set $ENV{TEST_AUTHOR} to a true value to run.
t/pod.t .................... ok
t/90-send-campaign-mail.t .. skipped: Author test.  Set $ENV{TEST_AUTHOR_SUGAR} to a true value to run. Define it as DEBUG to see the debug messages
t/pod-coverage.t ........... ok
All tests successful.
Files=16, Tests=6, 14 wallclock secs ( 0.34 usr  0.13 sys + 40.02 cusr  4.00 csys = 44.49 CPU)
Result: PASS

------------------------------
PREREQUISITES
------------------------------

Prerequisite modules loaded:

requires:

    Module         Need Have    
    -------------- ---- --------
    DateTime       0    1.42    
    DBI            0    1.634   
    File::Spec     0    3.48_01 
    JSON           0    2.90    
    Log::Log4perl  0    1.47    
    LWP::UserAgent 0    6.33    
    Moose          0    2.1806  
    Readonly       0    2.00    
    Tie::IxHash    0    1.23    
    Try::Tiny      0    0.22    

build_requires:

    Module         Need Have    
    -------------- ---- --------
    Test::More     0    1.302136

configure_requires:

    Module         Need Have    
    -------------- ---- --------
    Module::Build  0.42 0.4214  


------------------------------
ENVIRONMENT AND OTHER CONTEXT
------------------------------

Environment variables:

    AUTOMATED_TESTING = 1
    HARNESS_OPTIONS = j4
    LANG = en_GB.UTF-8
    PATH = /home/njh/perl5/perlbrew/bin:/home/njh/perl5/perlbrew/perls/perl-5.20.2/bin:/home/njh/src/njh/smoker/bin:/usr/bin:/bin
    PERL5LIB = 
    PERL5OPT = 
    PERL5_CPANPLUS_IS_RUNNING = 30939
    PERL5_CPAN_IS_RUNNING = 30939
    PERLBREW_BASHRC_VERSION = 0.80
    PERLBREW_HOME = /home/njh/.perlbrew
    PERLBREW_MANPATH = /home/njh/perl5/perlbrew/perls/perl-5.20.2/man
    PERLBREW_PATH = /home/njh/perl5/perlbrew/bin:/home/njh/perl5/perlbrew/perls/perl-5.20.2/bin
    PERLBREW_PERL = perl-5.20.2
    PERLBREW_ROOT = /home/njh/perl5/perlbrew
    PERLBREW_VERSION = 0.80
    SHELL = /bin/sh
    TEMP = /tmp/user/1000
    TMPDIR = /tmp/user/1000/testwrapper.30927

Perl special variables (and OS-specific diagnostics, for MSWin32):

    $^X = /mnt/nas/home/pi2/njh/perl5/perlbrew/perls/perl-5.20.2/bin/perl5.20.2
    $UID/$EUID = 1000 / 1000
    $GID = 1000 4 20 24 25 27 29 30 44 46 60 100 101 108 997 998 999 1000
    $EGID = 1000 4 20 24 25 27 29 30 44 46 60 100 101 108 997 998 999 1000

Perl module toolchain versions installed:

    Module              Have    
    ------------------- --------
    CPAN                2.16    
    CPAN::Meta          2.150005
    Cwd                 3.48_01 
    ExtUtils::CBuilder  0.280224
    ExtUtils::Command   7.30    
    ExtUtils::Install   2.06    
    ExtUtils::MakeMaker 7.30    
    ExtUtils::Manifest  1.70    
    ExtUtils::ParseXS   3.30    
    File::Spec          3.48_01 
    JSON                2.90    
    JSON::PP            2.27300 
    Module::Build       0.4214  
    Module::Signature   n/a     
    Parse::CPAN::Meta   1.4422  
    Test::Harness       3.35    
    Test::More          1.302136
    YAML                1.24    
    YAML::Syck          1.30    
    version             0.9912  


--

Summary of my perl5 (revision 5 version 20 subversion 2) configuration:
   
  Platform:
    osname=linux, osvers=3.18.7+, archname=armv6l-linux-thread-multi
    uname='linux pi 3.18.7+ #755 preempt thu feb 12 17:14:31 gmt 2015 armv6l gnulinux '
    config_args='-de -Dprefix=/home/njh/perl5/perlbrew/perls/perl-5.20.2 -Duseithreads -Dusemultiplicity -Dusedevel -Accflags= -Aeval:scriptdir=/home/njh/perl5/perlbrew/perls/perl-5.20.2/bin'
    hint=recommended, useposix=true, d_sigaction=define
    useithreads=define, usemultiplicity=define
    use64bitint=undef, use64bitall=undef, uselongdouble=undef
    usemymalloc=n, bincompat5005=undef
  Compiler:
    cc='cc', ccflags ='-D_REENTRANT -D_GNU_SOURCE -fwrapv -fno-strict-aliasing -pipe -fstack-protector -I/usr/local/include -D_LARGEFILE_SOURCE -D_FILE_OFFSET_BITS=64',
    optimize='-O2',
    cppflags='-D_REENTRANT -D_GNU_SOURCE -fwrapv -fno-strict-aliasing -pipe -fstack-protector -I/usr/local/include'
    ccversion='', gccversion='4.6.3', gccosandvers=''
    intsize=4, longsize=4, ptrsize=4, doublesize=8, byteorder=1234
    d_longlong=define, longlongsize=8, d_longdbl=define, longdblsize=8
    ivtype='long', ivsize=4, nvtype='double', nvsize=8, Off_t='off_t', lseeksize=8
    alignbytes=8, prototype=define
  Linker and Libraries:
    ld='cc', ldflags =' -fstack-protector -L/usr/local/lib'
    libpth=/usr/local/lib /usr/lib/gcc/arm-linux-gnueabihf/4.6/include-fixed /usr/include/arm-linux-gnueabihf /usr/lib /lib/arm-linux-gnueabihf /lib /usr/lib/arm-linux-gnueabihf
    libs=-lnsl -lgdbm -ldb -ldl -lm -lcrypt -lutil -lpthread -lc -lgdbm_compat
    perllibs=-lnsl -ldl -lm -lcrypt -lutil -lpthread -lc
    libc=libc-2.13.so, so=so, useshrplib=false, libperl=libperl.a
    gnulibc_version='2.13'
  Dynamic Linking:
    dlsrc=dl_dlopen.xs, dlext=so, d_dlsymun=undef, ccdlflags='-Wl,-E'
    cccdlflags='-fPIC', lddlflags='-shared -O2 -L/usr/local/lib -fstack-protector'


Characteristics of this binary (from libperl): 
  Compile-time options: HAS_TIMES MULTIPLICITY PERLIO_LAYERS
                        PERL_DONT_CREATE_GVSV
                        PERL_HASH_FUNC_ONE_AT_A_TIME_HARD
                        PERL_IMPLICIT_CONTEXT PERL_MALLOC_WRAP
                        PERL_NEW_COPY_ON_WRITE PERL_PRESERVE_IVUV
                        PERL_USE_DEVEL USE_ITHREADS USE_LARGE_FILES
                        USE_LOCALE USE_LOCALE_COLLATE USE_LOCALE_CTYPE
                        USE_LOCALE_NUMERIC USE_PERLIO USE_PERL_ATOF
                        USE_REENTRANT_API
  Built under linux
  Compiled at Mar  1 2015 02:09:23
  %ENV:
    PERL5LIB=""
    PERL5OPT=""
    PERL5_CPANPLUS_IS_RUNNING="30939"
    PERL5_CPAN_IS_RUNNING="30939"
    PERLBREW_BASHRC_VERSION="0.80"
    PERLBREW_HOME="/home/njh/.perlbrew"
    PERLBREW_MANPATH="/home/njh/perl5/perlbrew/perls/perl-5.20.2/man"
    PERLBREW_PATH="/home/njh/perl5/perlbrew/bin:/home/njh/perl5/perlbrew/perls/perl-5.20.2/bin"
    PERLBREW_PERL="perl-5.20.2"
    PERLBREW_ROOT="/home/njh/perl5/perlbrew"
    PERLBREW_VERSION="0.80"
  @INC:
    /home/njh/perl5/perlbrew/perls/perl-5.20.2/lib/site_perl/5.20.2/armv6l-linux-thread-multi
    /home/njh/perl5/perlbrew/perls/perl-5.20.2/lib/site_perl/5.20.2
    /home/njh/perl5/perlbrew/perls/perl-5.20.2/lib/5.20.2/armv6l-linux-thread-multi
    /home/njh/perl5/perlbrew/perls/perl-5.20.2/lib/5.20.2
    .