DateTime-Format-Strptime v1.79 Perl 5 v5.28.0 darwin-2level

Status
Pass
From
Neil Bowers
Dist
DateTime-Format-Strptime v1.79
Platform
Perl 5 v5.28.0 darwin-2level
Date
2021-05-25 02:11:29
ID
848a7a82-bcfe-11eb-84b5-4cc8e459c3fa
This distribution has been tested as part of the CPAN Testers
project, supporting the Perl programming language.  See
http://wiki.cpantesters.org/ for more information or email
questions to cpan-testers-discuss@perl.org


--
Dear Dave Rolsky,

This is a computer-generated report for DateTime-Format-Strptime-1.79
on perl 5.28.0, created by CPAN-Reporter-1.2018.

Thank you for uploading your work to CPAN.  Congratulations!
All tests were successful.

Sections of this report:

    * Tester comments
    * Program output
    * Prerequisites
    * Environment and other context

------------------------------
TESTER COMMENTS
------------------------------

Additional comments from tester:

none provided

------------------------------
PROGRAM OUTPUT
------------------------------

Output from '/usr/bin/make test':

PERL_DL_NONLAZY=1 "/usr/local/perl/5280/bin/perl" "-MExtUtils::Command::MM" "-MTest::Harness" "-e" "undef *Test::Harness::Switches; test_harness(0, 'blib/lib', 'blib/arch')" t/*.t
# 
# Versions for all modules listed in MYMETA.json (including optional ones):
# 
# === Configure Requires ===
# 
#     Module              Want Have
#     ------------------- ---- ----
#     ExtUtils::MakeMaker  any 7.62
# 
# === Configure Suggests ===
# 
#     Module      Want    Have
#     -------- ------- -------
#     JSON::PP 2.27300 2.97001
# 
# === Build Requires ===
# 
#     Module              Want Have
#     ------------------- ---- ----
#     ExtUtils::MakeMaker  any 7.62
# 
# === Test Requires ===
# 
#     Module              Want     Have
#     ------------------- ---- --------
#     ExtUtils::MakeMaker  any     7.62
#     File::Spec           any     3.74
#     FindBin              any     1.51
#     Test::Builder        any 1.302185
#     Test::Fatal          any    0.016
#     Test::More          0.96 1.302185
#     Test::Warnings       any    0.030
#     lib                  any     0.64
#     utf8                 any     1.21
# 
# === Test Recommends ===
# 
#     Module         Want     Have
#     ---------- -------- --------
#     CPAN::Meta 2.120900 2.150010
# 
# === Runtime Requires ===
# 
#     Module                     Want  Have
#     -------------------------- ---- -----
#     Carp                        any  1.50
#     DateTime                   1.00  1.54
#     DateTime::Locale           1.30  1.32
#     DateTime::Locale::Base      any  1.32
#     DateTime::Locale::FromData  any  1.32
#     DateTime::TimeZone         2.09  2.47
#     Exporter                    any  5.73
#     Params::ValidationCompiler  any  0.30
#     Specio                     0.33  0.47
#     Specio::Declare             any  0.47
#     Specio::Exporter            any  0.47
#     Specio::Library::Builtins   any  0.47
#     Specio::Library::String     any  0.47
#     Try::Tiny                   any  0.30
#     constant                    any  1.33
#     parent                      any 0.236
#     strict                      any  1.11
#     warnings                    any  1.42
# 
t/00-report-prereqs.t .... ok
t/basic.t ................ ok
Subroutine olson_version redefined at /usr/local/perl/5280/lib/site_perl/5.28.0/DateTime/TimeZone/america/new_york.pm line 2098, <DATA> line 1.
Subroutine has_dst_changes redefined at /usr/local/perl/5280/lib/site_perl/5.28.0/DateTime/TimeZone/america/new_york.pm line 2100, <DATA> line 1.
Subroutine _max_year redefined at /usr/local/perl/5280/lib/site_perl/5.28.0/DateTime/TimeZone/america/new_york.pm line 2102, <DATA> line 1.
Subroutine _new_instance redefined at /usr/local/perl/5280/lib/site_perl/5.28.0/DateTime/TimeZone/america/new_york.pm line 2104, <DATA> line 1.
Subroutine _last_offset redefined at /usr/local/perl/5280/lib/site_perl/5.28.0/DateTime/TimeZone/america/new_york.pm line 2108, <DATA> line 1.
Subroutine _last_observance redefined at /usr/local/perl/5280/lib/site_perl/5.28.0/DateTime/TimeZone/america/new_york.pm line 2146, <DATA> line 1.
Subroutine _rules redefined at /usr/local/perl/5280/lib/site_perl/5.28.0/DateTime/TimeZone/america/new_york.pm line 2173, <DATA> line 1.
Subroutine olson_version redefined at /usr/local/perl/5280/lib/site_perl/5.28.0/DateTime/TimeZone/amERicA/new_YORK.pm line 2098, <DATA> line 1.
Subroutine has_dst_changes redefined at /usr/local/perl/5280/lib/site_perl/5.28.0/DateTime/TimeZone/amERicA/new_YORK.pm line 2100, <DATA> line 1.
Subroutine _max_year redefined at /usr/local/perl/5280/lib/site_perl/5.28.0/DateTime/TimeZone/amERicA/new_YORK.pm line 2102, <DATA> line 1.
Subroutine _new_instance redefined at /usr/local/perl/5280/lib/site_perl/5.28.0/DateTime/TimeZone/amERicA/new_YORK.pm line 2104, <DATA> line 1.
Subroutine _last_offset redefined at /usr/local/perl/5280/lib/site_perl/5.28.0/DateTime/TimeZone/amERicA/new_YORK.pm line 2108, <DATA> line 1.
Subroutine _last_observance redefined at /usr/local/perl/5280/lib/site_perl/5.28.0/DateTime/TimeZone/amERicA/new_YORK.pm line 2146, <DATA> line 1.
Subroutine _rules redefined at /usr/local/perl/5280/lib/site_perl/5.28.0/DateTime/TimeZone/amERicA/new_YORK.pm line 2173, <DATA> line 1.
t/edge.t ................. ok
t/errors.t ............... ok
t/format-datetime.t ...... ok
t/format-with-locale.t ... ok
t/generated-locale-de.t .. ok
t/generated-locale-en.t .. ok
t/generated-locale-ga.t .. ok
t/generated-locale-pt.t .. ok
t/generated-locale-zh.t .. ok
t/import.t ............... ok
t/zones.t ................ ok
All tests successful.
Files=13, Tests=143,  3 wallclock secs ( 0.11 usr  0.04 sys +  2.72 cusr  0.36 csys =  3.23 CPU)
Result: PASS

------------------------------
PREREQUISITES
------------------------------

Prerequisite modules loaded:

requires:

    Module                     Need Have    
    -------------------------- ---- --------
    Carp                       0    1.50    
    constant                   0    1.33    
    DateTime                   1.00 1.54    
    DateTime::Locale           1.30 1.32    
    DateTime::Locale::Base     0    1.32    
    DateTime::Locale::FromData 0    1.32    
    DateTime::TimeZone         2.09 2.47    
    Exporter                   0    5.73    
    Params::ValidationCompiler 0    0.30    
    parent                     0    0.236   
    Specio                     0.33 0.47    
    Specio::Declare            0    0.47    
    Specio::Exporter           0    0.47    
    Specio::Library::Builtins  0    0.47    
    Specio::Library::String    0    0.47    
    strict                     0    1.11    
    Try::Tiny                  0    0.30    
    warnings                   0    1.42    

build_requires:

    Module                     Need Have    
    -------------------------- ---- --------
    ExtUtils::MakeMaker        0    7.62    
    File::Spec                 0    3.74    
    FindBin                    0    1.51    
    lib                        0    0.64    
    Test::Builder              0    1.302185
    Test::Fatal                0    0.016   
    Test::More                 0.96 1.302185
    Test::Warnings             0    0.030   
    utf8                       0    1.21    

configure_requires:

    Module                     Need Have    
    -------------------------- ---- --------
    ExtUtils::MakeMaker        0    7.62    


------------------------------
ENVIRONMENT AND OTHER CONTEXT
------------------------------

Environment variables:

    NONINTERACTIVE_TESTING = 1
    PATH = /usr/local/apache/bin:/usr/local/bin:/usr/local/bin:/usr/bin:/bin:/usr/sbin:/sbin:/Applications/VMware Fusion.app/Contents/Public:/usr/local/go/bin:/opt/X11/bin:/usr/local/git/bin
    PERL5LIB = 
    PERL5OPT = 
    PERL5_CPANPLUS_IS_RUNNING = 5727
    PERL5_CPAN_IS_RUNNING = 5727
    PERL_MM_USE_DEFAULT = 1
    PERL_USE_UNSAFE_INC = 1
    SHELL = /bin/sh
    TERM = xterm

Perl special variables (and OS-specific diagnostics, for MSWin32):

    $^X = /usr/local/perl/5280/bin/perl
    $UID/$EUID = 0 / 0
    $GID = 0 0 1 2 3 4 5 8 9 12 20 29 61 80 701 702 33
    $EGID = 0 0 1 2 3 4 5 8 9 12 20 29 61 80 701 702 33

Perl module toolchain versions installed:

    Module              Have    
    ------------------- --------
    CPAN                2.20    
    CPAN::Meta          2.150010
    Cwd                 3.74    
    ExtUtils::CBuilder  0.280230
    ExtUtils::Command   7.62    
    ExtUtils::Install   2.14    
    ExtUtils::MakeMaker 7.62    
    ExtUtils::Manifest  1.70    
    ExtUtils::ParseXS   3.39    
    File::Spec          3.74    
    JSON                n/a     
    JSON::PP            2.97001 
    Module::Build       0.4231  
    Module::Signature   n/a     
    Parse::CPAN::Meta   2.150010
    Test::Harness       3.42    
    Test::More          1.302185
    YAML                n/a     
    YAML::Syck          n/a     
    version             0.9923  


--

Summary of my perl5 (revision 5 version 28 subversion 0) configuration:
   
  Platform:
    osname=darwin
    osvers=20.4.0
    archname=darwin-2level
    uname='darwin tucumcari.local 20.4.0 darwin kernel version 20.4.0: thu apr 22 21:46:47 pdt 2021; root:xnu-7195.101.2~1release_x86_64 x86_64 '
    config_args=''
    hint=recommended
    useposix=true
    d_sigaction=define
    useithreads=undef
    usemultiplicity=undef
    use64bitint=define
    use64bitall=define
    uselongdouble=undef
    usemymalloc=n
    default_inc_excludes_dot=define
    bincompat5005=undef
  Compiler:
    cc='cc'
    ccflags ='-fno-common -DPERL_DARWIN -mmacosx-version-min=11.3 -fno-strict-aliasing -pipe -fstack-protector-strong -I/usr/local/include -I/opt/local/include -DPERL_USE_SAFE_PUTENV'
    optimize='-O3'
    cppflags='-fno-common -DPERL_DARWIN -mmacosx-version-min=11.3 -fno-strict-aliasing -pipe -fstack-protector-strong -I/usr/local/include -I/opt/local/include'
    ccversion=''
    gccversion='Apple LLVM 12.0.0 (clang-1200.0.32.29)'
    gccosandvers=''
    intsize=4
    longsize=8
    ptrsize=8
    doublesize=8
    byteorder=12345678
    doublekind=3
    d_longlong=define
    longlongsize=8
    d_longdbl=define
    longdblsize=16
    longdblkind=3
    ivtype='long'
    ivsize=8
    nvtype='double'
    nvsize=8
    Off_t='off_t'
    lseeksize=8
    alignbytes=8
    prototype=define
  Linker and Libraries:
    ld='cc'
    ldflags =' -mmacosx-version-min=11.3 -fstack-protector-strong -L/usr/local/lib -L/opt/local/lib'
    libpth=/usr/local/lib /Applications/Xcode.app/Contents/Developer/Toolchains/XcodeDefault.xctoolchain/usr/lib/clang/12.0.0/lib /Applications/Xcode.app/Contents/Developer/Platforms/MacOSX.platform/Developer/SDKs/MacOSX.sdk/usr/lib /Applications/Xcode.app/Contents/Developer/Toolchains/XcodeDefault.xctoolchain/usr/lib /opt/local/lib /usr/lib
    libs=-lgdbm
    perllibs=
    libc=
    so=dylib
    useshrplib=false
    libperl=libperl.a
    gnulibc_version=''
  Dynamic Linking:
    dlsrc=dl_dlopen.xs
    dlext=bundle
    d_dlsymun=undef
    ccdlflags=' '
    cccdlflags=' '
    lddlflags=' -mmacosx-version-min=11.3 -bundle -undefined dynamic_lookup -L/usr/local/lib -L/opt/local/lib -fstack-protector-strong'


Characteristics of this binary (from libperl): 
  Compile-time options:
    HAS_TIMES
    PERLIO_LAYERS
    PERL_COPY_ON_WRITE
    PERL_DONT_CREATE_GVSV
    PERL_MALLOC_WRAP
    PERL_OP_PARENT
    PERL_PRESERVE_IVUV
    PERL_USE_SAFE_PUTENV
    USE_64_BIT_ALL
    USE_64_BIT_INT
    USE_LARGE_FILES
    USE_LOCALE
    USE_LOCALE_COLLATE
    USE_LOCALE_CTYPE
    USE_LOCALE_NUMERIC
    USE_LOCALE_TIME
    USE_PERLIO
    USE_PERL_ATOF
  Built under darwin
  Compiled at May 18 2021 22:01:24
  %ENV:
    PERL5LIB=""
    PERL5OPT=""
    PERL5_CPANPLUS_IS_RUNNING="5727"
    PERL5_CPAN_IS_RUNNING="5727"
    PERL_MM_USE_DEFAULT="1"
    PERL_USE_UNSAFE_INC="1"
  @INC:
    /usr/local/perl/5280/lib/site_perl/5.28.0/darwin-2level
    /usr/local/perl/5280/lib/site_perl/5.28.0
    /usr/local/perl/5280/lib/5.28.0/darwin-2level
    /usr/local/perl/5280/lib/5.28.0
    .