Report for Parallel-Queue-3.6

Back
From: metabase:user:314402c4-2aae-11df-837a-5e0a49663a4f
Subject: PASS Parallel-Queue-3.6 v5.18.4 FreeBSD
Date: 2014-12-30T08:19:03Z

This distribution has been tested as part of the CPAN Testers
project, supporting the Perl programming language.  See
http://wiki.cpantesters.org/ for more information or email
questions to cpan-testers-discuss@perl.org


--
Dear Steven Lembark,

This is a computer-generated report for Parallel-Queue-3.6
on perl 5.18.4, created by CPAN-Reporter-1.2011.

Thank you for uploading your work to CPAN.  Congratulations!
All tests were successful.

Sections of this report:

    * Tester comments
    * Program output
    * Prerequisites
    * Environment and other context

------------------------------
TESTER COMMENTS
------------------------------

Additional comments from tester:

none provided

------------------------------
PROGRAM OUTPUT
------------------------------

Output from '/usr/bin/make test':

PERL_DL_NONLAZY=1 "/usr/perl5.18.4/bin/perl5.18.4" "-MExtUtils::Command::MM" "-MTest::Harness" "-e" "undef *Test::Harness::Switches; test_harness(0, 'blib/lib', 'blib/arch')" t/*.t
t/00-usable.t ................... ok
t/01-export-name.t .............. ok
Smartmatch is experimental at t/02-debug-mode.t line 70.
Non-forking queue
Next job: 'CODE(0x418cd810)'
Complete: '0' ()
Next job: 'CODE(0x418e0798)'
Complete: '0' ()
Next job: 'CODE(0x418e0648)'
Complete: '0' ()
Next job: 'CODE(0x41ab2978)'
Complete: '0' ()
Next job: 'CODE(0x41b3ccf0)'
Complete: '0' ()
Next job: 'CODE(0x41b59f48)'
Complete: '0' ()
Next job: 'CODE(0x4190a048)'
Complete: '0' ()
Next job: 'CODE(0x41b3cf60)'
Complete: '0' ()
Next job: 'CODE(0x41b3cea0)'
Complete: '0' ()
Next job: 'CODE(0x41b3cde0)'
Complete: '0' ()
Next job: 'CODE(0x41b64678)'
Complete: '0' ()
Next job: 'CODE(0x41b64d08)'
Complete: '0' ()
Next job: 'CODE(0x41b64e58)'
Complete: '0' ()
Next job: 'CODE(0x41b64f18)'
Complete: '0' ()
Next job: 'CODE(0x41b64fd8)'
Complete: '0' ()
Next job: 'CODE(0x41b430c0)'
Complete: '0' ()
Next job: 'CODE(0x41b43180)'
Complete: '0' ()
Next job: 'CODE(0x41b43240)'
Complete: '0' ()
Next job: 'CODE(0x41b43300)'
Complete: '0' ()
Next job: 'CODE(0x41b433c0)'
Complete: '0' ()
Next job: ''
Non-forking queue
Next job: 'CODE(0x418e0420)'
Complete: '0' ()
Next job: 'CODE(0x41b64a20)'
Complete: '0' ()
Next job: 'CODE(0x41b43660)'
Complete: '0' ()
Next job: 'CODE(0x41b43750)'
Complete: '0' ()
Next job: 'CODE(0x41b43840)'
Complete: '0' ()
Next job: 'CODE(0x41b43930)'
Complete: '0' ()
Next job: 'CODE(0x41b43a20)'
Complete: '0' ()
Next job: 'CODE(0x41b43b10)'
Complete: '0' ()
Next job: 'CODE(0x41b43c00)'
Complete: '0' ()
Next job: 'CODE(0x41b43cf0)'
Complete: '0' ()
Next job: 'CODE(0x41b43de0)'
Complete: '0' ()
Next job: 'CODE(0x41b43ed0)'
Complete: '0' ()
Next job: 'CODE(0x41b43fc0)'
Complete: '0' ()
Next job: 'CODE(0x41b6a0d8)'
Complete: '0' ()
Next job: 'CODE(0x41b6a1c8)'
Complete: '0' ()
Next job: 'CODE(0x41b6a2b8)'
Complete: '0' ()
Next job: 'CODE(0x41b6a3a8)'
Complete: '0' ()
Next job: 'CODE(0x41b6a498)'
Complete: '0' ()
Next job: 'CODE(0x41b6a588)'
Complete: '0' ()
Next job: 'CODE(0x41b6a678)'
Complete: '0' ()
Next job: ''
Non-forking queue
Next job: 'CODE(0x418cd810)'
Complete: '0' ()
Next job: 'CODE(0x418e0798)'
Complete: '0' ()
Next job: 'CODE(0x418e0648)'
Complete: '0' ()
Next job: 'CODE(0x41ab2978)'
Complete: '0' ()
Next job: 'CODE(0x41b3ccf0)'
Complete: '0' ()
Next job: 'CODE(0x41b59f48)'
Complete: '0' ()
Next job: 'CODE(0x4190a048)'
Complete: '0' ()
Next job: 'CODE(0x41b3cf60)'
Complete: '0' ()
Next job: 'CODE(0x41b3cea0)'
Complete: '0' ()
Next job: 'CODE(0x41b3cde0)'
Complete: '0' ()
Next job: 'CODE(0x41b64678)'
Complete: '0' ()
Next job: 'CODE(0x41b64d08)'
Complete: '0' ()
Next job: 'CODE(0x41b64e58)'
Complete: '0' ()
Next job: 'CODE(0x41b64f18)'
Complete: '0' ()
Next job: 'CODE(0x41b64fd8)'
Complete: '0' ()
Next job: 'CODE(0x41b430c0)'
Complete: '0' ()
Next job: 'CODE(0x41b43180)'
Complete: '0' ()
Next job: 'CODE(0x41b43240)'
Complete: '0' ()
Next job: 'CODE(0x41b43300)'
Complete: '0' ()
Next job: 'CODE(0x41b433c0)'
Complete: '0' ()
Next job: ''
Non-forking queue
Next job: 'CODE(0x418e0420)'
Complete: '0' ()
Next job: 'CODE(0x41b64a20)'
Complete: '0' ()
Next job: 'CODE(0x41b43660)'
Complete: '0' ()
Next job: 'CODE(0x41b43750)'
Complete: '0' ()
Next job: 'CODE(0x41b43840)'
Complete: '0' ()
Next job: 'CODE(0x41b43930)'
Complete: '0' ()
Next job: 'CODE(0x41b43a20)'
Complete: '0' ()
Next job: 'CODE(0x41b43b10)'
Complete: '0' ()
Next job: 'CODE(0x41b43c00)'
Complete: '0' ()
Next job: 'CODE(0x41b43cf0)'
Complete: '0' ()
Next job: 'CODE(0x41b43de0)'
Complete: '0' ()
Next job: 'CODE(0x41b43ed0)'
Complete: '0' ()
Next job: 'CODE(0x41b43fc0)'
Complete: '0' ()
Next job: 'CODE(0x41b6a0d8)'
Complete: '0' ()
Next job: 'CODE(0x41b6a1c8)'
Complete: '0' ()
Next job: 'CODE(0x41b6a2b8)'
Complete: '0' ()
Next job: 'CODE(0x41b6a3a8)'
Complete: '0' ()
Next job: 'CODE(0x41b6a498)'
Complete: '0' ()
Next job: 'CODE(0x41b6a588)'
Complete: '0' ()
Next job: 'CODE(0x41b6a678)'
Complete: '0' ()
Next job: ''
Non-forking queue
Next job: 'CODE(0x418cd810)'
Complete: '0' ()
Next job: 'CODE(0x418e0798)'
Complete: '0' ()
Next job: 'CODE(0x418e0648)'
Complete: '0' ()
Next job: 'CODE(0x41ab2978)'
Complete: '0' ()
Next job: 'CODE(0x41b3ccf0)'
Complete: '0' ()
Next job: 'CODE(0x41b59f48)'
Complete: '0' ()
Next job: 'CODE(0x4190a048)'
Complete: '0' ()
Next job: 'CODE(0x41b3cf60)'
Complete: '0' ()
Next job: 'CODE(0x41b3cea0)'
Complete: '0' ()
Next job: 'CODE(0x41b3cde0)'
Complete: '0' ()
Next job: 'CODE(0x41b64678)'
Complete: '0' ()
Next job: 'CODE(0x41b64d08)'
Complete: '0' ()
Next job: 'CODE(0x41b64e58)'
Complete: '0' ()
Next job: 'CODE(0x41b64f18)'
Complete: '0' ()
Next job: 'CODE(0x41b64fd8)'
Complete: '0' ()
Next job: 'CODE(0x41b430c0)'
Complete: '0' ()
Next job: 'CODE(0x41b43180)'
Complete: '0' ()
Next job: 'CODE(0x41b43240)'
Complete: '0' ()
Next job: 'CODE(0x41b43300)'
Complete: '0' ()
Next job: 'CODE(0x41b433c0)'
Complete: '0' ()
Next job: ''
Non-forking queue
Next job: 'CODE(0x418e0420)'
Complete: '0' ()
Next job: 'CODE(0x41b64a20)'
Complete: '0' ()
Next job: 'CODE(0x41b43660)'
Complete: '0' ()
Next job: 'CODE(0x41b43750)'
Complete: '0' ()
Next job: 'CODE(0x41b43840)'
Complete: '0' ()
Next job: 'CODE(0x41b43930)'
Complete: '0' ()
Next job: 'CODE(0x41b43a20)'
Complete: '0' ()
Next job: 'CODE(0x41b43b10)'
Complete: '0' ()
Next job: 'CODE(0x41b43c00)'
Complete: '0' ()
Next job: 'CODE(0x41b43cf0)'
Complete: '0' ()
Next job: 'CODE(0x41b43de0)'
Complete: '0' ()
Next job: 'CODE(0x41b43ed0)'
Complete: '0' ()
Next job: 'CODE(0x41b43fc0)'
Complete: '0' ()
Next job: 'CODE(0x41b6a0d8)'
Complete: '0' ()
Next job: 'CODE(0x41b6a1c8)'
Complete: '0' ()
Next job: 'CODE(0x41b6a2b8)'
Complete: '0' ()
Next job: 'CODE(0x41b6a3a8)'
Complete: '0' ()
Next job: 'CODE(0x41b6a498)'
Complete: '0' ()
Next job: 'CODE(0x41b6a588)'
Complete: '0' ()
Next job: 'CODE(0x41b6a678)'
Complete: '0' ()
Next job: ''
t/02-debug-mode.t ............... ok
Smartmatch is experimental at t/03-fork.t line 83.
t/03-fork.t ..................... ok
t/04-nonzero-exit.t ............. ok
exit( 1 ) by 16769 at /usr/home/cpansand/.cpan/build/Parallel-Queue-3.6-wDuiYg/blib/lib/Parallel/Queue.pm line 227.
t/05-nonzero-with-finish.t ...... ok
Discarding non-queue 'PQ::Iterator::a'
Discarding non-queue 'PQ::Iterator::b'
Discarding non-queue 'PQ::Iterator::c'
t/06-iterator-package-nofork.t .. ok
Discarding non-queue 'PQ::Iterator::a'
Discarding non-queue 'PQ::Iterator::b'
Discarding non-queue 'PQ::Iterator::c'
t/07-iterator-package-fork.t .... ok
t/08-iterator-objects-nofork.t .. ok
t/09-iterator-objects-fork.t .... ok
All tests successful.
Files=10, Tests=87, 10 wallclock secs ( 0.23 usr  0.19 sys +  1.54 cusr  1.40 csys =  3.36 CPU)
Result: PASS

------------------------------
PREREQUISITES
------------------------------

Prerequisite modules loaded:

requires:

    Module              Need Have
    ------------------- ---- ----
    Carp                0    1.29
    Scalar::Util        0    1.41
    strict              0    1.07
    Symbol              0    1.07

build_requires:

    Module              Need Have
    ------------------- ---- ----
    ExtUtils::MakeMaker 0    7.04

configure_requires:

    Module              Need Have
    ------------------- ---- ----
    ExtUtils::MakeMaker 0    7.04


------------------------------
ENVIRONMENT AND OTHER CONTEXT
------------------------------

Environment variables:

    DBIC_NO_WARN_BAD_PERL = 1
    LC_ALL = de_DE.ISO8859-1
    PATH = /usr/local/bin:/usr/bin:/bin:/usr/local/sbin:/usr/sbin:/sbin:/home/cpansand/bin/freebsd10.0:/home/cpansand/bin/sh:/home/cpansand/bin:/usr/games:/home/cpansand/devel:/usr/home/eserte/src/srezic-misc/scripts
    PERL5LIB = /home/cpansand/.cpan/build/Text-Undiacritic-0.07-DxWVgy/blib/arch:/home/cpansand/.cpan/build/Text-Undiacritic-0.07-DxWVgy/blib/lib:/home/cpansand/.cpan/build/Alt-0.19-Vie6ZW/blib/arch:/home/cpansand/.cpan/build/Alt-0.19-Vie6ZW/blib/lib:/home/cpansand/.cpan/build/Image-Info-1.36_52-1j9pYT/blib/arch:/home/cpansand/.cpan/build/Image-Info-1.36_52-1j9pYT/blib/lib:/home/cpansand/.cpan/build/Class-Container-0.12-suUmkq/blib/arch:/home/cpansand/.cpan/build/Class-Container-0.12-suUmkq/blib/lib:/home/cpansand/.cpan/build/Map-Tube-2.47-BgY3J9/blib/arch:/home/cpansand/.cpan/build/Map-Tube-2.47-BgY3J9/blib/lib:/home/cpansand/.cpan/build/Test-Stream-0.000003-8RtXT4/blib/arch:/home/cpansand/.cpan/build/Test-Stream-0.000003-8RtXT4/blib/lib:/home/cpansand/.cpan/build/Catalyst-View-TT-0.42-NEAOum/blib/arch:/home/cpansand/.cpan/build/Catalyst-View-TT-0.42-NEAOum/blib/lib:/home/cpansand/.cpan/build/Mojolicious-Plugin-I18NUtils-0.12-IsXtZO/blib/arch:/home/cpansand/.cpan/build/Mojolicious-Plugin-I18NUtils-0.12-IsXtZO/blib/lib:/home/cpansand/.cpan/build/Search-Elasticsearch-Async-1.17-uaFPIG/blib/arch:/home/cpansand/.cpan/build/Search-Elasticsearch-Async-1.17-uaFPIG/blib/lib:/home/cpansand/.cpan/build/Search-Elasticsearch-1.17-3Sm6hU/blib/arch:/home/cpansand/.cpan/build/Search-Elasticsearch-1.17-3Sm6hU/blib/lib
    PERL5OPT = 
    PERL5_CPANPLUS_IS_RUNNING = 14364
    PERL5_CPAN_IS_RUNNING = 14364
    PERL5_CPAN_IS_RUNNING_IN_RECURSION = 14321,14364
    PERLDOC = -MPod::Perldoc::ToTextOverstrike
    PERL_BATCH = yes
    PERL_CPAN_REPORTER_CONFIG = /var/tmp/cpansmoker-1023/5Bd8lU3fuQ_config.ini
    PERL_EXTUTILS_AUTOINSTALL = --defaultdeps
    PERL_HTML_DISPLAY_CLASS = HTML::Display::Mozilla
    SHELL = /usr/local/bin/zsh
    TERM = screen
    TMPDIR = /var/tmp/cpansmoker-1023

Perl special variables (and OS-specific diagnostics, for MSWin32):

    $^X = /usr/perl5.18.4/bin/perl5.18.4
    $UID/$EUID = 1023 / 1023
    $GID = 1023 1023
    $EGID = 1023 1023

Perl module toolchain versions installed:

    Module              Have    
    ------------------- --------
    CPAN                2.00    
    CPAN::Meta          2.143240
    Cwd                 3.40    
    ExtUtils::CBuilder  0.280210
    ExtUtils::Command   1.17    
    ExtUtils::Install   1.59    
    ExtUtils::MakeMaker 7.04    
    ExtUtils::Manifest  1.69    
    ExtUtils::ParseXS   3.24    
    File::Spec          3.40    
    JSON                2.90    
    JSON::PP            2.27203 
    Module::Build       0.4210  
    Module::Signature   n/a     
    Parse::CPAN::Meta   1.4414  
    Test::Harness       3.34    
    Test::More          1.001013
    YAML                1.13    
    YAML::Syck          1.27    
    version             0.9909  


--

Summary of my perl5 (revision 5 version 18 subversion 4) configuration:
   
  Platform:
    osname=freebsd, osvers=10.1-release, archname=amd64-freebsd
    uname='freebsd cvrsnica-freebsd-101.herceg.de 10.1-release freebsd 10.1-release #0 r274401: tue nov 11 21:02:49 utc 2014 root@releng1.nyi.freebsd.org:usrobjusrsrcsysgeneric amd64 '
    config_args='-ds -e -Dprefix=/usr/perl5.18.4'
    hint=recommended, useposix=true, d_sigaction=define
    useithreads=undef, usemultiplicity=undef
    useperlio=define, d_sfio=undef, uselargefiles=define, usesocks=undef
    use64bitint=define, use64bitall=define, uselongdouble=undef
    usemymalloc=n, bincompat5005=undef
  Compiler:
    cc='cc', ccflags ='-DHAS_FPSETMASK -DHAS_FLOATINGPOINT_H -fno-strict-aliasing -pipe -fstack-protector -I/usr/local/include',
    optimize='-O',
    cppflags='-DHAS_FPSETMASK -DHAS_FLOATINGPOINT_H -fno-strict-aliasing -pipe -fstack-protector -I/usr/local/include'
    ccversion='', gccversion='4.2.1 Compatible FreeBSD Clang 3.4.1 (tags/RELEASE_34/dot1-final 208032)', gccosandvers=''
    intsize=4, longsize=8, ptrsize=8, doublesize=8, byteorder=12345678
    d_longlong=define, longlongsize=8, d_longdbl=define, longdblsize=16
    ivtype='long', ivsize=8, nvtype='double', nvsize=8, Off_t='off_t', lseeksize=8
    alignbytes=8, prototype=define
  Linker and Libraries:
    ld='cc', ldflags ='-Wl,-E  -fstack-protector -L/usr/local/lib'
    libpth=/usr/lib /usr/local/lib
    libs=-lm -lcrypt -lutil -lc
    perllibs=-lm -lcrypt -lutil -lc
    libc=, so=so, useshrplib=false, libperl=libperl.a
    gnulibc_version=''
  Dynamic Linking:
    dlsrc=dl_dlopen.xs, dlext=so, d_dlsymun=undef, ccdlflags=' '
    cccdlflags='-DPIC -fPIC', lddlflags='-shared  -L/usr/local/lib -fstack-protector'


Characteristics of this binary (from libperl): 
  Compile-time options: HAS_TIMES PERLIO_LAYERS PERL_DONT_CREATE_GVSV
                        PERL_HASH_FUNC_ONE_AT_A_TIME_HARD PERL_MALLOC_WRAP
                        PERL_PRESERVE_IVUV PERL_SAWAMPERSAND USE_64_BIT_ALL
                        USE_64_BIT_INT USE_LARGE_FILES USE_LOCALE
                        USE_LOCALE_COLLATE USE_LOCALE_CTYPE
                        USE_LOCALE_NUMERIC USE_PERLIO USE_PERL_ATOF
  Built under freebsd
  Compiled at Nov 28 2014 09:21:42
  %ENV:
    PERL5LIB="/home/cpansand/.cpan/build/Text-Undiacritic-0.07-DxWVgy/blib/arch:/home/cpansand/.cpan/build/Text-Undiacritic-0.07-DxWVgy/blib/lib:/home/cpansand/.cpan/build/Alt-0.19-Vie6ZW/blib/arch:/home/cpansand/.cpan/build/Alt-0.19-Vie6ZW/blib/lib:/home/cpansand/.cpan/build/Image-Info-1.36_52-1j9pYT/blib/arch:/home/cpansand/.cpan/build/Image-Info-1.36_52-1j9pYT/blib/lib:/home/cpansand/.cpan/build/Class-Container-0.12-suUmkq/blib/arch:/home/cpansand/.cpan/build/Class-Container-0.12-suUmkq/blib/lib:/home/cpansand/.cpan/build/Map-Tube-2.47-BgY3J9/blib/arch:/home/cpansand/.cpan/build/Map-Tube-2.47-BgY3J9/blib/lib:/home/cpansand/.cpan/build/Test-Stream-0.000003-8RtXT4/blib/arch:/home/cpansand/.cpan/build/Test-Stream-0.000003-8RtXT4/blib/lib:/home/cpansand/.cpan/build/Catalyst-View-TT-0.42-NEAOum/blib/arch:/home/cpansand/.cpan/build/Catalyst-View-TT-0.42-NEAOum/blib/lib:/home/cpansand/.cpan/build/Mojolicious-Plugin-I18NUtils-0.12-IsXtZO/blib/arch:/home/cpansand/.cpan/build/Mojolicious-Plugin-I18NUtils-0.12-IsXtZO/blib/lib:/home/cpansand/.cpan/build/Search-Elasticsearch-Async-1.17-uaFPIG/blib/arch:/home/cpansand/.cpan/build/Search-Elasticsearch-Async-1.17-uaFPIG/blib/lib:/home/cpansand/.cpan/build/Search-Elasticsearch-1.17-3Sm6hU/blib/arch:/home/cpansand/.cpan/build/Search-Elasticsearch-1.17-3Sm6hU/blib/lib"
    PERL5OPT=""
    PERL5_CPANPLUS_IS_RUNNING="14364"
    PERL5_CPAN_IS_RUNNING="14364"
    PERL5_CPAN_IS_RUNNING_IN_RECURSION="14321,14364"
    PERLDOC="-MPod::Perldoc::ToTextOverstrike"
    PERL_BATCH="yes"
    PERL_CPAN_REPORTER_CONFIG="/var/tmp/cpansmoker-1023/5Bd8lU3fuQ_config.ini"
    PERL_EXTUTILS_AUTOINSTALL="--defaultdeps"
    PERL_HTML_DISPLAY_CLASS="HTML::Display::Mozilla"
  @INC:
    /home/cpansand/.cpan/build/Text-Undiacritic-0.07-DxWVgy/blib/arch
    /home/cpansand/.cpan/build/Text-Undiacritic-0.07-DxWVgy/blib/lib
    /home/cpansand/.cpan/build/Alt-0.19-Vie6ZW/blib/arch
    /home/cpansand/.cpan/build/Alt-0.19-Vie6ZW/blib/lib
    /home/cpansand/.cpan/build/Image-Info-1.36_52-1j9pYT/blib/arch
    /home/cpansand/.cpan/build/Image-Info-1.36_52-1j9pYT/blib/lib
    /home/cpansand/.cpan/build/Class-Container-0.12-suUmkq/blib/arch
    /home/cpansand/.cpan/build/Class-Container-0.12-suUmkq/blib/lib
    /home/cpansand/.cpan/build/Map-Tube-2.47-BgY3J9/blib/arch
    /home/cpansand/.cpan/build/Map-Tube-2.47-BgY3J9/blib/lib
    /home/cpansand/.cpan/build/Test-Stream-0.000003-8RtXT4/blib/arch
    /home/cpansand/.cpan/build/Test-Stream-0.000003-8RtXT4/blib/lib
    /home/cpansand/.cpan/build/Catalyst-View-TT-0.42-NEAOum/blib/arch
    /home/cpansand/.cpan/build/Catalyst-View-TT-0.42-NEAOum/blib/lib
    /home/cpansand/.cpan/build/Mojolicious-Plugin-I18NUtils-0.12-IsXtZO/blib/arch
    /home/cpansand/.cpan/build/Mojolicious-Plugin-I18NUtils-0.12-IsXtZO/blib/lib
    /home/cpansand/.cpan/build/Search-Elasticsearch-Async-1.17-uaFPIG/blib/arch
    /home/cpansand/.cpan/build/Search-Elasticsearch-Async-1.17-uaFPIG/blib/lib
    /home/cpansand/.cpan/build/Search-Elasticsearch-1.17-3Sm6hU/blib/arch
    /home/cpansand/.cpan/build/Search-Elasticsearch-1.17-3Sm6hU/blib/lib
    /usr/perl5.18.4/lib/site_perl/5.18.4/amd64-freebsd
    /usr/perl5.18.4/lib/site_perl/5.18.4
    /usr/perl5.18.4/lib/5.18.4/amd64-freebsd
    /usr/perl5.18.4/lib/5.18.4
    .