Report for POE-Component-SSLify-1.005

Back
From: metabase:user:315f03b2-2aae-11df-837a-5e0a49663a4f
Subject: PASS POE-Component-SSLify-1.005 v5.12.3 OpenBSD
Date: 2011-03-17T00:21:34Z

This distribution has been tested as part of the CPAN Testers
project, supporting the Perl programming language.  See
http://wiki.cpantesters.org/ for more information or email
questions to cpan-testers-discuss@perl.org


--
Dear Apocalypse,

This is a computer-generated report for POE-Component-SSLify-1.005
on perl 5.12.3, created by CPAN-Reporter-1.1902.

Thank you for uploading your work to CPAN.  Congratulations!
All tests were successful.

Sections of this report:

    * Tester comments
    * Program output
    * Prerequisites
    * Environment and other context

------------------------------
TESTER COMMENTS
------------------------------

Additional comments from tester:

this report is from an automated smoke testing program
and was not reviewed by a human for accuracy

------------------------------
PROGRAM OUTPUT
------------------------------

Output from './Build test':

t/00-compile.t ................ ok
# 
# 
# perl: v5.12.3 (wanted 5.006) on openbsd from /usr/local/perl-5.12.3-threads/bin/perl
# 
# Exporter                                      => 5.64_01    (want any version)
# File::Find                                    => 1.15       (want any version)
# File::Temp                                    => 0.22       (want any version)
# IO::Handle                                    => 1.28       (want 1.28)   
# Module::Build                                 => 0.3603     (want 0.3601) 
# Net::SSLeay                                   => 1.36       (want 1.36)   
# POE                                           => 1.299      (want 1.267)  
# POE::Component::Client::TCP                   => 1.299      (want any version)
# POE::Component::Server::TCP                   => 1.299      (want any version)
# Scalar::Util                                  => 1.22       (want any version)
# Socket                                        => 1.87_01    (want any version)
# Symbol                                        => 1.07       (want any version)
# Task::Weaken                                  => 1.04       (want 1.03)   
# Test::More                                    => 0.94       (want 0.88)   
# parent                                        => 0.223      (want any version)
# 
# Thanks for using my code.  I hope it works for you.
# If not, please try and include this output in the bug report.
# That will help me reproduce the issue and solve you problem.
# 
t/000-report-versions-tiny.t .. ok
t/1_simple.t .................. ok
t/2_renegotiate.t ............. ok
t/3_upgrade.t ................. ok
t/4_connect_hook.t ............ ok
t/5_connfail_client.t ......... ok
t/6_connfail_server.t ......... skipped: This test hangs for some reason
t/apocalypse.t ................ skipped: Test::Apocalypse required for validating the distribution
All tests successful.

Test Summary Report
-------------------
t/2_renegotiate.t           (Wstat: 0 Tests: 24 Failed: 0)
  TODO passed:   15-17
Files=9, Tests=91,  8 wallclock secs ( 0.20 usr  0.12 sys +  5.95 cusr  1.18 csys =  7.45 CPU)
Result: PASS

------------------------------
PREREQUISITES
------------------------------

Prerequisite modules loaded:

requires:

    Module                      Need   Have    
    --------------------------- ------ --------
    Exporter                    0      5.64_01 
    IO::Handle                  1.28   1.28    
    Net::SSLeay                 1.36   1.36    
    parent                      0      0.223   
    perl                        5.006  5.012003
    Scalar::Util                0      1.22    
    Symbol                      0      1.07    
    Task::Weaken                1.03   1.04    

build_requires:

    Module                      Need   Have    
    --------------------------- ------ --------
    File::Find                  0      1.15    
    File::Temp                  0      0.22    
    Module::Build               0.3601 0.3603  
    POE                         1.267  1.299   
    POE::Component::Client::TCP 0      1.299   
    POE::Component::Server::TCP 0      1.299   
    Socket                      0      1.87_01 
    Test::More                  0.88   0.94    

configure_requires:

    Module                      Need   Have    
    --------------------------- ------ --------
    Module::Build               0.3601 0.3603  


------------------------------
ENVIRONMENT AND OTHER CONTEXT
------------------------------

Environment variables:

    AUTOMATED_TESTING = 1
    PATH = /usr/bin:/bin:/usr/sbin:/sbin:/usr/X11R6/bin:/usr/local/bin
    PERL5LIB = /home/smoke/.cpan/build/Task-Weaken-1.04-f1_Z0a/blib/arch:/home/smoke/.cpan/build/Task-Weaken-1.04-f1_Z0a/blib/lib:/home/smoke/.cpan/build/POE-1.299-0oN0tz/blib/arch:/home/smoke/.cpan/build/POE-1.299-0oN0tz/blib/lib:/home/smoke/.cpan/build/IO-Tty-1.10-oy_xXv/blib/arch:/home/smoke/.cpan/build/IO-Tty-1.10-oy_xXv/blib/lib:/home/smoke/.cpan/build/POE-Test-Loops-1.040-laH2iH/blib/arch:/home/smoke/.cpan/build/POE-Test-Loops-1.040-laH2iH/blib/lib:/home/smoke/.cpan/build/Net-SSLeay-1.36-1DQlUM/blib/arch:/home/smoke/.cpan/build/Net-SSLeay-1.36-1DQlUM/blib/lib
    PERL5OPT = 
    PERL5_CPANPLUS_IS_RUNNING = 14910
    PERL5_CPAN_IS_RUNNING = 14910
    PERL5_CPAN_IS_RUNNING_IN_RECURSION = 29010,14910
    PERL_CR_SMOKER_CURRENT = POE-Component-SSLify-1.005
    PERL_EXTUTILS_AUTOINSTALL = --defaultdeps
    PERL_MM_USE_DEFAULT = 1
    SHELL = /usr/local/bin/bash
    TERM = screen

Perl special variables (and OS-specific diagnostics, for MSWin32):

    $^X = /usr/local/perl-5.12.3-threads/bin/perl
    $UID/$EUID = 1002 / 1002
    $GID = 1002 1002
    $EGID = 1002 1002

Perl module toolchain versions installed:

    Module              Have   
    ------------------- -------
    CPAN                1.94_56
    Cwd                 3.31   
    ExtUtils::CBuilder  0.27   
    ExtUtils::Command   1.16   
    ExtUtils::Install   1.55   
    ExtUtils::MakeMaker 6.56   
    ExtUtils::Manifest  1.57   
    ExtUtils::ParseXS   2.21   
    File::Spec          3.31_01
    Module::Build       0.3603 
    Module::Signature   n/a    
    Test::Harness       3.17   
    Test::More          0.94   
    YAML                0.72   
    YAML::Syck          n/a    
    version             0.82   


--

Summary of my perl5 (revision 5 version 12 subversion 3) configuration:
   
  Platform:
    osname=openbsd, osvers=4.5, archname=OpenBSD.i386-openbsd-thread-multi
    uname='openbsd minimunch.int.zeroclue.org 4.5 generic#1749 i386 '
    config_args=''
    hint=recommended, useposix=true, d_sigaction=define
    useithreads=define, usemultiplicity=define
    useperlio=define, d_sfio=undef, uselargefiles=define, usesocks=undef
    use64bitint=undef, use64bitall=undef, uselongdouble=undef
    usemymalloc=n, bincompat5005=undef
  Compiler:
    cc='cc', ccflags ='-pthread -fno-strict-aliasing -pipe -fstack-protector -I/usr/local/include',
    optimize='-O2',
    cppflags='-pthread -fno-strict-aliasing -pipe -fstack-protector -I/usr/local/include'
    ccversion='', gccversion='3.3.5 (propolice)', gccosandvers='openbsd4.5'
    intsize=4, longsize=4, ptrsize=4, doublesize=8, byteorder=1234
    d_longlong=define, longlongsize=8, d_longdbl=define, longdblsize=12
    ivtype='long', ivsize=4, nvtype='double', nvsize=8, Off_t='off_t', lseeksize=8
    alignbytes=4, prototype=define
  Linker and Libraries:
    ld='cc', ldflags ='-pthread -Wl,-E  -fstack-protector -L/usr/local/lib'
    libpth=/usr/local/lib /usr/lib
    libs=-lgdbm -lm -lutil -lc
    perllibs=-lm -lutil -lc
    libc=/usr/lib/libc.so.50.1, so=so, useshrplib=false, libperl=libperl.a
    gnulibc_version=''
  Dynamic Linking:
    dlsrc=dl_dlopen.xs, dlext=so, d_dlsymun=undef, ccdlflags=' '
    cccdlflags='-DPIC -fPIC ', lddlflags='-shared -fPIC  -L/usr/local/lib -fstack-protector'


Characteristics of this binary (from libperl): 
  Compile-time options: MULTIPLICITY PERL_DONT_CREATE_GVSV
                        PERL_IMPLICIT_CONTEXT PERL_MALLOC_WRAP USE_ITHREADS
                        USE_LARGE_FILES USE_PERLIO USE_PERL_ATOF
                        USE_REENTRANT_API
  Built under openbsd
  Compiled at Jan 24 2011 21:29:20
  %ENV:
    PERL5LIB="/home/smoke/.cpan/build/Task-Weaken-1.04-f1_Z0a/blib/arch:/home/smoke/.cpan/build/Task-Weaken-1.04-f1_Z0a/blib/lib:/home/smoke/.cpan/build/POE-1.299-0oN0tz/blib/arch:/home/smoke/.cpan/build/POE-1.299-0oN0tz/blib/lib:/home/smoke/.cpan/build/IO-Tty-1.10-oy_xXv/blib/arch:/home/smoke/.cpan/build/IO-Tty-1.10-oy_xXv/blib/lib:/home/smoke/.cpan/build/POE-Test-Loops-1.040-laH2iH/blib/arch:/home/smoke/.cpan/build/POE-Test-Loops-1.040-laH2iH/blib/lib:/home/smoke/.cpan/build/Net-SSLeay-1.36-1DQlUM/blib/arch:/home/smoke/.cpan/build/Net-SSLeay-1.36-1DQlUM/blib/lib"
    PERL5OPT=""
    PERL5_CPANPLUS_IS_RUNNING="14910"
    PERL5_CPAN_IS_RUNNING="14910"
    PERL5_CPAN_IS_RUNNING_IN_RECURSION="29010,14910"
    PERL_CR_SMOKER_CURRENT="POE-Component-SSLify-1.005"
    PERL_EXTUTILS_AUTOINSTALL="--defaultdeps"
    PERL_MM_USE_DEFAULT="1"
  @INC:
    /home/smoke/.cpan/build/Task-Weaken-1.04-f1_Z0a/blib/arch
    /home/smoke/.cpan/build/Task-Weaken-1.04-f1_Z0a/blib/lib
    /home/smoke/.cpan/build/POE-1.299-0oN0tz/blib/arch
    /home/smoke/.cpan/build/POE-1.299-0oN0tz/blib/lib
    /home/smoke/.cpan/build/IO-Tty-1.10-oy_xXv/blib/arch
    /home/smoke/.cpan/build/IO-Tty-1.10-oy_xXv/blib/lib
    /home/smoke/.cpan/build/POE-Test-Loops-1.040-laH2iH/blib/arch
    /home/smoke/.cpan/build/POE-Test-Loops-1.040-laH2iH/blib/lib
    /home/smoke/.cpan/build/Net-SSLeay-1.36-1DQlUM/blib/arch
    /home/smoke/.cpan/build/Net-SSLeay-1.36-1DQlUM/blib/lib
    /usr/local/perl-5.12.3-threads/lib/site_perl/5.12.3/OpenBSD.i386-openbsd-thread-multi
    /usr/local/perl-5.12.3-threads/lib/site_perl/5.12.3
    /usr/local/perl-5.12.3-threads/lib/5.12.3/OpenBSD.i386-openbsd-thread-multi
    /usr/local/perl-5.12.3-threads/lib/5.12.3
    .