Crypt-OpenSSL-PKCS10 v0.26 Perl 5 v5.41.8 amd64-netbsd

Status
Pass
From
Carlos Guevara
Dist
Crypt-OpenSSL-PKCS10 v0.26
Platform
Perl 5 v5.41.8 amd64-netbsd
Date
2024-12-31 07:54:51
ID
83e276fa-c74c-11ef-b69a-eb7623a44e46
This distribution has been tested as part of the CPAN Testers
project, supporting the Perl programming language.  See
http://wiki.cpantesters.org/ for more information or email
questions to cpan-testers-discuss@perl.org


--
Dear Timothy Legge,

This is a computer-generated report for Crypt-OpenSSL-PKCS10-0.26
on perl 5.41.8, created by CPAN-Reporter-1.2020.

Thank you for uploading your work to CPAN.  Congratulations!
All tests were successful.

Sections of this report:

    * Tester comments
    * Program output
    * Prerequisites
    * Environment and other context

------------------------------
TESTER COMMENTS
------------------------------

Additional comments from tester:

this report is from an automated smoke testing program
and was not reviewed by a human for accuracy

------------------------------
PROGRAM OUTPUT
------------------------------

Output from '/usr/bin/make test':

"/home/cpan/bin/perl/bin/perl5.41.8" -MExtUtils::Command::MM -e 'cp_nonempty' -- PKCS10.bs blib/arch/auto/Crypt/OpenSSL/PKCS10/PKCS10.bs 644
PERL_DL_NONLAZY=1 "/home/cpan/bin/perl/bin/perl5.41.8" "-MExtUtils::Command::MM" "-MTest::Harness" "-e" "undef *Test::Harness::Switches; test_harness(0, 'blib/lib', 'blib/arch')" t/*.t
t/author-pod-spell.t ... skipped: these tests are for testing by the author
t/author-pod-syntax.t .. skipped: these tests are for testing by the author
-----BEGIN CERTIFICATE REQUEST-----
MIIBPzCBqQIBADAAMIGfMA0GCSqGSIb3DQEBAQUAA4GNADCBiQKBgQDlleOTPoI6
naArwHB80Tb9xsk4QAeFKFXRaAXQzqEKYwvg1eBEAeN+FQzd1iN+hKyLOESnnQnA
/5OfmLLOAh7GldJzIQdq70DfJ+tbvYAmHs4Bddm3+CyTMmQOmqHbAOyMI8Nk6jx6
VRGC7YLPjnUVdO9bGuc3ZUAAI0sqHdVIBQIDAQABoAAwDQYJKoZIhvcNAQELBQAD
gYEAGqbWSzuX060yK0AJ2W6X+e1PzRmBB6RrJ63mfEX2aj8Ihichk4mcs6YL24/q
2MarICJpHZ1VRuUkYGor9Rk3uGjoljhy5/nGHU4Zc4G8Os33qhHF6tD9vvmQYBYk
weL+gIipMZEv30QmDdbd9fRmYSVu1uBCUOXG1ku6tNLaLYc=
-----END CERTIFICATE REQUEST-----

Public-Key: (1024 bit)
Modulus:
    00:e5:95:e3:93:3e:82:3a:9d:a0:2b:c0:70:7c:d1:
    36:fd:c6:c9:38:40:07:85:28:55:d1:68:05:d0:ce:
    a1:0a:63:0b:e0:d5:e0:44:01:e3:7e:15:0c:dd:d6:
    23:7e:84:ac:8b:38:44:a7:9d:09:c0:ff:93:9f:98:
    b2:ce:02:1e:c6:95:d2:73:21:07:6a:ef:40:df:27:
    eb:5b:bd:80:26:1e:ce:01:75:d9:b7:f8:2c:93:32:
    64:0e:9a:a1:db:00:ec:8c:23:c3:64:ea:3c:7a:55:
    11:82:ed:82:cf:8e:75:15:74:ef:5b:1a:e7:37:65:
    40:00:23:4b:2a:1d:d5:48:05
Exponent: 65537 (0x10001)

-----BEGIN CERTIFICATE REQUEST-----
MIIBPzCBqQIBADAAMIGfMA0GCSqGSIb3DQEBAQUAA4GNADCBiQKBgQDP68yW+lb3
0WdEEG26ibDHem580FVCKhR9Ykd26k0KWQV5fZuvymTqiTOMVYy4eHw9cy1FsIKh
Q4+C0jJnRgODWXPqJGxdJzNHphvpbZmPIH0u33P9ztdCf2WdBrhZzJXHTeNpMkIb
c3A8CtruPuvEsuohA9adi8rjYGgTyL5TSQIDAQABoAAwDQYJKoZIhvcNAQELBQAD
gYEAHgHLtJBjiM9/JPXQoGbJtlsFxhVXU+7mLE5GPh6lDiqYqv7d8REuLHtWTMlN
NcZ/HRbg5vjWTTYEB3W8lYsTa2v7O/6qCOIZRrVCr8ZX1l97uzZSdQoJTlNRdZ5P
EgDgnFKCHop6l8I/yw+UZttH6rvOOjideOZyhclPBgvT3Ns=
-----END CERTIFICATE REQUEST-----

Public-Key: (1024 bit)
Modulus:
    00:cf:eb:cc:96:fa:56:f7:d1:67:44:10:6d:ba:89:
    b0:c7:7a:6e:7c:d0:55:42:2a:14:7d:62:47:76:ea:
    4d:0a:59:05:79:7d:9b:af:ca:64:ea:89:33:8c:55:
    8c:b8:78:7c:3d:73:2d:45:b0:82:a1:43:8f:82:d2:
    32:67:46:03:83:59:73:ea:24:6c:5d:27:33:47:a6:
    1b:e9:6d:99:8f:20:7d:2e:df:73:fd:ce:d7:42:7f:
    65:9d:06:b8:59:cc:95:c7:4d:e3:69:32:42:1b:73:
    70:3c:0a:da:ee:3e:eb:c4:b2:ea:21:03:d6:9d:8b:
    ca:e3:60:68:13:c8:be:53:49
Exponent: 65537 (0x10001)

rsa
-----BEGIN PUBLIC KEY-----
MIGfMA0GCSqGSIb3DQEBAQUAA4GNADCBiQKBgQDP68yW+lb30WdEEG26ibDHem58
0FVCKhR9Ykd26k0KWQV5fZuvymTqiTOMVYy4eHw9cy1FsIKhQ4+C0jJnRgODWXPq
JGxdJzNHphvpbZmPIH0u33P9ztdCf2WdBrhZzJXHTeNpMkIbc3A8CtruPuvEsuoh
A9adi8rjYGgTyL5TSQIDAQAB
-----END PUBLIC KEY-----

-----BEGIN CERTIFICATE REQUEST-----
MIICJzCCAZACAQAwKTELMAkGA1UEBhMCUk8xDDAKBgNVBAoMA1VUSTEMMAoGA1UE
CwwDc3NpMIGfMA0GCSqGSIb3DQEBAQUAA4GNADCBiQKBgQDEUGeLnG4rGFYrGYgD
xU/U/mY4R+mBbA7NhMcoshfvhu0zInkSzyBUvT+pHx2/Vc95lpooSWXKWaC+Wn+W
YA+mojYMqTPBQOUfXgrvz+Kb6SgPL22SToYRYkWfCA14SWkXQnQGMi3PganIUINB
k4uDjQ733CRfvy2A7tUwgnlVHwIDAQABoIG9MIG6BgkqhkiG9w0BCQ4xgawwgakw
DgYDVR0PAQH/BAQDAgWgMC4GA1UdJQQnMCUGCCsGAQUFBwMBBglghkgBhvhCBAEG
CisGAQQBgjcKAwMGAisEMBwGA1UdEQQVMBOBEXN0ZXZlQG9wZW5zc2wub3JnMB0G
A1UdDgQWBBTzc1NhW7/w7C5OsuoNCSnA6H8/pTAZBgMqAwMEEhYQTXkgbmV3IGV4
dGVuc2lvbjAPBgMqAwQECB4GAGEAYgBjMA0GCSqGSIb3DQEBCwUAA4GBAH0572Dh
vLLxRDcXNohd4j+F3wB1UYNBr9xwXCfOWqMdW982xMoItv/QNOJr7G58Pu+1KOe3
COwJEoa22LIg+Jy1RoxoaLCH3KZZLXgI+sn2YBDqgHbdB23PDVsejYlzcmWJGvZd
8kE9syqrn/bJOGzHwz6yMc5aLFRe8hPaw3b5
-----END CERTIFICATE REQUEST-----
C=RO, O=UTI, OU=ssi
Public-Key: (1024 bit)
Modulus:
    00:c4:50:67:8b:9c:6e:2b:18:56:2b:19:88:03:c5:
    4f:d4:fe:66:38:47:e9:81:6c:0e:cd:84:c7:28:b2:
    17:ef:86:ed:33:22:79:12:cf:20:54:bd:3f:a9:1f:
    1d:bf:55:cf:79:96:9a:28:49:65:ca:59:a0:be:5a:
    7f:96:60:0f:a6:a2:36:0c:a9:33:c1:40:e5:1f:5e:
    0a:ef:cf:e2:9b:e9:28:0f:2f:6d:92:4e:86:11:62:
    45:9f:08:0d:78:49:69:17:42:74:06:32:2d:cf:81:
    a9:c8:50:83:41:93:8b:83:8d:0e:f7:dc:24:5f:bf:
    2d:80:ee:d5:30:82:79:55:1f
Exponent: 65537 (0x10001)

rsa
-----BEGIN PUBLIC KEY-----
MIGfMA0GCSqGSIb3DQEBAQUAA4GNADCBiQKBgQDEUGeLnG4rGFYrGYgDxU/U/mY4
R+mBbA7NhMcoshfvhu0zInkSzyBUvT+pHx2/Vc95lpooSWXKWaC+Wn+WYA+mojYM
qTPBQOUfXgrvz+Kb6SgPL22SToYRYkWfCA14SWkXQnQGMi3PganIUINBk4uDjQ73
3CRfvy2A7tUwgnlVHwIDAQAB
-----END PUBLIC KEY-----

C=DE, ST=NRW, L=Foo, O=Internet Widgits Pty Ltd, CN=foo.der.bar.com
Public-Key: (2048 bit)
Modulus:
    00:c0:f3:18:17:17:28:00:e7:26:3f:b3:e3:40:13:
    30:96:36:a3:5d:97:7a:ad:9c:e5:10:d5:93:a0:4f:
    02:60:0d:0c:d9:36:f3:4c:e0:42:1a:68:71:5d:f3:
    36:c7:fc:01:77:c3:7e:a1:e9:b1:09:73:5a:a4:ad:
    75:9e:e5:d4:30:3d:0e:98:92:b2:e5:c2:0f:78:7b:
    49:af:21:4d:99:a1:99:25:63:59:5b:b0:2f:96:b8:
    95:b4:a8:a0:18:41:6d:4f:d1:bb:3e:a4:b0:da:1f:
    08:20:3d:85:50:fc:29:40:ae:12:31:71:55:04:9c:
    45:cb:40:47:b0:60:58:46:3e:68:46:26:16:fb:c0:
    e5:76:1d:a1:b1:c1:f0:47:f1:5f:ff:62:c1:81:b7:
    13:92:d8:f3:df:bf:f5:24:0a:13:43:3d:93:05:42:
    10:aa:0f:16:53:e3:32:ba:dc:1e:f8:04:b2:34:98:
    5f:2c:c1:5d:16:7a:e6:88:de:99:f4:ed:8a:f4:bd:
    33:c5:e7:88:bd:3e:54:e1:c2:c1:88:d3:38:84:fb:
    41:76:68:3d:76:23:90:94:47:74:33:b9:0b:1a:8f:
    c7:7f:d5:d2:82:32:1b:4c:fd:e2:fc:17:75:46:97:
    73:a5:19:03:20:68:c2:58:ee:be:7d:a4:1e:08:0f:
    11:eb
Exponent: 65537 (0x10001)

rsa
-----BEGIN PUBLIC KEY-----
MIIBIjANBgkqhkiG9w0BAQEFAAOCAQ8AMIIBCgKCAQEAwPMYFxcoAOcmP7PjQBMw
ljajXZd6rZzlENWToE8CYA0M2TbzTOBCGmhxXfM2x/wBd8N+oemxCXNapK11nuXU
MD0OmJKy5cIPeHtJryFNmaGZJWNZW7AvlriVtKigGEFtT9G7PqSw2h8IID2FUPwp
QK4SMXFVBJxFy0BHsGBYRj5oRiYW+8Dldh2hscHwR/Ff/2LBgbcTktjz37/1JAoT
Qz2TBUIQqg8WU+Myutwe+ASyNJhfLMFdFnrmiN6Z9O2K9L0zxeeIvT5U4cLBiNM4
hPtBdmg9diOQlEd0M7kLGo/Hf9XSgjIbTP3i/Bd1RpdzpRkDIGjCWO6+faQeCA8R
6wIDAQAB
-----END PUBLIC KEY-----

t/Mytest.t ............. ok
t/release-kwalitee.t ... skipped: these tests are for release candidate testing
t/release-meta-json.t .. skipped: these tests are for release candidate testing
All tests successful.
Files=5, Tests=7,  0 wallclock secs ( 0.01 usr  0.02 sys +  0.09 cusr  0.02 csys =  0.14 CPU)
Result: PASS

------------------------------
PREREQUISITES
------------------------------

Prerequisite modules loaded:

requires:

    Module                Need  Have    
    --------------------- ----- --------
    Crypt::OpenSSL::RSA   0     0.33    
    Exporter              0     5.78    
    perl                  5.008 5.041008
    XSLoader              0     0.32    

build_requires:

    Module                Need  Have    
    --------------------- ----- --------
    Crypt::OpenSSL::Guess 0.11  0.15    
    Crypt::OpenSSL::RSA   0     0.33    
    Test::More            0     1.302207

configure_requires:

    Module                Need  Have    
    --------------------- ----- --------
    Crypt::OpenSSL::Guess 0.11  0.15    
    ExtUtils::MakeMaker   0     7.70    


------------------------------
ENVIRONMENT AND OTHER CONTEXT
------------------------------

Environment variables:

    AUTOMATED_TESTING = 1
    DATE_MANIP_TEST_DM5 = 1
    LC_ALL = C
    NONINTERACTIVE_TESTING = 1
    NO_NETWORK_TESTING = 1
    PATH = /home/cpan/bin/perl/bin:/home/cpan/bin:/home/cpan/bin:/bin:/sbin:/usr/bin:/usr/sbin:/usr/X11R7/bin:/usr/pkg/bin:/usr/pkg/sbin:/usr/games:/usr/local/bin:/usr/local/sbin
    PERL5LIB = 
    PERL5OPT = 
    PERL5_CPANPLUS_IS_RUNNING = 7773
    PERL5_CPAN_IS_RUNNING = 7773
    PERL_MM_USE_DEFAULT = 1
    PERL_USE_UNSAFE_INC = 1
    SHELL = /usr/pkg/bin/bash
    TERM = screen
    TMPDIR = /home/cpan/tmp

Perl special variables (and OS-specific diagnostics, for MSWin32):

    $^X = /home/cpan/bin/perl/bin/perl5.41.8
    $UID/$EUID = 1001 / 1001
    $GID = 100 100
    $EGID = 100 100

Perl module toolchain versions installed:

    Module              Have    
    ------------------- --------
    CPAN                2.38    
    CPAN::Meta          2.150010
    Cwd                 3.92    
    ExtUtils::CBuilder  0.280240
    ExtUtils::Command   7.70    
    ExtUtils::Install   2.22    
    ExtUtils::MakeMaker 7.70    
    ExtUtils::Manifest  1.75    
    ExtUtils::ParseXS   3.56    
    File::Spec          3.93    
    JSON                4.10    
    JSON::PP            4.16    
    Module::Build       0.4234  
    Module::Signature   0.89    
    Parse::CPAN::Meta   2.150010
    Test2               1.302207
    Test::Harness       3.50    
    Test::More          1.302207
    YAML                1.31    
    YAML::Syck          1.34    
    version             0.9933  


--

Summary of my perl5 (revision 5 version 41 subversion 8) configuration:
  Commit id: a73cdaecc7e625c976c1806ebdcb715321d892e3
  Platform:
    osname=netbsd
    osvers=10.0
    archname=amd64-netbsd
    uname='netbsd cjg-netbsd10 10.0 netbsd 10.0 (generic) #0: thu mar 28 08:33:33 utc 2024 mkrepro@mkrepro.netbsd.org:usrsrcsysarchamd64compilegeneric amd64 '
    config_args='-des -Dprefix=/home/cpan/bin/perl -Dscriptdir=/home/cpan/bin/perl/bin -Dusedevel -Duse64bitall'
    hint=recommended
    useposix=true
    d_sigaction=define
    useithreads=undef
    usemultiplicity=undef
    use64bitint=define
    use64bitall=define
    uselongdouble=undef
    usemymalloc=n
    default_inc_excludes_dot=define
  Compiler:
    cc='cc'
    ccflags ='-fwrapv -fno-strict-aliasing -pipe -fstack-protector-strong -I/usr/pkg/include -D_FORTIFY_SOURCE=2'
    optimize='-O'
    cppflags='-fwrapv -fno-strict-aliasing -pipe -fstack-protector-strong -I/usr/pkg/include'
    ccversion=''
    gccversion='10.5.0'
    gccosandvers=''
    intsize=4
    longsize=8
    ptrsize=8
    doublesize=8
    byteorder=12345678
    doublekind=3
    d_longlong=define
    longlongsize=8
    d_longdbl=define
    longdblsize=16
    longdblkind=3
    ivtype='long'
    ivsize=8
    nvtype='double'
    nvsize=8
    Off_t='off_t'
    lseeksize=8
    alignbytes=8
    prototype=define
  Linker and Libraries:
    ld='cc'
    ldflags =' -Wl,-rpath,/usr/pkg/lib -Wl,-rpath,/usr/local/lib -fstack-protector-strong -L/usr/pkg/lib'
    libpth=/usr/lib /usr/pkg/lib /lib
    libs=-lpthread -lm -lcrypt -lutil -lc -lposix
    perllibs=-lpthread -lm -lcrypt -lutil -lc -lposix
    libc=/lib/libc.so
    so=so
    useshrplib=false
    libperl=libperl.a
    gnulibc_version=''
  Dynamic Linking:
    dlsrc=dl_dlopen.xs
    dlext=so
    d_dlsymun=undef
    ccdlflags='-Wl,-E '
    cccdlflags='-DPIC -fPIC '
    lddlflags='-shared  -L/usr/pkg/lib -fstack-protector-strong'


Characteristics of this binary (from libperl): 
  Compile-time options:
    HAS_LONG_DOUBLE
    HAS_STRTOLD
    HAS_TIMES
    PERLIO_LAYERS
    PERL_COPY_ON_WRITE
    PERL_DONT_CREATE_GVSV
    PERL_HASH_FUNC_SIPHASH13
    PERL_HASH_USE_SBOX32
    PERL_MALLOC_WRAP
    PERL_OP_PARENT
    PERL_PRESERVE_IVUV
    PERL_USE_DEVEL
    PERL_USE_SAFE_PUTENV
    USE_64_BIT_ALL
    USE_64_BIT_INT
    USE_LARGE_FILES
    USE_LOCALE
    USE_LOCALE_COLLATE
    USE_LOCALE_CTYPE
    USE_LOCALE_NUMERIC
    USE_LOCALE_TIME
    USE_PERLIO
    USE_PERL_ATOF
  Built under netbsd
  Compiled at Dec 30 2024 16:23:03
  %ENV:
    PERL5LIB=""
    PERL5OPT=""
    PERL5_CPANPLUS_IS_RUNNING="7773"
    PERL5_CPAN_IS_RUNNING="7773"
    PERL_MM_USE_DEFAULT="1"
    PERL_USE_UNSAFE_INC="1"
  @INC:
    /home/cpan/bin/perl/lib/site_perl/5.41.8/amd64-netbsd
    /home/cpan/bin/perl/lib/site_perl/5.41.8
    /home/cpan/bin/perl/lib/5.41.8/amd64-netbsd
    /home/cpan/bin/perl/lib/5.41.8
    .