Back
From: metabase:user:320bfe00-2aae-11df-837a-5e0a49663a4f
Subject: PASS Catalyst-Plugin-Assets-0.036 v5.10.0 GNU/Linux
Date: 2013-10-16T07:06:44Z
This distribution has been tested as part of the CPAN Testers
project, supporting the Perl programming language. See
http://wiki.cpantesters.org/ for more information or email
questions to cpan-testers-discuss@perl.org
--
Dear Robert Krimen,
This is a computer-generated report for Catalyst-Plugin-Assets-0.036
on perl 5.10.0, created by CPAN-Reporter-1.2010.
Thank you for uploading your work to CPAN. Congratulations!
All tests were successful.
Sections of this report:
* Tester comments
* Program output
* Prerequisites
* Environment and other context
------------------------------
TESTER COMMENTS
------------------------------
Additional comments from tester:
this report is from an automated smoke testing program
and was not reviewed by a human for accuracy
------------------------------
PROGRAM OUTPUT
------------------------------
Output from '/usr/bin/make test':
PERL_DL_NONLAZY=1 /home/sand/src/perl/repoperls/installed-perls/perl/perl-5.10.0/5da8/bin/perl "-MExtUtils::Command::MM" "-MTest::Harness" "-e" "undef *Test::Harness::Switches; test_harness(0, 'inc', 'blib/lib', 'blib/arch')" t/002-assets.t t/004-caching.t t/010-configuration-minify-1.t t/011-configuration-minify-yuicompressor.t t/012-configuration-pathing.t
[warn] Action methods (auto, default, fruit_salad, yui_compressor, concat) found defined in your application class, t::TestCatalyst. This is deprecated, please move them into a Root controller.
t/002-assets.t .............................. ok
*** Setting t::TestCatalystMinify1->config->{assets} has been deprecated!
*** Please update your configuration to use t::TestCatalystMinify1->config->{'Plugin::Assets'} instead...
*** I'm copying 'assets' into 'Plugin::Assets' ...
[warn] Action methods (auto, default, fruit_salad) found defined in your application class, t::TestCatalystMinify1. This is deprecated, please move them into a Root controller.
t/004-caching.t ............................. ok
*** Setting t::TestCatalystMinify1->config->{assets} has been deprecated!
*** Please update your configuration to use t::TestCatalystMinify1->config->{'Plugin::Assets'} instead...
*** I'm copying 'assets' into 'Plugin::Assets' ...
[warn] Action methods (auto, default, fruit_salad) found defined in your application class, t::TestCatalystMinify1. This is deprecated, please move them into a Root controller.
t/010-configuration-minify-1.t .............. ok
t/011-configuration-minify-yuicompressor.t .. skipped: install ./yuicompressor.jar to enable this test
*** Setting t::TestCatalystPathing->config->{assets} has been deprecated!
*** Please update your configuration to use t::TestCatalystPathing->config->{'Plugin::Assets'} instead...
*** I'm copying 'assets' into 'Plugin::Assets' ...
[warn] Action methods (default, auto, fruit_salad) found defined in your application class, t::TestCatalystPathing. This is deprecated, please move them into a Root controller.
t/012-configuration-pathing.t ............... ok
All tests successful.
Files=5, Tests=33, 12 wallclock secs ( 0.03 usr 0.00 sys + 3.46 cusr 0.33 csys = 3.82 CPU)
Result: PASS
------------------------------
PREREQUISITES
------------------------------
Prerequisite modules loaded:
requires:
Module Need Have
--------------------- ----- -------
Catalyst 0 5.90042
Catalyst::Test 0 0
Class::Accessor::Fast 0 0.34
CSS::Minifier 0 0.01
Directory::Scratch 0 0.15
ExtUtils::MakeMaker 6.42 6.80
File::Assets 0.061 0.064
FindBin 0 1.49
HTML::Declare 0 2.4
JavaScript::Minifier 0 1.05
Test::More 0 0.99
build_requires:
Module Need Have
--------------------- ----- -------
ExtUtils::MakeMaker 0 6.80
configure_requires:
Module Need Have
--------------------- ----- -------
ExtUtils::MakeMaker 6.42 6.80
------------------------------
ENVIRONMENT AND OTHER CONTEXT
------------------------------
Environment variables:
AUTOMATED_TESTING = 1
LANG = en_US.UTF-8
LANGUAGE = en_US:en
PATH = /usr/lib/ccache:/home/sand/bin:/usr/local/bin:/usr/bin:/bin:/usr/bin/X11:/usr/games:/usr/local/perl/bin:/usr/X11/bin:/sbin:/usr/sbin
PERL5LIB =
PERL5OPT =
PERL5_CPANPLUS_IS_RUNNING = 1627
PERL5_CPAN_IS_RUNNING = 1627
PERL_MM_USE_DEFAULT = 1
SHELL = /usr/bin/zsh
TERM = screen
Perl special variables (and OS-specific diagnostics, for MSWin32):
$^X = /home/sand/src/perl/repoperls/installed-perls/perl/perl-5.10.0/5da8/bin/perl
$UID/$EUID = 1005 / 1005
$GID = 1005 1005
$EGID = 1005 1005
Perl module toolchain versions installed:
Module Have
------------------- --------
CPAN 2.00
CPAN::Meta 2.132830
Cwd 3.40
ExtUtils::CBuilder 0.280212
ExtUtils::Command 1.16
ExtUtils::Install 1.54
ExtUtils::MakeMaker 6.80
ExtUtils::Manifest 1.60
ExtUtils::ParseXS 3.22
File::Spec 3.40
JSON 2.59
JSON::PP 2.27200
Module::Build 0.4007
Module::Signature 0.73
Parse::CPAN::Meta 1.4409
Test::Harness 3.29
Test::More 0.99
YAML 0.84
YAML::Syck 1.27
version 0.9904
--
Summary of my perl5 (revision 5 version 10 subversion 0) configuration:
Platform:
osname=linux, osvers=3.10-3-amd64, archname=x86_64-linux
uname='linux k83 3.10-3-amd64 #1 smp debian 3.10.11-1 (2013-09-10) x86_64 gnulinux '
config_args='-Dprefix=/home/sand/src/perl/repoperls/installed-perls/perl/perl-5.10.0/5da8 -Dmyhostname=k83 -Dinstallusrbinperl=n -Uversiononly -Dusedevel -des -Ui_db -Uuseithreads -Uuselongdouble -DDEBUGGING=-g -Dusedl -Ddlsrc=dl_dlopen.xs -Dlibs=-lnsl -ldb -ldl -lm -lcrypt -lutil -lc -Dlibpth=/usr/lib/x86_64-linux-gnu /usr/local/lib /lib /usr/lib'
hint=recommended, useposix=true, d_sigaction=define
useithreads=undef, usemultiplicity=undef
useperlio=define, d_sfio=undef, uselargefiles=define, usesocks=undef
use64bitint=define, use64bitall=define, uselongdouble=undef
usemymalloc=n, bincompat5005=undef
Compiler:
cc='cc', ccflags ='-fno-strict-aliasing -pipe -I/usr/local/include -D_LARGEFILE_SOURCE -D_FILE_OFFSET_BITS=64',
optimize='-O2 -g',
cppflags='-fno-strict-aliasing -pipe -I/usr/local/include'
ccversion='', gccversion='4.8.1', gccosandvers=''
intsize=4, longsize=8, ptrsize=8, doublesize=8, byteorder=12345678
d_longlong=define, longlongsize=8, d_longdbl=define, longdblsize=16
ivtype='long', ivsize=8, nvtype='double', nvsize=8, Off_t='off_t', lseeksize=8
alignbytes=8, prototype=define
Linker and Libraries:
ld='cc', ldflags =' -L/usr/local/lib'
libpth=/usr/lib/x86_64-linux-gnu /usr/local/lib /lib /usr/lib
libs=-lnsl -ldb -ldl -lm -lcrypt -lutil -lc
perllibs=-lnsl -ldl -lm -lcrypt -lutil -lc
libc=, so=so, useshrplib=false, libperl=libperl.a
gnulibc_version='2.17'
Dynamic Linking:
dlsrc=dl_dlopen.xs, dlext=so, d_dlsymun=undef, ccdlflags='-Wl,-E'
cccdlflags='-fPIC', lddlflags='-shared -O2 -g -L/usr/local/lib'
Characteristics of this binary (from libperl):
Compile-time options: PERL_DONT_CREATE_GVSV PERL_MALLOC_WRAP USE_64_BIT_ALL
USE_64_BIT_INT USE_LARGE_FILES USE_PERLIO
Built under linux
Compiled at Oct 11 2013 00:40:21
%ENV:
PERL5LIB=""
PERL5OPT=""
PERL5_CPANPLUS_IS_RUNNING="1627"
PERL5_CPAN_IS_RUNNING="1627"
PERL_MM_USE_DEFAULT="1"
@INC:
/home/sand/src/perl/repoperls/installed-perls/perl/perl-5.10.0/5da8/lib/5.10.0/x86_64-linux
/home/sand/src/perl/repoperls/installed-perls/perl/perl-5.10.0/5da8/lib/5.10.0
/home/sand/src/perl/repoperls/installed-perls/perl/perl-5.10.0/5da8/lib/site_perl/5.10.0/x86_64-linux
/home/sand/src/perl/repoperls/installed-perls/perl/perl-5.10.0/5da8/lib/site_perl/5.10.0
.