MooseX-Types v0.51 Perl 5 v5.20.0 x86_64-linux-ld

Status
Pass
From
Andreas J. König (ANDK)
Dist
MooseX-Types v0.51
Platform
Perl 5 v5.20.0 x86_64-linux-ld
Date
2025-05-01 12:05:03
ID
83a7c45a-2684-11f0-ab8a-cce46fd387af
This distribution has been tested as part of the CPAN Testers
project, supporting the Perl programming language.  See
http://wiki.cpantesters.org/ for more information or email
questions to cpan-testers-discuss@perl.org


--
Dear Karen Etheridge,

This is a computer-generated report for MooseX-Types-0.51
on perl 5.20.0, created by CPAN-Reporter-1.2019.

Thank you for uploading your work to CPAN.  Congratulations!
All tests were successful.

Sections of this report:

    * Tester comments
    * Program output
    * Prerequisites
    * Environment and other context

------------------------------
TESTER COMMENTS
------------------------------

Additional comments from tester:

this report is from an automated smoke testing program
and was not reviewed by a human for accuracy

------------------------------
PROGRAM OUTPUT
------------------------------

Output from './Build test':

# 
# Versions for all modules listed in MYMETA.json (including optional ones):
# 
# === Configure Requires ===
# 
#     Module               Want     Have
#     ------------------- ----- --------
#     Module::Build::Tiny 0.034    0.047
#     perl                5.008 5.020000
# 
# === Configure Suggests ===
# 
#     Module      Want Have
#     -------- ------- ----
#     JSON::PP 2.27300 4.16
# 
# === Test Requires ===
# 
#     Module            Want     Have
#     ---------------- ----- --------
#     File::Spec         any     3.75
#     Module::Metadata   any 1.000037
#     Moose::Role        any   2.2203
#     Term::ANSIColor    any     5.01
#     Test::Fatal        any    0.017
#     Test::More        0.88 1.302207
#     Test::Needs        any 0.002010
#     if                 any   0.0603
#     lib                any     0.63
#     perl             5.008 5.020000
# 
# === Test Recommends ===
# 
#     Module         Want     Have
#     ---------- -------- --------
#     CPAN::Meta 2.120900 2.150010
# 
# === Runtime Requires ===
# 
#     Module                                 Want     Have
#     ---------------------------------- -------- --------
#     Carp                                    any     1.50
#     Carp::Clan                             6.00     6.08
#     Exporter                                any     5.77
#     Module::Runtime                         any    0.016
#     Moose                                  1.06   2.2203
#     Moose::Exporter                         any   2.2203
#     Moose::Meta::TypeConstraint::Union      any   2.2203
#     Moose::Util::TypeConstraints            any   2.2203
#     Scalar::Util                           1.19     1.69
#     Sub::Exporter                           any    0.989
#     Sub::Exporter::ForMethods          0.100052 0.100055
#     Sub::Install                            any    0.929
#     Sub::Util                               any     1.69
#     base                                    any     2.22
#     namespace::autoclean                   0.16     0.29
#     overload                                any     1.22
#     parent                                  any    0.242
#     perl                                  5.008 5.020000
#     strict                                  any     1.08
#     warnings                                any     1.23
# 
# === Other Modules ===
# 
#     Module                 Have
#     -------------------- ------
#     Dist::CheckConflicts   0.11
#     Encode                 3.21
#     File::Temp           0.2311
#     JSON::PP               4.16
#     Module::Runtime       0.016
#     Sub::Name              0.26
#     YAML                   1.30
#     autodie                2.23
#     namespace::clean       0.27
# 
t/00-report-prereqs.t .............. ok
t/10_moose-types.t ................. ok
t/11_library-definition.t .......... ok
t/12_wrapper-definition.t .......... ok
t/13_typedecorator.t ............... ok
t/14_compatibility-sub-exporter.t .. ok
t/15_recursion.t ................... ok
t/16_introspection.t ............... ok
t/17_syntax_errors.t ............... ok
t/18_combined_libs.t ............... ok
t/19_typelib_with_role.t ........... ok
t/20_union_with_string_type.t ...... ok
t/21_coerce_parameterized_types.t .. ok
t/22_class_type.t .................. ok
t/23_any_subtype.t ................. ok
t/24_class_can_isa.t ............... ok
t/25-fully-qualified.t ............. ok
t/26-multi-combined.t .............. ok
t/regressions/01-is_subtype_of.t ... ok
t/zzz-check-breaks.t ............... ok
All tests successful.
Files=20, Tests=250, 15 wallclock secs ( 0.07 usr  0.04 sys +  4.79 cusr  1.11 csys =  6.01 CPU)
Result: PASS

------------------------------
PREREQUISITES
------------------------------

Prerequisite modules loaded:

requires:

    Module                             Need     Have    
    ---------------------------------- -------- --------
    base                               0        2.22    
    Carp                               0        1.50    
    Carp::Clan                         6.00     6.08    
    Exporter                           0        5.77    
    Module::Runtime                    0        0.016   
    Moose                              1.06     2.2203  
    Moose::Exporter                    0        2.2203  
    Moose::Meta::TypeConstraint::Union 0        2.2203  
    Moose::Util::TypeConstraints       0        2.2203  
    namespace::autoclean               0.16     0.29    
    overload                           0        1.22    
    parent                             0        0.242   
    perl                               5.008    5.020000
    Scalar::Util                       1.19     1.69    
    strict                             0        1.08    
    Sub::Exporter                      0        0.989   
    Sub::Exporter::ForMethods          0.100052 0.100055
    Sub::Install                       0        0.929   
    Sub::Util                          0        1.69    
    warnings                           0        1.23    

build_requires:

    Module                             Need     Have    
    ---------------------------------- -------- --------
    File::Spec                         0        3.75    
    if                                 0        0.0603  
    lib                                0        0.63    
    Module::Metadata                   0        1.000037
    Moose::Role                        0        2.2203  
    perl                               5.008    5.020000
    Term::ANSIColor                    0        5.01    
    Test::Fatal                        0        0.017   
    Test::More                         0.88     1.302207
    Test::Needs                        0        0.002010

configure_requires:

    Module                             Need     Have    
    ---------------------------------- -------- --------
    Module::Build::Tiny                0.034    0.047   
    perl                               5.008    5.020000


------------------------------
ENVIRONMENT AND OTHER CONTEXT
------------------------------

Environment variables:

    AUTOMATED_TESTING = 1
    LANG = en_US.UTF-8
    LANGUAGE = en_US:en
    PATH = /home/sand/bin:/usr/local/bin:/usr/bin:/bin:/usr/games:/usr/local/perl/bin:/usr/X11/bin:/sbin:/usr/sbin
    PERL5LIB = 
    PERL5OPT = 
    PERL5_CPANPLUS_IS_RUNNING = 2691754
    PERL5_CPAN_IS_RUNNING = 2691754
    PERL_CANARY_STABILITY_NOPROMPT = 1
    PERL_MM_USE_DEFAULT = 1
    PERL_USE_UNSAFE_INC = 1
    SHELL = /usr/bin/zsh
    TERM = screen

Perl special variables (and OS-specific diagnostics, for MSWin32):

    $^X = /home/sand/src/perl/repoperls/installed-perls/host/k93msid/v5.20.0/af11/bin/perl
    $UID/$EUID = 1005 / 1005
    $GID = 1005 1005
    $EGID = 1005 1005

Perl module toolchain versions installed:

    Module              Have    
    ------------------- --------
    CPAN                2.38    
    CPAN::Meta          2.150010
    Cwd                 3.75    
    ExtUtils::CBuilder  0.280236
    ExtUtils::Command   7.70    
    ExtUtils::Install   2.22    
    ExtUtils::MakeMaker 7.70    
    ExtUtils::Manifest  1.75    
    ExtUtils::ParseXS   3.51    
    File::Spec          3.75    
    JSON                4.10    
    JSON::PP            4.16    
    Module::Build       0.4234  
    Module::Signature   0.88    
    Parse::CPAN::Meta   2.150010
    Test2               1.302207
    Test::Harness       3.50    
    Test::More          1.302207
    YAML                1.30    
    YAML::Syck          1.34    
    version             0.9929  


--

Summary of my perl5 (revision 5 version 20 subversion 0) configuration:
  Derived from: d7d4eceb184d8fc54797d661a6d5ff9a4a7048c3
  Platform:
    osname=linux, osvers=6.0.0-5-amd64, archname=x86_64-linux-ld
    uname='linux k93msid 6.0.0-5-amd64 #1 smp preempt_dynamic debian 6.0.10-2 (2022-12-01) x86_64 gnulinux '
    config_args='-Dprefix=/home/sand/src/perl/repoperls/installed-perls/host/k93msid/v5.20.0/af11 -Dmyhostname=k93msid -Dinstallusrbinperl=n -Uversiononly -Dusedevel -des -Ui_db -Dlibswanted=cl pthread socket inet nsl gdbm dbm malloc dl ld sun m crypt sec util c cposix posix ucb BSD gdbm_compat -Uuseithreads -Duselongdouble -DEBUGGING=-g'
    hint=recommended, useposix=true, d_sigaction=define
    useithreads=undef, usemultiplicity=undef
    use64bitint=define, use64bitall=define, uselongdouble=define
    usemymalloc=n, bincompat5005=undef
  Compiler:
    cc='cc', ccflags ='-fwrapv -fno-strict-aliasing -pipe -fstack-protector -I/usr/local/include -D_LARGEFILE_SOURCE -D_FILE_OFFSET_BITS=64',
    optimize='-O2 -g',
    cppflags='-fwrapv -fno-strict-aliasing -pipe -fstack-protector -I/usr/local/include'
    ccversion='', gccversion='12.2.0', gccosandvers=''
    intsize=4, longsize=8, ptrsize=8, doublesize=8, byteorder=12345678
    d_longlong=define, longlongsize=8, d_longdbl=define, longdblsize=16
    ivtype='long', ivsize=8, nvtype='long double', nvsize=16, Off_t='off_t', lseeksize=8
    alignbytes=16, prototype=define
  Linker and Libraries:
    ld='cc', ldflags =' -fstack-protector -L/usr/local/lib'
    libpth=/usr/local/lib /usr/include/x86_64-linux-gnu /usr/lib /lib/x86_64-linux-gnu /lib/../lib /usr/lib/x86_64-linux-gnu /usr/lib/../lib /lib /lib64 /usr/lib64
    libs=-lpthread -lnsl -ldl -lm -lcrypt -lutil -lc
    perllibs=-lpthread -lnsl -ldl -lm -lcrypt -lutil -lc
    libc=/lib/x86_64-linux-gnu/libc.so.6, so=so, useshrplib=false, libperl=libperl.a
    gnulibc_version='2.36'
  Dynamic Linking:
    dlsrc=dl_dlopen.xs, dlext=so, d_dlsymun=undef, ccdlflags='-Wl,-E'
    cccdlflags='-fPIC', lddlflags='-shared -O2 -g -L/usr/local/lib -fstack-protector'


Characteristics of this binary (from libperl): 
  Compile-time options: HAS_TIMES PERLIO_LAYERS PERL_DONT_CREATE_GVSV
                        PERL_HASH_FUNC_ONE_AT_A_TIME_HARD PERL_MALLOC_WRAP
                        PERL_NEW_COPY_ON_WRITE PERL_PRESERVE_IVUV
                        PERL_USE_DEVEL USE_64_BIT_ALL USE_64_BIT_INT
                        USE_LARGE_FILES USE_LOCALE USE_LOCALE_COLLATE
                        USE_LOCALE_CTYPE USE_LOCALE_NUMERIC USE_LONG_DOUBLE
                        USE_PERLIO USE_PERL_ATOF
  Locally applied patches:
	uncommitted-changes
  Built under linux
  Compiled at Feb 12 2023 08:49:55
  %ENV:
    PERL5LIB=""
    PERL5OPT=""
    PERL5_CPANPLUS_IS_RUNNING="2691754"
    PERL5_CPAN_IS_RUNNING="2691754"
    PERL_CANARY_STABILITY_NOPROMPT="1"
    PERL_MM_USE_DEFAULT="1"
    PERL_USE_UNSAFE_INC="1"
  @INC:
    /home/sand/src/perl/repoperls/installed-perls/host/k93msid/v5.20.0/af11/lib/site_perl/5.20.0/x86_64-linux-ld
    /home/sand/src/perl/repoperls/installed-perls/host/k93msid/v5.20.0/af11/lib/site_perl/5.20.0
    /home/sand/src/perl/repoperls/installed-perls/host/k93msid/v5.20.0/af11/lib/5.20.0/x86_64-linux-ld
    /home/sand/src/perl/repoperls/installed-perls/host/k93msid/v5.20.0/af11/lib/5.20.0
    .