Text-Amuse-Preprocessor v0.62 Perl 5 v5.24.0 MSWin32-x86-multi-thread

Status
Pass
From
Alexandr Ciornii (CHORNY)
Dist
Text-Amuse-Preprocessor v0.62
Platform
Perl 5 v5.24.0 MSWin32-x86-multi-thread
Date
2020-05-22 14:37:05
ID
83301f42-6bf8-1014-9670-2c6b46f8880c
This distribution has been tested as part of the CPAN Testers
project, supporting the Perl programming language.  See
http://wiki.cpantesters.org/ for more information or email
questions to cpan-testers-discuss@perl.org


--
Dear Marco Pessotto,

This is a computer-generated report for Text-Amuse-Preprocessor-0.62
on perl 5.24.0, created by CPAN-Reporter-1.2018.

Thank you for uploading your work to CPAN.  Congratulations!
All tests were successful.

Sections of this report:

    * Tester comments
    * Program output
    * Prerequisites
    * Environment and other context

------------------------------
TESTER COMMENTS
------------------------------

Additional comments from tester:

this report is from an automated smoke testing program
and was not reviewed by a human for accuracy

------------------------------
PROGRAM OUTPUT
------------------------------

Output from 'C:\STRAWB~1\c\bin\dmake.exe test':

"C:\Strawberry240\perl\bin\perl.exe" "-MExtUtils::Command::MM" "-MTest::Harness" "-e" "undef *Test::Harness::Switches; test_harness(0, 'blib\lib', 'blib\arch')" t/*.t
# Testing Text::Amuse::Preprocessor 0.62, Perl 5.024000, C:\Strawberry240\perl\bin\perl.exe
t/00-load.t ........... ok
t/changes.t ........... skipped: Changes testing not required (or Test::CPAN::Changes not found)
t/chars.t ............. ok
# Using C:\DOCUME~1\a\LOCALS~1\Temp\1RAoLkEAnZ for ligatures
# Using C:\DOCUME~1\a\LOCALS~1\Temp\oWO1kSTBLA for missing_nl
# Using C:\DOCUME~1\a\LOCALS~1\Temp\2NQFqJYZKc for garbage
# Using C:\DOCUME~1\a\LOCALS~1\Temp\SyNOYqK5hk for ellipsis_no_fix
# Using C:\DOCUME~1\a\LOCALS~1\Temp\shBxaOb0ql for ellipsis
# Using C:\DOCUME~1\a\LOCALS~1\Temp\Cg1pgCWHfi for links
# Using C:\DOCUME~1\a\LOCALS~1\Temp\nWPe5YPyeu for en
# Using C:\DOCUME~1\a\LOCALS~1\Temp\oz09nWSssU for fi
# Using C:\DOCUME~1\a\LOCALS~1\Temp\AaJLN2ft8D for es
# Using C:\DOCUME~1\a\LOCALS~1\Temp\vOJXuN62r_ for sr
# Using C:\DOCUME~1\a\LOCALS~1\Temp\WKMmH46Nn5 for hr
# Using C:\DOCUME~1\a\LOCALS~1\Temp\POnwcxPHaV for ru
# Using C:\DOCUME~1\a\LOCALS~1\Temp\VaqS8llz_L for it
# Using C:\DOCUME~1\a\LOCALS~1\Temp\1V5G1zGKee for mk
# Using C:\DOCUME~1\a\LOCALS~1\Temp\_s0MunWUZj for sv
# Using C:\DOCUME~1\a\LOCALS~1\Temp\uCgMf9ml3S for de
# Using C:\DOCUME~1\a\LOCALS~1\Temp\vPD4eDO7Ot for pl
# Using C:\DOCUME~1\a\LOCALS~1\Temp\o7KM4ZLf7T for fr
# Using C:\DOCUME~1\a\LOCALS~1\Temp\8tB6En1Jv7 for pt
# Using C:\DOCUME~1\a\LOCALS~1\Temp\0KMmL1utwN for sq
# Using C:\DOCUME~1\a\LOCALS~1\Temp\zj1L1RxN9D for da
# Using C:\DOCUME~1\a\LOCALS~1\Temp\pFNO2jlIQL for nl
# Using C:\DOCUME~1\a\LOCALS~1\Temp\qo_hyf07ir for id
# Using C:\DOCUME~1\a\LOCALS~1\Temp\t29yjIcNPc for Full example
# Using C:\DOCUME~1\a\LOCALS~1\Temp\OmuS0kZJcR for Quote
# Using C:\DOCUME~1\a\LOCALS~1\Temp\S_r9RTn1uG for Quote
# Using C:\DOCUME~1\a\LOCALS~1\Temp\bMHvFTHC0a for Nl quotation
t/common.t ............ ok
t/crash-on-verb.t ..... ok
# $VAR1 = "#title Test
# #lang en
# 
# 0
# 
# \x{201c}0\x{201d}
# 
# 0
# ";
# $VAR1 = "#title Test
# #lang en
# 
# 0
# 
# \x{201c}0\x{201d}
# 
# 0
# ";
t/crash_on_loop.t ..... ok
# C:\DOCUME~1\a\LOCALS~1\Temp\Q5cN7sHwgl\verbatim-in.muse
# C:\DOCUME~1\a\LOCALS~1\Temp\Q5cN7sHwgl
t/exclude-verbatim.t .. ok
# Testing t\footnotes\good.in => t\footnotes\good.out
# Testing t\footnotes\good2.in => t\footnotes\good2.out
# Testing t\footnotes\good3.in => t\footnotes\good3.out
# Testing t\footnotes\mixed.in => t\footnotes\mixed.out
# Testing t\footnotes\indentation.in => t\footnotes\indentation.out
# Testing t\footnotes\sec-good.in => t\footnotes\sec-good.out
# Testing t\footnotes\sec-good2.in => t\footnotes\sec-good2.out
# Testing t\footnotes\sec-good3.in => t\footnotes\sec-good3.out
# Testing t\footnotes\sec-bad.in => t\footnotes\sec-bad.out
# @@ -1 +1,2 @@
# -{4}
# +{3}
# +{3}
# Testing t\footnotes\sec-bad2.in => t\footnotes\sec-bad2.out
# @@ -1,3 +1,2 @@
# -{4}
# +{3}
# -{5}
# +{3}
# -{6}
# Testing t\footnotes\bad.in => t\footnotes\bad.out
# @@ -1,2 +1,3 @@
#  [1]
# -[1]
# +[2]
# +[4]
# Testing t\footnotes\bad2.in => t\footnotes\bad2.out
# @@ -1,4 +1,3 @@
#  [1]
# -[1]
# +[2]
#  [4]
# -[5]
t/footnotes.t ......... ok
tagpile mismatch: root, p
t/html-2.t ............ ok
# Using C:\DOCUME~1\a\LOCALS~1\Temp\7cx1Zn1Tiu.html
# Using C:\DOCUME~1\a\LOCALS~1\Temp\0y58lK9Yjw.html
# Using C:\DOCUME~1\a\LOCALS~1\Temp\P6l50FGNB2.html
# Using C:\DOCUME~1\a\LOCALS~1\Temp\UdT2gR_lbL.html
# Using C:\DOCUME~1\a\LOCALS~1\Temp\JQyRgJYhgP.html
# Using C:\DOCUME~1\a\LOCALS~1\Temp\N2B77Qq58R.html
# Using C:\DOCUME~1\a\LOCALS~1\Temp\oREG03a6MI.html
# Using C:\DOCUME~1\a\LOCALS~1\Temp\V6ev9hKOZD.html
# Using C:\DOCUME~1\a\LOCALS~1\Temp\w7vMhF9hSS.html
# Using C:\DOCUME~1\a\LOCALS~1\Temp\9u51_40GSx.html
# Using C:\DOCUME~1\a\LOCALS~1\Temp\gPcKE6x7XB.html
# Using C:\DOCUME~1\a\LOCALS~1\Temp\zoQYlMCctF.html
# Using C:\DOCUME~1\a\LOCALS~1\Temp\Vrx4uxfTaX.html
# Using C:\DOCUME~1\a\LOCALS~1\Temp\k8IjrkQeyG.html
# Using C:\DOCUME~1\a\LOCALS~1\Temp\eTPRVmpUMG.html
# Using C:\DOCUME~1\a\LOCALS~1\Temp\FkqEx3iM9w.html
# Using C:\DOCUME~1\a\LOCALS~1\Temp\c75tEqilyX.html
t/html.t .............. ok
t/manifest.t .......... skipped: Author tests not required for installation
t/memory-cycles.t ..... ok
t/nbsp.t .............. ok
# Infile is C:\DOCUME~1\a\LOCALS~1\Temp\BcVpi9ULqo\input.txt
# Using C:\DOCUME~1\a\LOCALS~1\Temp\wZyvkMiiXf as temporary dir
t/object.t ............ ok
t/pod-coverage.t ...... skipped: Pod coverage not required for installation
t/pod.t ............... skipped: Pod test not required for installation
t/russian.t ........... ok
t/subs.t .............. ok
t/typography.t ........ ok
All tests successful.
Files=19, Tests=421, 11 wallclock secs ( 0.17 usr +  0.12 sys =  0.29 CPU)
Result: PASS

------------------------------
PREREQUISITES
------------------------------

Prerequisite modules loaded:

requires:

    Module              Need Have    
    ------------------- ---- --------
    HTML::PullParser    0    3.57    
    IO::HTML            1    1.001   
    Pod::Simple::Wiki   0.19 0.20    
    Text::Amuse         0.95 1.51    
    Text::Diff          0    1.44    

build_requires:

    Module              Need Have    
    ------------------- ---- --------
    Test::More          0    1.302073

configure_requires:

    Module              Need Have    
    ------------------- ---- --------
    ExtUtils::MakeMaker 0    7.24    


------------------------------
ENVIRONMENT AND OTHER CONTEXT
------------------------------

Environment variables:

    AUTOMATED_TESTING = 1
    COMSPEC = C:\WINDOWS\system32\cmd.exe
    NUMBER_OF_PROCESSORS = 1
    PATH = C:\WINDOWS\system32;C:\WINDOWS;C:\WINDOWS\System32\Wbem;C:\Git\cmd;C:\Strawberry240\c\bin;C:\Strawberry240\perl\site\bin;C:\Strawberry240\perl\bin
    PERL5LIB = C:\STRAWB~1\cpan\build\Text-Amuse-1.51-0/blib/arch;C:\STRAWB~1\cpan\build\Text-Amuse-1.51-0/blib/lib;C:\STRAWB~1\cpan\build\Pod-Simple-Wiki-0.20-0/blib/arch;C:\STRAWB~1\cpan\build\Pod-Simple-Wiki-0.20-0/blib/lib
    PERL5OPT = 
    PERL5_CPANPLUS_IS_RUNNING = 1964
    PERL5_CPAN_IS_RUNNING = 1964
    PERL5_CPAN_IS_RUNNING_IN_RECURSION = 1740,1964
    PERL_CR_SMOKER_CURRENT = Text-Amuse-Preprocessor-0.62
    PERL_CR_SMOKER_RUNONCE = 1
    PERL_EXTUTILS_AUTOINSTALL = --defaultdeps
    PERL_HASH_SEED = 0x11111111
    PERL_MM_USE_DEFAULT = 1
    PROCESSOR_IDENTIFIER = x86 Family 16 Model 5 Stepping 3, AuthenticAMD
    TEMP = C:\DOCUME~1\a\LOCALS~1\Temp

Perl special variables (and OS-specific diagnostics, for MSWin32):

    $^X = C:\Strawberry240\perl\bin\perl.exe
    $UID/$EUID = 0 / 0
    $GID = 0
    $EGID = 0
    Win32::GetOSName = WinXP/.Net
    Win32::GetOSVersion = Service Pack 3, 5, 1, 2600, 2, 3, 0, 256, 1
    Win32::FsType = NTFS
    Win32::IsAdminUser = 1

Perl module toolchain versions installed:

    Module              Have    
    ------------------- --------
    CPAN                2.14    
    CPAN::Meta          2.150010
    Cwd                 3.63    
    ExtUtils::CBuilder  0.280225
    ExtUtils::Command   7.24    
    ExtUtils::Install   2.04    
    ExtUtils::MakeMaker 7.24    
    ExtUtils::Manifest  1.70    
    ExtUtils::ParseXS   3.31    
    File::Spec          3.63    
    JSON                2.90    
    JSON::PP            2.27400 
    Module::Build       0.4220  
    Module::Signature   0.81    
    Parse::CPAN::Meta   2.150010
    Test::Harness       3.36    
    Test::More          1.302073
    YAML                1.21    
    YAML::Syck          1.29    
    version             0.9917  


--

Summary of my perl5 (revision 5 version 24 subversion 0) configuration:
   
  Platform:
    osname=MSWin32, osvers=4.0, archname=MSWin32-x86-multi-thread
    uname='Win32 strawberry-perl 5.24.0.1-beta1 #1 Thu Dec 29 16:46:05 2016 i386'
    config_args='undef'
    hint=recommended, useposix=true, d_sigaction=undef
    useithreads=define, usemultiplicity=define
    use64bitint=undef, use64bitall=undef, uselongdouble=undef
    usemymalloc=n, bincompat5005=undef
  Compiler:
    cc='gcc', ccflags =' -s -O2 -DWIN32  -DPERL_TEXTMODE_SCRIPTS -DPERL_IMPLICIT_CONTEXT -DPERL_IMPLICIT_SYS -fwrapv -fno-strict-aliasing -mms-bitfields',
    optimize='-s -O2',
    cppflags='-DWIN32'
    ccversion='', gccversion='4.9.2', gccosandvers=''
    intsize=4, longsize=4, ptrsize=4, doublesize=8, byteorder=1234, doublekind=3
    d_longlong=define, longlongsize=8, d_longdbl=define, longdblsize=12, longdblkind=3
    ivtype='long', ivsize=4, nvtype='double', nvsize=8, Off_t='long long', lseeksize=8
    alignbytes=8, prototype=define
  Linker and Libraries:
    ld='g++', ldflags ='-s -L"C:\STRAWB~1\perl\lib\CORE" -L"C:\STRAWB~1\c\lib"'
    libpth=C:\STRAWB~1\c\lib C:\STRAWB~1\c\i686-w64-mingw32\lib C:\STRAWB~1\c\lib\gcc\i686-w64-mingw32\4.9.2
    libs=-lmoldname -lkernel32 -luser32 -lgdi32 -lwinspool -lcomdlg32 -ladvapi32 -lshell32 -lole32 -loleaut32 -lnetapi32 -luuid -lws2_32 -lmpr -lwinmm -lversion -lodbc32 -lodbccp32 -lcomctl32
    perllibs=-lmoldname -lkernel32 -luser32 -lgdi32 -lwinspool -lcomdlg32 -ladvapi32 -lshell32 -lole32 -loleaut32 -lnetapi32 -luuid -lws2_32 -lmpr -lwinmm -lversion -lodbc32 -lodbccp32 -lcomctl32
    libc=, so=dll, useshrplib=true, libperl=libperl524.a
    gnulibc_version=''
  Dynamic Linking:
    dlsrc=dl_win32.xs, dlext=xs.dll, d_dlsymun=undef, ccdlflags=' '
    cccdlflags=' ', lddlflags='-mdll -s -L"C:\STRAWB~1\perl\lib\CORE" -L"C:\STRAWB~1\c\lib"'


Characteristics of this binary (from libperl): 
  Compile-time options: HAS_TIMES HAVE_INTERP_INTERN MULTIPLICITY
                        PERLIO_LAYERS PERL_COPY_ON_WRITE
                        PERL_DONT_CREATE_GVSV
                        PERL_HASH_FUNC_ONE_AT_A_TIME_HARD
                        PERL_IMPLICIT_CONTEXT PERL_IMPLICIT_SYS
                        PERL_MALLOC_WRAP PERL_PRESERVE_IVUV USE_ITHREADS
                        USE_LARGE_FILES USE_LOCALE USE_LOCALE_COLLATE
                        USE_LOCALE_CTYPE USE_LOCALE_NUMERIC USE_LOCALE_TIME
                        USE_PERLIO USE_PERL_ATOF
  Built under MSWin32
  Compiled at Dec 29 2016 16:55:33
  %ENV:
    PERL5LIB="C:\STRAWB~1\cpan\build\Text-Amuse-1.51-0/blib/arch;C:\STRAWB~1\cpan\build\Text-Amuse-1.51-0/blib/lib;C:\STRAWB~1\cpan\build\Pod-Simple-Wiki-0.20-0/blib/arch;C:\STRAWB~1\cpan\build\Pod-Simple-Wiki-0.20-0/blib/lib"
    PERL5_CPANPLUS_IS_RUNNING="1964"
    PERL5_CPAN_IS_RUNNING="1964"
    PERL5_CPAN_IS_RUNNING_IN_RECURSION="1740,1964"
    PERL_CR_SMOKER_CURRENT="Text-Amuse-Preprocessor-0.62"
    PERL_CR_SMOKER_RUNONCE="1"
    PERL_EXTUTILS_AUTOINSTALL="--defaultdeps"
    PERL_HASH_SEED="0x11111111"
    PERL_MM_USE_DEFAULT="1"
  @INC:
    C:\STRAWB~1\cpan\build\Text-Amuse-1.51-0/blib/arch
    C:\STRAWB~1\cpan\build\Text-Amuse-1.51-0/blib/lib
    C:\STRAWB~1\cpan\build\Pod-Simple-Wiki-0.20-0/blib/arch
    C:\STRAWB~1\cpan\build\Pod-Simple-Wiki-0.20-0/blib/lib
    C:/Strawberry240/perl/site/lib
    C:/Strawberry240/perl/vendor/lib
    C:/Strawberry240/perl/lib
    .