Back
From: metabase:user:30f4dfbe-2aae-11df-837a-5e0a49663a4f
Subject: PASS Object-Container-0.14 v5.14.1 GNU/Linux
Date: 2012-06-07T05:20:36Z
This distribution has been tested as part of the CPAN Testers
project, supporting the Perl programming language. See
http://wiki.cpantesters.org/ for more information or email
questions to cpan-testers-discuss@perl.org
--
Dear Daisuke Murase,
This is a computer-generated report for Object-Container-0.14
on perl 5.14.1, created by CPAN-Reporter-1.2006.
Thank you for uploading your work to CPAN. Congratulations!
All tests were successful.
Sections of this report:
* Tester comments
* Program output
* Prerequisites
* Environment and other context
------------------------------
TESTER COMMENTS
------------------------------
Additional comments from tester:
this report is from an automated smoke testing program
and was not reviewed by a human for accuracy
------------------------------
PROGRAM OUTPUT
------------------------------
Output from '/usr/bin/make test':
PERL_DL_NONLAZY=1 /home/njh/perl5/perlbrew/perls/perl-5.14.1/bin/perl "-MExtUtils::Command::MM" "-e" "test_harness(0, 'inc', 'blib/lib', 'blib/arch')" t/*.t
t/00_compile.t ..................... ok
t/01_object.t ...................... ok
t/02_singleton.t ................... ok
t/03_args_and_initializer.t ........ ok
t/04_export.t ...................... ok
t/05_subclass.t .................... skipped: Test requires module 'Exporter::AutoClean' but it's not found
t/05_subclass_no_autoclean.t ....... ok
t/06_remove.t ...................... ok
t/07_hashref.t ..................... ok
t/07_preload.t ..................... ok
t/08_preload_subclass.t ............ skipped: Test requires module 'Exporter::AutoClean' but it's not found
t/09_autoload.t .................... ok
t/10_class_singleton_compatible.t .. ok
All tests successful.
Files=13, Tests=40, 0 wallclock secs ( 0.03 usr 0.01 sys + 0.23 cusr 0.01 csys = 0.28 CPU)
Result: PASS
------------------------------
PREREQUISITES
------------------------------
Prerequisite modules loaded:
requires:
Module Need Have
--------------------- ---- -----
Carp 0 1.25
Class::Accessor::Fast 0 0.34
Filter::Util::Call 0 1.43
parent 0 0.225
build_requires:
Module Need Have
--------------------- ---- -----
ExtUtils::MakeMaker 6.42 6.62
Test::More 0.88 0.98
Test::Requires 0 0.06
configure_requires:
Module Need Have
--------------------- ---- -----
ExtUtils::MakeMaker 6.42 6.62
------------------------------
ENVIRONMENT AND OTHER CONTEXT
------------------------------
Environment variables:
AUTOMATED_TESTING = 1
LANG = en_GB.UTF-8
LANGUAGE = en_GB:en
PATH = /usr/bin:/bin
PERL5LIB = /home/njh/.cpan/build/Mouse-0.97-RAUGNC/blib/arch:/home/njh/.cpan/build/Mouse-0.97-RAUGNC/blib/lib:/home/njh/.cpan/build/Test-TCP-1.15-sQW4oq/blib/arch:/home/njh/.cpan/build/Test-TCP-1.15-sQW4oq/blib/lib:/home/njh/.cpan/build/Test-SharedFork-0.20-tS6kn3/blib/arch:/home/njh/.cpan/build/Test-SharedFork-0.20-tS6kn3/blib/lib:/home/njh/.cpan/build/Object-Event-1.23-jEVSCq/blib/arch:/home/njh/.cpan/build/Object-Event-1.23-jEVSCq/blib/lib:/home/njh/.cpan/build/Test-Base-0.60-pGOddP/blib/arch:/home/njh/.cpan/build/Test-Base-0.60-pGOddP/blib/lib:/home/njh/.cpan/build/Spiffy-0.30-8h_c_2/blib/arch:/home/njh/.cpan/build/Spiffy-0.30-8h_c_2/blib/lib:/home/njh/.cpan/build/Sys-Syscall-0.23-0WupLS/blib/arch:/home/njh/.cpan/build/Sys-Syscall-0.23-0WupLS/blib/lib:/home/njh/.cpan/build/Gearman-1.11-Fe_qGx/blib/arch:/home/njh/.cpan/build/Gearman-1.11-Fe_qGx/blib/lib:/home/njh/.cpan/build/UUID-Random-0.04-QWWeYl/blib/arch:/home/njh/.cpan/build/UUID-Random-0.04-QWWeYl/blib/lib
PERL5OPT =
PERL5_CPANPLUS_IS_RUNNING = 12917
PERL5_CPAN_IS_RUNNING = 12917
PERL5_MINISMOKEBOX = 0.54
PERL_EXTUTILS_AUTOINSTALL = --defaultdeps
PERL_MM_USE_DEFAULT = 1
SHELL = /bin/sh
Perl special variables (and OS-specific diagnostics, for MSWin32):
$^X = /home/njh/perl5/perlbrew/perls/perl-5.14.1/bin/perl
$UID/$EUID = 1000 / 1000
$GID = 1000 24 25 29 30 44 46 108 112 1000
$EGID = 1000 24 25 29 30 44 46 108 112 1000
Perl module toolchain versions installed:
Module Have
------------------- --------
CPAN 1.9800
CPAN::Meta 2.120921
Cwd 3.36
ExtUtils::CBuilder 0.280205
ExtUtils::Command 1.17
ExtUtils::Install 1.56
ExtUtils::MakeMaker 6.62
ExtUtils::Manifest 1.60
ExtUtils::ParseXS 3.15
File::Spec 3.33
JSON 2.53
JSON::PP 2.27200
Module::Build 0.40
Module::Signature 0.68
Parse::CPAN::Meta 1.4404
Test::Harness 3.23
Test::More 0.98
YAML 0.81
YAML::Syck 1.20
version 0.99
--
Summary of my perl5 (revision 5 version 14 subversion 1) configuration:
Platform:
osname=linux, osvers=3.1.0-1-amd64, archname=x86_64-linux
uname='linux gateway 3.1.0-1-amd64 #1 smp tue jan 10 05:01:58 utc 2012 x86_64 gnulinux '
config_args='-de -Dprefix=/home/njh/perl5/perlbrew/perls/perl-5.14.1 -D_FORTIFY_SOURCE=2 -Accflags=-O2'
hint=recommended, useposix=true, d_sigaction=define
useithreads=undef, usemultiplicity=undef
useperlio=define, d_sfio=undef, uselargefiles=define, usesocks=undef
use64bitint=define, use64bitall=define, uselongdouble=undef
usemymalloc=n, bincompat5005=undef
Compiler:
cc='cc', ccflags ='-O2 -fno-strict-aliasing -pipe -fstack-protector -I/usr/local/include -D_LARGEFILE_SOURCE -D_FILE_OFFSET_BITS=64',
optimize='-O2',
cppflags='-O2 -fno-strict-aliasing -pipe -fstack-protector -I/usr/local/include'
ccversion='', gccversion='4.6.2', gccosandvers=''
intsize=4, longsize=8, ptrsize=8, doublesize=8, byteorder=12345678
d_longlong=define, longlongsize=8, d_longdbl=define, longdblsize=16
ivtype='long', ivsize=8, nvtype='double', nvsize=8, Off_t='off_t', lseeksize=8
alignbytes=8, prototype=define
Linker and Libraries:
ld='cc', ldflags =' -fstack-protector -L/usr/local/lib'
libpth=/usr/local/lib /lib/x86_64-linux-gnu /lib/../lib /usr/lib/x86_64-linux-gnu /usr/lib/../lib /lib /usr/lib
libs=-lnsl -ldb -ldl -lm -lcrypt -lutil -lc
perllibs=-lnsl -ldl -lm -lcrypt -lutil -lc
libc=, so=so, useshrplib=false, libperl=libperl.a
gnulibc_version='2.13'
Dynamic Linking:
dlsrc=dl_dlopen.xs, dlext=so, d_dlsymun=undef, ccdlflags='-Wl,-E'
cccdlflags='-fPIC', lddlflags='-shared -O2 -L/usr/local/lib -fstack-protector'
Characteristics of this binary (from libperl):
Compile-time options: PERL_DONT_CREATE_GVSV PERL_MALLOC_WRAP
PERL_PRESERVE_IVUV USE_64_BIT_ALL USE_64_BIT_INT
USE_LARGE_FILES USE_PERLIO USE_PERL_ATOF
Built under linux
Compiled at Jan 16 2012 12:44:52
%ENV:
PERL5LIB="/home/njh/.cpan/build/Mouse-0.97-RAUGNC/blib/arch:/home/njh/.cpan/build/Mouse-0.97-RAUGNC/blib/lib:/home/njh/.cpan/build/Test-TCP-1.15-sQW4oq/blib/arch:/home/njh/.cpan/build/Test-TCP-1.15-sQW4oq/blib/lib:/home/njh/.cpan/build/Test-SharedFork-0.20-tS6kn3/blib/arch:/home/njh/.cpan/build/Test-SharedFork-0.20-tS6kn3/blib/lib:/home/njh/.cpan/build/Object-Event-1.23-jEVSCq/blib/arch:/home/njh/.cpan/build/Object-Event-1.23-jEVSCq/blib/lib:/home/njh/.cpan/build/Test-Base-0.60-pGOddP/blib/arch:/home/njh/.cpan/build/Test-Base-0.60-pGOddP/blib/lib:/home/njh/.cpan/build/Spiffy-0.30-8h_c_2/blib/arch:/home/njh/.cpan/build/Spiffy-0.30-8h_c_2/blib/lib:/home/njh/.cpan/build/Sys-Syscall-0.23-0WupLS/blib/arch:/home/njh/.cpan/build/Sys-Syscall-0.23-0WupLS/blib/lib:/home/njh/.cpan/build/Gearman-1.11-Fe_qGx/blib/arch:/home/njh/.cpan/build/Gearman-1.11-Fe_qGx/blib/lib:/home/njh/.cpan/build/UUID-Random-0.04-QWWeYl/blib/arch:/home/njh/.cpan/build/UUID-Random-0.04-QWWeYl/blib/lib"
PERL5OPT=""
PERL5_CPANPLUS_IS_RUNNING="12917"
PERL5_CPAN_IS_RUNNING="12917"
PERL5_MINISMOKEBOX="0.54"
PERL_EXTUTILS_AUTOINSTALL="--defaultdeps"
PERL_MM_USE_DEFAULT="1"
@INC:
/home/njh/.cpan/build/Mouse-0.97-RAUGNC/blib/arch
/home/njh/.cpan/build/Mouse-0.97-RAUGNC/blib/lib
/home/njh/.cpan/build/Test-TCP-1.15-sQW4oq/blib/arch
/home/njh/.cpan/build/Test-TCP-1.15-sQW4oq/blib/lib
/home/njh/.cpan/build/Test-SharedFork-0.20-tS6kn3/blib/arch
/home/njh/.cpan/build/Test-SharedFork-0.20-tS6kn3/blib/lib
/home/njh/.cpan/build/Object-Event-1.23-jEVSCq/blib/arch
/home/njh/.cpan/build/Object-Event-1.23-jEVSCq/blib/lib
/home/njh/.cpan/build/Test-Base-0.60-pGOddP/blib/arch
/home/njh/.cpan/build/Test-Base-0.60-pGOddP/blib/lib
/home/njh/.cpan/build/Spiffy-0.30-8h_c_2/blib/arch
/home/njh/.cpan/build/Spiffy-0.30-8h_c_2/blib/lib
/home/njh/.cpan/build/Sys-Syscall-0.23-0WupLS/blib/arch
/home/njh/.cpan/build/Sys-Syscall-0.23-0WupLS/blib/lib
/home/njh/.cpan/build/Gearman-1.11-Fe_qGx/blib/arch
/home/njh/.cpan/build/Gearman-1.11-Fe_qGx/blib/lib
/home/njh/.cpan/build/UUID-Random-0.04-QWWeYl/blib/arch
/home/njh/.cpan/build/UUID-Random-0.04-QWWeYl/blib/lib
/home/njh/perl5/perlbrew/perls/perl-5.14.1/lib/site_perl/5.14.1/x86_64-linux
/home/njh/perl5/perlbrew/perls/perl-5.14.1/lib/site_perl/5.14.1
/home/njh/perl5/perlbrew/perls/perl-5.14.1/lib/5.14.1/x86_64-linux
/home/njh/perl5/perlbrew/perls/perl-5.14.1/lib/5.14.1
.