Chess-Plisco v0.3 Perl 5 v5.18.3 darwin-2level

Status
Pass
From
Neil Bowers
Dist
Chess-Plisco v0.3
Platform
Perl 5 v5.18.3 darwin-2level
Date
2021-09-30 23:02:40
ID
830c2a08-2242-11ec-957c-1cc267d485e7
This distribution has been tested as part of the CPAN Testers
project, supporting the Perl programming language.  See
http://wiki.cpantesters.org/ for more information or email
questions to cpan-testers-discuss@perl.org


--
Dear Guido Flohr,

This is a computer-generated report for Chess-Plisco-0.3
on perl 5.18.3, created by CPAN-Reporter-1.2018.

Thank you for uploading your work to CPAN.  Congratulations!
All tests were successful.

Sections of this report:

    * Tester comments
    * Program output
    * Prerequisites
    * Environment and other context

------------------------------
TESTER COMMENTS
------------------------------

Additional comments from tester:

none provided

------------------------------
PROGRAM OUTPUT
------------------------------

Output from '/usr/bin/make test':

PERL_DL_NONLAZY=1 "/usr/local/perl/5183/bin/perl" "-MExtUtils::Command::MM" "-MTest::Harness" "-e" "undef *Test::Harness::Switches; test_harness(0, 'blib/lib', 'blib/arch')" t/*.t
t/00base.t ................... ok
t/01expand-placeholders.t .... ok
t/01pre-process.t ............ ok
t/02bit-twiddling.t .......... ok
t/02piece-at.t ............... ok
t/02square-conversion.t ...... ok
t/03attacked.t ............... ok
t/03epd.t .................... ok
t/03fen.t .................... ok
t/03move-attacked.t .......... ok
t/03move-pinned.t ............ ok
t/03move.t ................... ok
t/03parse-san.t .............. ok
t/03san.t .................... ok
t/04check-check.t ............ ok
t/04do-move.t ................ ok
t/04insufficient-material.t .. ok
t/04king-shift.t ............. ok
t/04legal-moves.t ............ ok
Ambiguous use of -CP_KNIGHT_VALUE resolved as -&CP_KNIGHT_VALUE() at t/04material.t line 46.
Ambiguous use of -CP_BISHOP_VALUE resolved as -&CP_BISHOP_VALUE() at t/04material.t line 64.
Ambiguous use of -CP_ROOK_VALUE resolved as -&CP_ROOK_VALUE() at t/04material.t line 70.
t/04material.t ............... ok
t/04move-generator.t ......... ok
t/04move-legal.t ............. ok
Ambiguous use of -CP_ROOK_VALUE resolved as -&CP_ROOK_VALUE() at t/04see.t line 56.
Ambiguous use of -CP_ROOK_VALUE resolved as -&CP_ROOK_VALUE() at t/04see.t line 62.
Ambiguous use of -CP_PAWN_VALUE resolved as -&CP_PAWN_VALUE() at t/04see.t line 94.
t/04see.t .................... ok
t/04zobrist-keys.t ........... ok
t/05bugs.t ................... ok
t/05move-making-pgn.t ........ ok
t/05perft-by-copy.t .......... ok
t/05perft-by-undo.t .......... ok
t/11evaluate-compare.t ....... ok
t/11evaluate-move.t .......... ok
t/20transposition-table.t .... ok
Ambiguous use of -CP_PAWN_VALUE resolved as -&CP_PAWN_VALUE() at /private/var/root/.cpan/build/Chess-Plisco-0.3-0/blib/lib/Chess/Plisco/Engine/Tree.pm line 349.
Ambiguous use of -INF resolved as -&INF() at /private/var/root/.cpan/build/Chess-Plisco-0.3-0/blib/lib/Chess/Plisco/Engine/Tree.pm line 404.
t/30dm1-epd.t ................ ok
Ambiguous use of -CP_PAWN_VALUE resolved as -&CP_PAWN_VALUE() at /private/var/root/.cpan/build/Chess-Plisco-0.3-0/blib/lib/Chess/Plisco/Engine/Tree.pm line 349.
Ambiguous use of -INF resolved as -&INF() at /private/var/root/.cpan/build/Chess-Plisco-0.3-0/blib/lib/Chess/Plisco/Engine/Tree.pm line 404.
t/30dm2-epd.t ................ ok
Ambiguous use of -CP_PAWN_VALUE resolved as -&CP_PAWN_VALUE() at /private/var/root/.cpan/build/Chess-Plisco-0.3-0/blib/lib/Chess/Plisco/Engine/Tree.pm line 349.
Ambiguous use of -INF resolved as -&INF() at /private/var/root/.cpan/build/Chess-Plisco-0.3-0/blib/lib/Chess/Plisco/Engine/Tree.pm line 404.
t/30dm3-epd.t ................ ok
Ambiguous use of -CP_PAWN_VALUE resolved as -&CP_PAWN_VALUE() at /private/var/root/.cpan/build/Chess-Plisco-0.3-0/blib/lib/Chess/Plisco/Engine/Tree.pm line 349.
Ambiguous use of -INF resolved as -&INF() at /private/var/root/.cpan/build/Chess-Plisco-0.3-0/blib/lib/Chess/Plisco/Engine/Tree.pm line 404.
t/30draw.t ................... ok
t/author-critic.t ............ skipped: these tests are for testing by the author
t/author-pod-syntax.t ........ skipped: these tests are for testing by the author
t/release-cpan-changes.t ..... skipped: these tests are for release candidate testing
All tests successful.
Files=38, Tests=36443, 14749 wallclock secs ( 2.34 usr  0.33 sys + 237.44 cusr  3.65 csys = 243.76 CPU)
Result: PASS

------------------------------
PREREQUISITES
------------------------------

Prerequisite modules loaded:

requires:

    Module              Need Have    
    ------------------- ---- --------
    base                0    2.18    
    Carp                0    1.38    
    constant            0    1.33    
    Exporter            0    5.74    
    Filter::Util::Call  0    1.60    
    integer             0    1.00    
    IO::Select          0    1.48    
    Locale::TextDomain  0    1.26    
    overload            0    1.22    
    PPI::Document       0    1.270   
    Scalar::Util        0    1.56    
    strict              0    1.07    
    Time::HiRes         0    1.9725  
    warnings            0    1.18    

build_requires:

    Module              Need Have    
    ------------------- ---- --------
    Chess::PGN::Parse   0    0.20    
    Cwd                 0    3.75    
    Data::Dumper        0    2.182_50
    ExtUtils::MakeMaker 0    7.62    
    File::Basename      0    2.84    
    File::Spec          0    3.75    
    lib                 0    0.63    
    Test::More          0    1.302188

configure_requires:

    Module              Need Have    
    ------------------- ---- --------
    ExtUtils::MakeMaker 0    7.62    


------------------------------
ENVIRONMENT AND OTHER CONTEXT
------------------------------

Environment variables:

    NONINTERACTIVE_TESTING = 1
    PATH = /usr/local/apache/bin:/usr/local/bin:/opt/local/bin:/usr/local/bin:/usr/bin:/bin:/usr/sbin:/sbin:/Applications/VMware Fusion.app/Contents/Public:/usr/local/go/bin:/opt/X11/bin:/usr/local/git/bin
    PERL5LIB = 
    PERL5OPT = 
    PERL5_CPANPLUS_IS_RUNNING = 18770
    PERL5_CPAN_IS_RUNNING = 18770
    PERL_MM_USE_DEFAULT = 1
    SHELL = /bin/sh
    TERM = xterm

Perl special variables (and OS-specific diagnostics, for MSWin32):

    $^X = /usr/local/perl/5183/bin/perl
    $UID/$EUID = 0 / 0
    $GID = 0 0 1 2 3 4 5 8 9 12 20 29 61 80 701 702 33
    $EGID = 0 0 1 2 3 4 5 8 9 12 20 29 61 80 701 702 33

Perl module toolchain versions installed:

    Module              Have    
    ------------------- --------
    CPAN                2.14    
    CPAN::Meta          2.150010
    Cwd                 3.75    
    ExtUtils::CBuilder  0.280236
    ExtUtils::Command   7.62    
    ExtUtils::Install   2.06    
    ExtUtils::MakeMaker 7.62    
    ExtUtils::Manifest  1.70    
    ExtUtils::ParseXS   3.35    
    File::Spec          3.75    
    JSON                4.03    
    JSON::PP            4.06    
    Module::Build       0.4231  
    Module::Signature   n/a     
    Parse::CPAN::Meta   2.150010
    Test::Harness       3.36    
    Test::More          1.302188
    YAML                1.18    
    YAML::Syck          n/a     
    version             0.9929  


--

Summary of my perl5 (revision 5 version 18 subversion 3) configuration:
   
  Platform:
    osname=darwin, osvers=15.6.0, archname=darwin-2level
    uname='darwin tucumcari.local 15.6.0 darwin kernel version 15.6.0: thu jun 23 18:25:34 pdt 2016; root:xnu-3248.60.10~1release_x86_64 x86_64 '
    config_args=''
    hint=recommended, useposix=true, d_sigaction=define
    useithreads=undef, usemultiplicity=undef
    useperlio=define, d_sfio=undef, uselargefiles=define, usesocks=undef
    use64bitint=define, use64bitall=define, uselongdouble=undef
    usemymalloc=n, bincompat5005=undef
  Compiler:
    cc='gcc', ccflags ='-fno-common -DPERL_DARWIN -fno-strict-aliasing -pipe -fstack-protector -I/usr/local/include -I/opt/local/include',
    optimize='-O3',
    cppflags='-fno-common -DPERL_DARWIN -fno-strict-aliasing -pipe -fstack-protector -I/usr/local/include -I/opt/local/include'
    ccversion='', gccversion='4.2.1 Compatible Apple LLVM 7.0.2 (clang-700.1.81)', gccosandvers=''
    intsize=4, longsize=8, ptrsize=8, doublesize=8, byteorder=12345678
    d_longlong=define, longlongsize=8, d_longdbl=define, longdblsize=16
    ivtype='long', ivsize=8, nvtype='double', nvsize=8, Off_t='off_t', lseeksize=8
    alignbytes=8, prototype=define
  Linker and Libraries:
    ld='env MACOSX_DEPLOYMENT_TARGET=10.3 gcc', ldflags =' -fstack-protector -L/usr/local/lib -L/opt/local/lib'
    libpth=/usr/local/lib /opt/local/lib /usr/lib
    libs=-lgdbm -ldbm -ldl -lm -lutil -lc
    perllibs=-ldl -lm -lutil -lc
    libc=, so=dylib, useshrplib=false, libperl=libperl.a
    gnulibc_version=''
  Dynamic Linking:
    dlsrc=dl_dlopen.xs, dlext=bundle, d_dlsymun=undef, ccdlflags=' '
    cccdlflags=' ', lddlflags=' -bundle -undefined dynamic_lookup -L/usr/local/lib -L/opt/local/lib -fstack-protector'


Characteristics of this binary (from libperl): 
  Compile-time options: HAS_TIMES PERLIO_LAYERS PERL_DONT_CREATE_GVSV
                        PERL_HASH_FUNC_ONE_AT_A_TIME_HARD PERL_MALLOC_WRAP
                        PERL_PRESERVE_IVUV PERL_SAWAMPERSAND USE_64_BIT_ALL
                        USE_64_BIT_INT USE_LARGE_FILES USE_LOCALE
                        USE_LOCALE_COLLATE USE_LOCALE_CTYPE
                        USE_LOCALE_NUMERIC USE_PERLIO USE_PERL_ATOF
  Built under darwin
  Compiled at Jul 22 2016 11:27:22
  %ENV:
    PERL5LIB=""
    PERL5OPT=""
    PERL5_CPANPLUS_IS_RUNNING="18770"
    PERL5_CPAN_IS_RUNNING="18770"
    PERL_MM_USE_DEFAULT="1"
  @INC:
    /usr/local/perl/5183/lib/site_perl/5.18.3/darwin-2level
    /usr/local/perl/5183/lib/site_perl/5.18.3
    /usr/local/perl/5183/lib/5.18.3/darwin-2level
    /usr/local/perl/5183/lib/5.18.3
    .